Workbook

Sheet 記入要領
A1: 申 込 書 の 記 入 要 領
A10: １ | E10: 選考案内をよく読んでから記入してください。
A13: ２ | E13: 虚偽の記載をすると採用される資格を失うことがあります。
A16: ３ | E16: ※印欄を除いて、申込書のすべての欄に記入してください。手書きで記入する場合は、
E19: 黒インク又はボールペンを用いてかい書で、数字は算用数字で記入してください。
A22: ４ | E22: 写真を貼ってない場合又は選考写真として適当でない場合は、選考の対象にできません。
A25: ５ | E25: 年齢は、申込日現在で記入してください。
A28: ６ | E28: 現住所欄には、同居人の場合は同居先をはっきり記入してください。
A31: ７ | E31: 学歴及び職歴は、給与算定の基礎になる場合がありますので、詳細に記入してください。
A34: ８ | E34: 会場準備の都合上、受験に際し、配慮を要する場合（車椅子を使用されている方など）は、
E37: その旨を申込書下部（氏名（自筆）の横）にご記入ください。

Sheet 選考申込書
A1: 令和８年度 | AM1: 選考区分：職種 | BE1: ※受付番号
AM3: 保育士（産前産後休暇・育児休業代替）
A4: 相模原市職員採用選考申込書
A7: （記入要領をよく読んで記入してください。）
A9: フリガナ | I9: （姓） | AA9: （名） | AS9: 性別 | AX9: 男性・女性 | BE9: （写真貼り付け欄） ・申込日前３か月以内に 撮影したもの ・上半身・脱帽・正面向き ・縦４cm・横３cm程度
A11: 氏 名
A14: 生年月日 | I14: 昭和・平成 | T14: 年 | Y14: 月 | AD14: 日 | AF14: （ | AK14: 歳） | AN14: 申込日現在の年齢をご記入ください。
A17: 現 住 所 | I17: 〒 | S17: 自宅℡: | AK17: 携帯℡:
I20: （都道府県・市区町村） | AD20: （町名等・番地）
I22: （建物等（方書））
A24: 緊急連絡先 (上記以外) | I24: 名称 | AJ24: TEL：
A27: E-mail
A29: 学 歴 | D29: 学 校 名 | AA29: 学部・学科名 | AP29: 在 学 期 間 | BE29: 卒業の区分
D31: (最終) | AR31: S･H･R | AX31: 年 | BC31: 月 | BE31: 卒業・卒見込み・中退
AP33: ～ | AR33: S･H･R | AX33: 年 | BC33: 月
D35: (その前) | AR35: S･H･R | AX35: 年 | BC35: 月 | BE35: 卒業・卒見込み・中退
AP37: ～ | AR37: S･H･R | AX37: 年 | BC37: 月
D39: (その前) | AR39: S･H･R | AX39: 年 | BC39: 月 | BE39: 卒業・卒見込み・中退
AP41: ～ | AR41: S･H･R | AX41: 年 | BC41: 月
D43: (その前) | AR43: S･H･R | AX43: 年 | BC43: 月 | BE43: 卒業・卒見込み・中退
AP45: ～ | AR45: S･H･R | AX45: 年 | BC45: 月
A47: 職 歴 | D47: 勤務先（部課名まで） | AA47: 職 務 内 容 | AP47: 在 職 期 間 | BE47: 就労の形態
D49: (最終) | AR49: S･H･R | AX49: 年 | BC49: 月 | BE49: 正規・その他( | BR49: )
AP51: ～ | AR51: S･H･R | AX51: 年 | BC51: 月
D53: (その前) | AR53: S･H･R | AX53: 年 | BC53: 月 | BE53: 正規・その他( | BR53: )
AP55: ～ | AR55: S･H･R | AX55: 年 | BC55: 月
D57: (その前) | AR57: S･H･R | AX57: 年 | BC57: 月 | BE57: 正規・その他( | BR57: )
AP59: ～ | AR59: S･H･R | AX59: 年 | BC59: 月
D61: (その前) | AR61: S･H･R | AX61: 年 | BC61: 月 | BE61: 正規・その他( | BR61: )
AP63: ～ | AR63: S･H･R | AX63: 年 | BC63: 月
D65: (その前) | AR65: S･H･R | AX65: 年 | BC65: 月 | BE65: 正規・その他( | BR65: )
AP67: ～ | AR67: S･H･R | AX67: 年 | BC67: 月
A69: 資格・免許 | D69: 種 類 | AA69: 取得年月日 | AW69: 趣味・特技等
AA71: S･H･R | AH71: 年 | AM71: 月 | AR71: 日取得
AA74: S･H･R | AH74: 年 | AM74: 月 | AR74: 日取得
AA77: S･H･R | AH77: 年 | AM77: 月 | AR77: 日取得
AA80: S･H･R | AH80: 年 | AM80: 月 | AR80: 日取得
A83: 自己PR | D83: テーマ①：志望動機 | AK83: テーマ②：保育を行う上で大切にしていること
A100: 私は、当該選考案内に記載されている内容を全て了承のうえ、相模原市職員採用選考を受けたいので申し込みます。
A102: また、私は当該選考案内に掲げてある資格をすべて満たしており、この申込書の記載事項は事実と相違ありません。
F105: 令和 | N105: 年 | S105: 月 | X105: 日
Z107: 氏 名

Sheet 転記用シート
Y1: 中学卒業 | AC1: 高校卒業 | AG1: 大学卒業 | AH1: 大学卒業見込み | AK1: 大学院卒業 | AL1: 大学院卒業見込み | AM1: 短期大学卒業 | AN1: 短期大学卒業見込み | AO1: 専門学校卒業 | AP1: 専門学校卒業見込み
B2: 受験番号 | C2: 応募試験区分 | D2: 姓 | E2: 名 | F2: セイ | G2: メイ | H2: 性別【任意】 | I2: 生年月日 | J2: 郵便番号 | K2: 都道府県 | L2: 市区町村 | M2: 町名等・番地 | N2: 建物等（方書） | O2: 電話種別1 | P2: 電話番号1 | Q2: 電話種別2 | R2: 電話番号2 | S2: メールアドレス | T2: 卒業区分（最終学歴） | U2: 在学期間（最終学歴） | V2: 学校名（最終学歴） | W2: 学部（最終学歴） | X2: 学科（最終学歴） | Y2: 卒業区分（中学） | Z2: 在学期間（中学） | AA2: 学校名（中学） | AB2: 学部学科名（中学） | AC2: 卒業区分（高校） | AD2: 在学期間（高校） | AE2: 学校名（高校） | AF2: 学部学科名（高校） | AG2: 卒業区分（大学） | AH2: 在学期間（大学） | AI2: 学校名（大学） | AJ2: 学部学科名（大学） | AK2: 卒業区分（大学院） | AL2: 在学期間（大学院） | AM2: 学校名（大学院） | AN2: 学部学科名（大学院） | AO2: 在職期間月01 | AP2: 勤務先01 | AQ2: 雇用形態01 | AR2: 部署・役職名：職歴01 | AS2: 具体的な職務01 | AT2: 在職期間月02 | AU2: 勤務先02 | AV2: 雇用形態02 | AW2: 部署・役職名：職歴02 | AX2: 具体的な職務02 | AY2: 在職期間月03 | AZ2: 勤務先03 | BA2: 雇用形態03 | BB2: 部署・役職名：職歴03 | BC2: 具体的な職務03 | BD2: 取得（見込）年月日01 | BE2: 免許・資格の名称01 | BF2: 取得（見込）年月日02 | BG2: 免許・資格の名称02 | BH2: 取得（見込）年月日03 | BI2: 免許・資格の名称03 | BJ2: 取得（見込）年月日04 | BK2: 免許・資格の名称04 | BL2: 言語・語学レベル | BM2: 取得（見込）年月日（語学） | BN2: 免許・資格の名称（語学） | BO2: 配慮事項
B3: =IF(ISBLANK(選考申込書!BE3),"",選考申込書!BE3) | C3: =IF(ISBLANK(選考申込書!AM3&選考申込書!AU3),"",選考申込書!AM3&選考申込書!AU3) -> 保育士（産前産後休暇・育児休業代替） | D3: =IF(ISBLANK(選考申込書!M11),"",選考申込書!M11) | E3: =IF(ISBLANK(選考申込書!AE11),"",選考申込書!AE11) | F3: =IF(ISBLANK(選考申込書!M9),"",選考申込書!M9) | G3: =IF(ISBLANK(選考申込書!AE9),"",選考申込書!AE9) | H3: =IF(ISBLANK(選考申込書!AX9),"",選考申込書!AX9) -> 男性・女性 | I3: =IF(選考申込書!I14="昭和",DATE(1925+選考申込書!Q14,選考申込書!V14,選考申込書!AA14),IF(選考申込書!I14="平成",DATE(1988+選考申込書!Q14,選考申込書!V14,選考申込書!AA14),"")) | J3: =IF(ISBLANK(選考申込書!K17),"",選考申込書!K17) | K3: {=LEFT(選考申込書!Q20,IFERROR(SMALL(IF(ISNUMBER(FIND({"県","都","道","府"},選考申込書!Q20)),FIND({"県","都","道","府"},選考申込書!Q20)),1),LEN(選考申込書!Q20)))} | L3: =MID(選考申込書!Q20,LEN(K3)+1,LEN(選考申込書!Q20)) | M3: =IF(ISBLANK(選考申込書!AJ20),"",選考申込書!AJ20) | N3: =IF(ISBLANK(選考申込書!Q22),"",選考申込書!Q22) | O3: 携帯 | P3: =IF(ISBLANK(選考申込書!AP17),"",選考申込書!AP17) | Q3: 自宅 | R3: =IF(ISBLANK(選考申込書!X17),"",選考申込書!X17) | S3: =IF(ISBLANK(選考申込書!I27),"",選考申込書!I27) | T3: =IF(ISBLANK(選考申込書!BE31),"",選考申込書!BE31) -> 卒業・卒見込み・中退 | U3: =IF(AND(選考申込書!AU31<>"", 選考申込書!AZ31<>"", 選考申込書!AU33<>"", 選考申込書!AZ33<>""),TEXT(DATE(IF(選考申込書!AR31="S",1925+選考申込書!AU31,IF(選考申込書!AR31="H",1988+選考申込書!AU31,IF(選考申込書!AR31="R",2018+選考申込書!AU31,0))),選考申込書!AZ31,1),"yyyy年mm月")&"~"&TEXT(DATE(IF(選考申込書!AR33="S",1925+選考申込書!AU33,IF(選考申込書!AR33="H",1988+選考申込書!AU33,IF(選考申込書!AR33="R",2018+選考申込書!AU33,0))),選考申込書!AZ33,1),"yyyy年mm月"),"") | V3: =IF(ISBLANK(選考申込書!H31),"",選考申込書!H31) | W3: =IF(OR(選考申込書!BE31=$AK$1,選考申込書!BE31=$AL$1),_xlfn.TEXTBEFORE(選考申込書!AA31,"研究科")&"研究科",IF(OR(選考申込書!BE31=$AG$1,選考申込書!BE31=$AH$1),_xlfn.TEXTBEFORE(選考申込書!AA31,"学部")&"学部",IF(OR(選考申込書!BE31=$AM$1,選考申込書!BE31=$AN$1),_xlfn.TEXTBEFORE(選考申込書!AA31,"学部")&"学部",IF(OR(選考申込書!BE31=$AO$1,選考申込書!BE31=$AP$1),選考申込書!AA31,IF(選考申込書!BE31=$AC$1,選考申込書!AA31,IF(選考申込書!BE31=$Y$1,"","")))))) | X3: =SUBSTITUTE(SUBSTITUTE(IF(OR(選考申込書!BE31=$AK$1,選考申込書!BE31=$AL$1),_xlfn.TEXTAFTER(選考申込書!AA31,"研究科"),IF(OR(選考申込書!BE31=$AG$1,選考申込書!BE31=$AH$1),_xlfn.TEXTAFTER(選考申込書!AA31,"学部"),"")),"","")," ","") | AO3: =IF(AND(選考申込書!AU49<>"", 選考申込書!AZ49<>"", 選考申込書!AU51<>"", 選考申込書!AZ51<>""),TEXT(DATE(IF(選考申込書!AR49="S",1925+選考申込書!AU49,IF(選考申込書!AR49="H",1988+選考申込書!AU49,IF(選考申込書!AR49="R",2018+選考申込書!AU49,0))),選考申込書!AZ49,1),"yyyy年mm月")&"~"&TEXT(DATE(IF(選考申込書!AR51="S",1925+選考申込書!AU51,IF(選考申込書!AR51="H",1988+選考申込書!AU51,IF(選考申込書!AR51="R",2018+選考申込書!AU51,0))),選考申込書!AZ51,1),"yyyy年mm月"),"") | AP3: =IF(ISBLANK(選考申込書!H49),"",選考申込書!H49) | AQ3: =IF(選考申込書!BE49="その他(",選考申込書!BL49,選考申込書!BE49) -> 正規・その他( | AS3: =IF(ISBLANK(選考申込書!AA49),"",選考申込書!AA49) | AT3: =IF(AND(選考申込書!AU53<>"", 選考申込書!AZ53<>"", 選考申込書!AU55<>"", 選考申込書!AZ55<>""),TEXT(DATE(IF(選考申込書!AR53="S",1925+選考申込書!AU53,IF(選考申込書!AR53="H",1988+選考申込書!AU53,IF(選考申込書!AR53="R",2018+選考申込書!AU53,0))),選考申込書!AZ53,1),"yyyy年mm月")&"~"&TEXT(DATE(IF(選考申込書!AR55="S",1925+選考申込書!AU55,IF(選考申込書!AR55="H",1988+選考申込書!AU55,IF(選考申込書!AR55="R",2018+選考申込書!AU55,0))),選考申込書!AZ55,1),"yyyy年mm月"),"") | AU3: =IF(ISBLANK(選考申込書!H53),"",選考申込書!H53) | AV3: =IF(選考申込書!BE53="その他(",選考申込書!BL53,選考申込書!BE53) -> 正規・その他( | AX3: =IF(ISBLANK(選考申込書!AA53),"",選考申込書!AA53) | AY3: =IF(AND(選考申込書!AU57<>"", 選考申込書!AZ57<>"", 選考申込書!AU59<>"", 選考申込書!AZ59<>""),TEXT(DATE(IF(選考申込書!AR57="S",1925+選考申込書!AU57,IF(選考申込書!AR57="H",1988+選考申込書!AU57,IF(選考申込書!AR57="R",2018+選考申込書!AU57,0))),選考申込書!AZ57,1),"yyyy年mm月")&"~"&TEXT(DATE(IF(選考申込書!AR59="S",1925+選考申込書!AU59,IF(選考申込書!AR59="H",1988+選考申込書!AU59,IF(選考申込書!AR59="R",2018+選考申込書!AU59,0))),選考申込書!AZ59,1),"yyyy年mm月"),"") | AZ3: =IF(ISBLANK(選考申込書!H57),"",選考申込書!H57) | BA3: =IF(選考申込書!BE57="その他(",選考申込書!BL57,選考申込書!BE57) -> 正規・その他( | BC3: =IF(ISBLANK(選考申込書!AA57),"",選考申込書!AA57) | BD3: =IFERROR(DATE(IF(選考申込書!AA71="S",1926+選考申込書!AE71-1,IF(選考申込書!AA71="H",1989+選考申込書!AE71-1,IF(選考申込書!AA71="R",2019+選考申込書!AE71-1,選考申込書!AE71))),選考申込書!AJ71,選考申込書!AO71),"") | BE3: =IF(ISBLANK(選考申込書!D71),"",選考申込書!D71) | BF3: =IFERROR(DATE(IF(選考申込書!AA74="S",1926+選考申込書!AE74-1,IF(選考申込書!AA74="H",1989+選考申込書!AE74-1,IF(選考申込書!AA74="R",2019+選考申込書!AE74-1,選考申込書!AE74))),選考申込書!AJ74,選考申込書!AO74),"") | BG3: =IF(ISBLANK(選考申込書!D74),"",選考申込書!D74) | BH3: =IFERROR(DATE(IF(選考申込書!AA77="S",1926+選考申込書!AE77-1,IF(選考申込書!AA77="H",1989+選考申込書!AE77-1,IF(選考申込書!AA77="R",2019+選考申込書!AE77-1,選考申込書!AE77))),選考申込書!AJ77,選考申込書!AO77),"") | BI3: =IF(ISBLANK(選考申込書!D77),"",選考申込書!D77) | BJ3: =IFERROR(DATE(IF(選考申込書!AA80="S",1926+選考申込書!AE80-1,IF(選考申込書!AA80="H",1989+選考申込書!AE80-1,IF(選考申込書!AA80="R",2019+選考申込書!AE80-1,選考申込書!AE80))),選考申込書!AJ80,選考申込書!AO80),"") | BK3: =IF(ISBLANK(選考申込書!D80),"",選考申込書!D80)
