Workbook
Name shisetu: '1氏名'!#REF!
Name 施設・食費: '1氏名'!#REF!
Name 従来型・施設: '1氏名'!$AD$4:$AD$5
Name 従来型・施設２: '1氏名'!$AF$4:$AF$5
Name 従来型・施設３: '1氏名'!$AF$4:$AF$6
Name 従来型・短期: '1氏名'!#REF!
Name 従来型・老短: '1氏名'!$AE$4:$AE$6
Name 従来型・老短２: '1氏名'!$AG$4:$AG$6
Name 従来型・老短３: '1氏名'!$AG$4:$AG$7
Name 食費・施設: '1氏名'!$AB$4:$AB$7
Name 食費・短期: '1氏名'!$AC$4:$AC$7
Name 短期・食費: '1氏名'!#REF!
Name 短期入所生活介護１: '2氏名'!$AB$4:$AB$7

Sheet 利用者負担総額等明細
A1: 利用者負担総額等明細
J2: ※複数のサービスで軽減対象者がいる場合は、サービスごとに別ファイルを作成 してください。
B3: ◆相模原市外の軽減対象者の有無 | H3: 事業所番号： | I3: ='1氏名'!I4:K4 -> 0
C4: =IF(OR(B4="有",B4="無"),"","←入力が必要です") -> ←入力が必要です | H4: 事業所名： | I4: ='1氏名'!I5:M5 -> 0
H5: 軽減サービス名： | I5: =IF('1氏名'!Q4="","",'1氏名'!Q4)
B7: 提供年月 | C7: 事業所状況欄
C8: ①本来受領すべき利用者負担総額 （全利用者の１割～３割負担部分と食費・居住費の合計） | G8: ②軽減総額
C9: 件数 | D9: 合計金額 | G9: 件数 | H9: 合計金額 | K9: ③うち 相模原市被保険者分 軽減総額
E10: サービス費 | F10: 食費・居住費 | I10: サービス費 | J10: 食費・居住費 | K10: 件数 | L10: 合計
B11: 令和８年４月 | D11: =SUM(E11:F11) -> 0 | G11: =IF(L3=O7,COUNTIF('1氏名'!W10:W11,">=1")+COUNTIF('2氏名'!W10:W11,">=1")+COUNTIF('3氏名'!W10:W11,">=1")+COUNTIF('4氏名'!W10:W11,">=1")+COUNTIF('5氏名'!W10:W11,">=1")+COUNTIF('6氏名'!W10:W11,">=1")+COUNTIF('7氏名'!W10:W11,">=1")+COUNTIF('8氏名'!W10:W11,">=1")+COUNTIF('9氏名'!W10:W11,">=1")+COUNTIF('10氏名'!W10:W11,">=1")+COUNTIF('11氏名'!W10:W11,">=1")+COUNTIF('12氏名'!W10:W11,">=1")+COUNTIF('13氏名'!W10:W11,">=1")+COUNTIF('14氏名'!W10:W11,">=1")+COUNTIF('15氏名'!W10:W11,">=1"),IF(L3=O6,COUNTIF('1氏名'!W10:W11,">=1")+COUNTIF('2氏名'!W10:W11,">=1")+COUNTIF('3氏名'!W10:W11,">=1")+COUNTIF('4氏名'!W10:W11,">=1")+COUNTIF('5氏名'!W10:W11,">=1")+COUNTIF('6氏名'!W10:W11,">=1")+COUNTIF('7氏名'!W10:W11,">=1")+COUNTIF('8氏名'!W10:W11,">=1")+COUNTIF('9氏名'!W10:W11,">=1")+COUNTIF('10氏名'!W10:W11,">=1")+COUNTIF('11氏名'!W10:W11,">=1")+COUNTIF('12氏名'!W10:W11,">=1")+COUNTIF('13氏名'!W10:W11,">=1")+COUNTIF('14氏名'!W10:W11,">=1")+COUNTIF('15氏名'!W10:W11,">=1")+COUNTIF(他市1!W10:W11,">=1")+COUNTIF(他市2!W10:W11,">=1")+COUNTIF(他市3!W10:W11,">=1")+COUNTIF(他市4!W10:W11,">=1")+COUNTIF(他市5!W10:W11,">=1")+COUNTIF(他市6!W10:W11,">=1")+COUNTIF(他市7!W10:W11,">=1")+COUNTIF(他市8!W10:W11,">=1")+COUNTIF(他市9!W10:W11,">=1")+COUNTIF(他市10!W10:W11,">=1")+COUNTIF(他市11!W10:W11,">=1")+COUNTIF(他市12!W10:W11,">=1")+COUNTIF(他市13!W10:W11,">=1")+COUNTIF(他市14!W10:W11,">=1")+COUNTIF(他市15!W10:W11,">=1"),"")) -> 0 | H11: =SUM(I11:J11) -> 0 | I11: =IF(L3=O6,SUM('1氏名:他市15'!D9:D10),IF(L3=O7,SUM('1氏名:15氏名'!D9:D10),"")) -> 0 | J11: =IF(L3=O6,SUM('1氏名:他市15'!V9:V10),IF(L3=O7,SUM('1氏名:15氏名'!V9:V10),"")) -> 0 | K11: =IF(L3=O6,COUNTIF('1氏名'!W10:W11,">=1")+COUNTIF('2氏名'!W10:W11,">=1")+COUNTIF('3氏名'!W10:W11,">=1")+COUNTIF('4氏名'!W10:W11,">=1")+COUNTIF('5氏名'!W10:W11,">=1")+COUNTIF('6氏名'!W10:W11,">=1")+COUNTIF('7氏名'!W10:W11,">=1")+COUNTIF('8氏名'!W10:W11,">=1")+COUNTIF('9氏名'!W10:W11,">=1")+COUNTIF('10氏名'!W10:W11,">=1")+COUNTIF('11氏名'!W10:W11,">=1")+COUNTIF('12氏名'!W10:W11,">=1")+COUNTIF('13氏名'!W10:W11,">=1")+COUNTIF('14氏名'!W10:W11,">=1")+COUNTIF('15氏名'!W10:W11,">=1"),"－") -> 0 | L11: =IF(L3=O6,SUM('1氏名:15氏名'!W9:W10),"－") -> 0
B12: 令和８年５月 | D12: =SUM(E12:F12) -> 0 | G12: =IF(L3=O7,COUNTIF('1氏名'!W12:W13,">=1")+COUNTIF('2氏名'!W12:W13,">=1")+COUNTIF('3氏名'!W12:W13,">=1")+COUNTIF('4氏名'!W12:W13,">=1")+COUNTIF('5氏名'!W12:W13,">=1")+COUNTIF('6氏名'!W12:W13,">=1")+COUNTIF('7氏名'!W12:W13,">=1")+COUNTIF('8氏名'!W12:W13,">=1")+COUNTIF('9氏名'!W12:W13,">=1")+COUNTIF('10氏名'!W12:W13,">=1")+COUNTIF('11氏名'!W12:W13,">=1")+COUNTIF('12氏名'!W12:W13,">=1")+COUNTIF('13氏名'!W12:W13,">=1")+COUNTIF('14氏名'!W12:W13,">=1")+COUNTIF('15氏名'!W12:W13,">=1"),IF(L3=O6,COUNTIF('1氏名'!W12:W13,">=1")+COUNTIF('2氏名'!W12:W13,">=1")+COUNTIF('3氏名'!W12:W13,">=1")+COUNTIF('4氏名'!W12:W13,">=1")+COUNTIF('5氏名'!W12:W13,">=1")+COUNTIF('6氏名'!W12:W13,">=1")+COUNTIF('7氏名'!W12:W13,">=1")+COUNTIF('8氏名'!W12:W13,">=1")+COUNTIF('9氏名'!W12:W13,">=1")+COUNTIF('10氏名'!W12:W13,">=1")+COUNTIF('11氏名'!W12:W13,">=1")+COUNTIF('12氏名'!W12:W13,">=1")+COUNTIF('13氏名'!W12:W13,">=1")+COUNTIF('14氏名'!W12:W13,">=1")+COUNTIF('15氏名'!W12:W13,">=1")+COUNTIF(他市1!W12:W13,">=1")+COUNTIF(他市2!W12:W13,">=1")+COUNTIF(他市3!W12:W13,">=1")+COUNTIF(他市4!W12:W13,">=1")+COUNTIF(他市5!W12:W13,">=1")+COUNTIF(他市6!W12:W13,">=1")+COUNTIF(他市7!W12:W13,">=1")+COUNTIF(他市8!W12:W13,">=1")+COUNTIF(他市9!W12:W13,">=1")+COUNTIF(他市10!W12:W13,">=1")+COUNTIF(他市11!W12:W13,">=1")+COUNTIF(他市12!W12:W13,">=1")+COUNTIF(他市13!W12:W13,">=1")+COUNTIF(他市14!W12:W13,">=1")+COUNTIF(他市15!W12:W13,">=1"),"")) -> 0 | H12: =SUM(I12:J12) -> 0 | I12: =IF(L3=O6,SUM('1氏名:他市15'!D11:D12),IF(L3=O7,SUM('1氏名:15氏名'!D11:D12),"")) -> 0 | J12: =IF(L3=O6,SUM('1氏名:他市15'!V11:V12),IF(L3=O7,SUM('1氏名:15氏名'!V11:V12),"")) -> 0 | K12: =IF(L3=O6,COUNTIF('1氏名'!W12:W13,">=1")+COUNTIF('2氏名'!W12:W13,">=1")+COUNTIF('3氏名'!W12:W13,">=1")+COUNTIF('4氏名'!W12:W13,">=1")+COUNTIF('5氏名'!W12:W13,">=1")+COUNTIF('6氏名'!W12:W13,">=1")+COUNTIF('7氏名'!W12:W13,">=1")+COUNTIF('8氏名'!W12:W13,">=1")+COUNTIF('9氏名'!W12:W13,">=1")+COUNTIF('10氏名'!W12:W13,">=1")+COUNTIF('11氏名'!W12:W13,">=1")+COUNTIF('12氏名'!W12:W13,">=1")+COUNTIF('13氏名'!W12:W13,">=1")+COUNTIF('14氏名'!W12:W13,">=1")+COUNTIF('15氏名'!W12:W13,">=1"),"－") -> 0 | L12: =IF(L3=O6,SUM('1氏名:15氏名'!W11:W12),"－") -> 0
B13: 令和８年６月 | D13: =SUM(E13:F13) -> 0 | G13: =IF(L3=O7,COUNTIF('1氏名'!W14:W15,">=1")+COUNTIF('2氏名'!W14:W15,">=1")+COUNTIF('3氏名'!W14:W15,">=1")+COUNTIF('4氏名'!W14:W15,">=1")+COUNTIF('5氏名'!W14:W15,">=1")+COUNTIF('6氏名'!W14:W15,">=1")+COUNTIF('7氏名'!W14:W15,">=1")+COUNTIF('8氏名'!W14:W15,">=1")+COUNTIF('9氏名'!W14:W15,">=1")+COUNTIF('10氏名'!W14:W15,">=1")+COUNTIF('11氏名'!W14:W15,">=1")+COUNTIF('12氏名'!W14:W15,">=1")+COUNTIF('13氏名'!W14:W15,">=1")+COUNTIF('14氏名'!W14:W15,">=1")+COUNTIF('15氏名'!W14:W15,">=1"),IF(L3=O6,COUNTIF('1氏名'!W14:W15,">=1")+COUNTIF('2氏名'!W14:W15,">=1")+COUNTIF('3氏名'!W14:W15,">=1")+COUNTIF('4氏名'!W14:W15,">=1")+COUNTIF('5氏名'!W14:W15,">=1")+COUNTIF('6氏名'!W14:W15,">=1")+COUNTIF('7氏名'!W14:W15,">=1")+COUNTIF('8氏名'!W14:W15,">=1")+COUNTIF('9氏名'!W14:W15,">=1")+COUNTIF('10氏名'!W14:W15,">=1")+COUNTIF('11氏名'!W14:W15,">=1")+COUNTIF('12氏名'!W14:W15,">=1")+COUNTIF('13氏名'!W14:W15,">=1")+COUNTIF('14氏名'!W14:W15,">=1")+COUNTIF('15氏名'!W14:W15,">=1")+COUNTIF(他市1!W14:W15,">=1")+COUNTIF(他市2!W14:W15,">=1")+COUNTIF(他市3!W14:W15,">=1")+COUNTIF(他市4!W14:W15,">=1")+COUNTIF(他市5!W14:W15,">=1")+COUNTIF(他市6!W14:W15,">=1")+COUNTIF(他市7!W14:W15,">=1")+COUNTIF(他市8!W14:W15,">=1")+COUNTIF(他市9!W14:W15,">=1")+COUNTIF(他市10!W14:W15,">=1")+COUNTIF(他市11!W14:W15,">=1")+COUNTIF(他市12!W14:W15,">=1")+COUNTIF(他市13!W14:W15,">=1")+COUNTIF(他市14!W14:W15,">=1")+COUNTIF(他市15!W14:W15,">=1"),"")) -> 0 | H13: =SUM(I13:J13) -> 0 | I13: =IF(L3=O6,SUM('1氏名:他市15'!D13:D14),IF(L3=O7,SUM('1氏名:15氏名'!D13:D14),"")) -> 0 | J13: =IF(L3=O6,SUM('1氏名:他市15'!V13:V14),IF(L3=O7,SUM('1氏名:15氏名'!V13:V14),"")) -> 0 | K13: =IF(L3=O6,COUNTIF('1氏名'!W14:W15,">=1")+COUNTIF('2氏名'!W14:W15,">=1")+COUNTIF('3氏名'!W14:W15,">=1")+COUNTIF('4氏名'!W14:W15,">=1")+COUNTIF('5氏名'!W14:W15,">=1")+COUNTIF('6氏名'!W14:W15,">=1")+COUNTIF('7氏名'!W14:W15,">=1")+COUNTIF('8氏名'!W14:W15,">=1")+COUNTIF('9氏名'!W14:W15,">=1")+COUNTIF('10氏名'!W14:W15,">=1")+COUNTIF('11氏名'!W14:W15,">=1")+COUNTIF('12氏名'!W14:W15,">=1")+COUNTIF('13氏名'!W14:W15,">=1")+COUNTIF('14氏名'!W14:W15,">=1")+COUNTIF('15氏名'!W14:W15,">=1"),"－") -> 0 | L13: =IF(L3=O6,SUM('1氏名:15氏名'!W13:W14),"－") -> 0
B14: 令和８年７月 | D14: =SUM(E14:F14) -> 0 | G14: =IF(L3=O7,COUNTIF('1氏名'!W16:W17,">=1")+COUNTIF('2氏名'!W16:W17,">=1")+COUNTIF('3氏名'!W16:W17,">=1")+COUNTIF('4氏名'!W16:W17,">=1")+COUNTIF('5氏名'!W16:W17,">=1")+COUNTIF('6氏名'!W16:W17,">=1")+COUNTIF('7氏名'!W16:W17,">=1")+COUNTIF('8氏名'!W16:W17,">=1")+COUNTIF('9氏名'!W16:W17,">=1")+COUNTIF('10氏名'!W16:W17,">=1")+COUNTIF('11氏名'!W16:W17,">=1")+COUNTIF('12氏名'!W16:W17,">=1")+COUNTIF('13氏名'!W16:W17,">=1")+COUNTIF('14氏名'!W16:W17,">=1")+COUNTIF('15氏名'!W16:W17,">=1"),IF(L3=O6,COUNTIF('1氏名'!W16:W17,">=1")+COUNTIF('2氏名'!W16:W17,">=1")+COUNTIF('3氏名'!W16:W17,">=1")+COUNTIF('4氏名'!W16:W17,">=1")+COUNTIF('5氏名'!W16:W17,">=1")+COUNTIF('6氏名'!W16:W17,">=1")+COUNTIF('7氏名'!W16:W17,">=1")+COUNTIF('8氏名'!W16:W17,">=1")+COUNTIF('9氏名'!W16:W17,">=1")+COUNTIF('10氏名'!W16:W17,">=1")+COUNTIF('11氏名'!W16:W17,">=1")+COUNTIF('12氏名'!W16:W17,">=1")+COUNTIF('13氏名'!W16:W17,">=1")+COUNTIF('14氏名'!W16:W17,">=1")+COUNTIF('15氏名'!W16:W17,">=1")+COUNTIF(他市1!W16:W17,">=1")+COUNTIF(他市2!W16:W17,">=1")+COUNTIF(他市3!W16:W17,">=1")+COUNTIF(他市4!W16:W17,">=1")+COUNTIF(他市5!W16:W17,">=1")+COUNTIF(他市6!W16:W17,">=1")+COUNTIF(他市7!W16:W17,">=1")+COUNTIF(他市8!W16:W17,">=1")+COUNTIF(他市9!W16:W17,">=1")+COUNTIF(他市10!W16:W17,">=1")+COUNTIF(他市11!W16:W17,">=1")+COUNTIF(他市12!W16:W17,">=1")+COUNTIF(他市13!W16:W17,">=1")+COUNTIF(他市14!W16:W17,">=1")+COUNTIF(他市15!W16:W17,">=1"),"")) -> 0 | H14: =SUM(I14:J14) -> 0 | I14: =IF(L3=O6,SUM('1氏名:他市15'!D15:D16),IF(L3=O7,SUM('1氏名:15氏名'!D15:D16),"")) -> 0 | J14: =IF(L3=O6,SUM('1氏名:他市15'!V15:V16),IF(L3=O7,SUM('1氏名:15氏名'!V15:V16),"")) -> 0 | K14: =IF(L3=O6,COUNTIF('1氏名'!W16:W17,">=1")+COUNTIF('2氏名'!W16:W17,">=1")+COUNTIF('3氏名'!W16:W17,">=1")+COUNTIF('4氏名'!W16:W17,">=1")+COUNTIF('5氏名'!W16:W17,">=1")+COUNTIF('6氏名'!W16:W17,">=1")+COUNTIF('7氏名'!W16:W17,">=1")+COUNTIF('8氏名'!W16:W17,">=1")+COUNTIF('9氏名'!W16:W17,">=1")+COUNTIF('10氏名'!W16:W17,">=1")+COUNTIF('11氏名'!W16:W17,">=1")+COUNTIF('12氏名'!W16:W17,">=1")+COUNTIF('13氏名'!W16:W17,">=1")+COUNTIF('14氏名'!W16:W17,">=1")+COUNTIF('15氏名'!W16:W17,">=1"),"－") -> 0 | L14: =IF(L3=O6,SUM('1氏名:15氏名'!W15:W16),"－") -> 0
B15: 令和８年８月 | D15: =SUM(E15:F15) -> 0 | G15: =IF(L3=O7,COUNTIF('1氏名'!W18:W19,">=1")+COUNTIF('2氏名'!W18:W19,">=1")+COUNTIF('3氏名'!W18:W19,">=1")+COUNTIF('4氏名'!W18:W19,">=1")+COUNTIF('5氏名'!W18:W19,">=1")+COUNTIF('6氏名'!W18:W19,">=1")+COUNTIF('7氏名'!W18:W19,">=1")+COUNTIF('8氏名'!W18:W19,">=1")+COUNTIF('9氏名'!W18:W19,">=1")+COUNTIF('10氏名'!W18:W19,">=1")+COUNTIF('11氏名'!W18:W19,">=1")+COUNTIF('12氏名'!W18:W19,">=1")+COUNTIF('13氏名'!W18:W19,">=1")+COUNTIF('14氏名'!W18:W19,">=1")+COUNTIF('15氏名'!W18:W19,">=1"),IF(L3=O6,COUNTIF('1氏名'!W18:W19,">=1")+COUNTIF('2氏名'!W18:W19,">=1")+COUNTIF('3氏名'!W18:W19,">=1")+COUNTIF('4氏名'!W12:W13,">=1")+COUNTIF('5氏名'!W12:W13,">=1")+COUNTIF('6氏名'!W12:W13,">=1")+COUNTIF('7氏名'!W12:W13,">=1")+COUNTIF('8氏名'!W18:W19,">=1")+COUNTIF('9氏名'!W18:W19,">=1")+COUNTIF('10氏名'!W18:W19,">=1")+COUNTIF('11氏名'!W18:W19,">=1")+COUNTIF('12氏名'!W18:W19,">=1")+COUNTIF('13氏名'!W18:W19,">=1")+COUNTIF('14氏名'!W18:W19,">=1")+COUNTIF('15氏名'!W18:W19,">=1")+COUNTIF(他市1!W18:W19,">=1")+COUNTIF(他市2!W18:W19,">=1")+COUNTIF(他市3!W18:W19,">=1")+COUNTIF(他市4!W18:W19,">=1")+COUNTIF(他市5!W18:W19,">=1")+COUNTIF(他市6!W18:W19,">=1")+COUNTIF(他市7!W18:W19,">=1")+COUNTIF(他市8!W18:W19,">=1")+COUNTIF(他市9!W18:W19,">=1")+COUNTIF(他市10!W18:W19,">=1")+COUNTIF(他市11!W18:W19,">=1")+COUNTIF(他市12!W18:W19,">=1")+COUNTIF(他市13!W18:W19,">=1")+COUNTIF(他市14!W18:W19,">=1")+COUNTIF(他市15!W18:W19,">=1"),"")) -> 0 | H15: =SUM(I15:J15) -> 0 | I15: =IF(L3=O6,SUM('1氏名:他市15'!D17:D18),IF(L3=O7,SUM('1氏名:15氏名'!D17:D18),"")) -> 0 | J15: =IF(L3=O6,SUM('1氏名:他市15'!V17:V18),IF(L3=O7,SUM('1氏名:15氏名'!V17:V18),"")) -> 0 | K15: =IF(L3=O6,COUNTIF('1氏名'!W18:W19,">=1")+COUNTIF('2氏名'!W18:W19,">=1")+COUNTIF('3氏名'!W18:W19,">=1")+COUNTIF('4氏名'!W18:W19,">=1")+COUNTIF('5氏名'!W18:W19,">=1")+COUNTIF('6氏名'!W18:W19,">=1")+COUNTIF('7氏名'!W18:W19,">=1")+COUNTIF('8氏名'!W18:W19,">=1")+COUNTIF('9氏名'!W18:W19,">=1")+COUNTIF('10氏名'!W18:W19,">=1")+COUNTIF('11氏名'!W18:W19,">=1")+COUNTIF('12氏名'!W18:W19,">=1")+COUNTIF('13氏名'!W18:W19,">=1")+COUNTIF('14氏名'!W18:W19,">=1")+COUNTIF('15氏名'!W18:W19,">=1"),"－") -> 0 | L15: =IF(L3=O6,SUM('1氏名:15氏名'!W17:W18),"－") -> 0
B16: 令和８年９月 | D16: =SUM(E16:F16) -> 0 | G16: =IF(L3=O7,COUNTIF('1氏名'!W20:W21,">=1")+COUNTIF('2氏名'!W20:W21,">=1")+COUNTIF('3氏名'!W20:W21,">=1")+COUNTIF('4氏名'!W20:W21,">=1")+COUNTIF('5氏名'!W20:W21,">=1")+COUNTIF('6氏名'!W20:W21,">=1")+COUNTIF('7氏名'!W20:W21,">=1")+COUNTIF('8氏名'!W20:W21,">=1")+COUNTIF('9氏名'!W20:W21,">=1")+COUNTIF('10氏名'!W20:W21,">=1")+COUNTIF('11氏名'!W20:W21,">=1")+COUNTIF('12氏名'!W20:W21,">=1")+COUNTIF('13氏名'!W20:W21,">=1")+COUNTIF('14氏名'!W20:W21,">=1")+COUNTIF('15氏名'!W20:W21,">=1"),IF(L3=O6,COUNTIF('1氏名'!W20:W21,">=1")+COUNTIF('2氏名'!W20:W21,">=1")+COUNTIF('3氏名'!W20:W21,">=1")+COUNTIF('4氏名'!W20:W21,">=1")+COUNTIF('5氏名'!W20:W21,">=1")+COUNTIF('6氏名'!W20:W21,">=1")+COUNTIF('7氏名'!W20:W21,">=1")+COUNTIF('8氏名'!W20:W21,">=1")+COUNTIF('9氏名'!W20:W21,">=1")+COUNTIF('10氏名'!W20:W21,">=1")+COUNTIF('11氏名'!W20:W21,">=1")+COUNTIF('12氏名'!W20:W21,">=1")+COUNTIF('13氏名'!W20:W21,">=1")+COUNTIF('14氏名'!W20:W21,">=1")+COUNTIF('15氏名'!W20:W21,">=1")+COUNTIF(他市1!W20:W21,">=1")+COUNTIF(他市2!W20:W21,">=1")+COUNTIF(他市3!W20:W21,">=1")+COUNTIF(他市4!W20:W21,">=1")+COUNTIF(他市5!W20:W21,">=1")+COUNTIF(他市6!W20:W21,">=1")+COUNTIF(他市7!W20:W21,">=1")+COUNTIF(他市8!W20:W21,">=1")+COUNTIF(他市9!W20:W21,">=1")+COUNTIF(他市10!W20:W21,">=1")+COUNTIF(他市11!W20:W21,">=1")+COUNTIF(他市12!W20:W21,">=1")+COUNTIF(他市13!W20:W21,">=1")+COUNTIF(他市14!W20:W21,">=1")+COUNTIF(他市15!W20:W21,">=1"),"")) -> 0 | H16: =SUM(I16:J16) -> 0 | I16: =IF(L3=O6,SUM('1氏名:他市15'!D19:D20),IF(L3=O7,SUM('1氏名:15氏名'!D19:D20),"")) -> 0 | J16: =IF(L3=O6,SUM('1氏名:他市15'!V19:V20),IF(L3=O7,SUM('1氏名:15氏名'!V19:V20),"")) -> 0 | K16: =IF(L3=O6,COUNTIF('1氏名'!W20:W21,">=1")+COUNTIF('2氏名'!W20:W21,">=1")+COUNTIF('3氏名'!W20:W21,">=1")+COUNTIF('4氏名'!W20:W21,">=1")+COUNTIF('5氏名'!W20:W21,">=1")+COUNTIF('6氏名'!W20:W21,">=1")+COUNTIF('7氏名'!W20:W21,">=1")+COUNTIF('8氏名'!W20:W21,">=1")+COUNTIF('9氏名'!W20:W21,">=1")+COUNTIF('10氏名'!W20:W21,">=1")+COUNTIF('11氏名'!W20:W21,">=1")+COUNTIF('12氏名'!W20:W21,">=1")+COUNTIF('13氏名'!W20:W21,">=1")+COUNTIF('14氏名'!W20:W21,">=1")+COUNTIF('15氏名'!W20:W21,">=1"),"－") -> 0 | L16: =IF(L3=O6,SUM('1氏名:15氏名'!W19:W20),"－") -> 0
B17: 令和８年１０月 | D17: =SUM(E17:F17) -> 0 | G17: =IF(L3=O7,COUNTIF('1氏名'!W22:W23,">=1")+COUNTIF('2氏名'!W22:W23,">=1")+COUNTIF('3氏名'!W22:W23,">=1")+COUNTIF('4氏名'!W22:W23,">=1")+COUNTIF('5氏名'!W22:W23,">=1")+COUNTIF('6氏名'!W22:W23,">=1")+COUNTIF('7氏名'!W22:W23,">=1")+COUNTIF('8氏名'!W22:W23,">=1")+COUNTIF('9氏名'!W22:W23,">=1")+COUNTIF('10氏名'!W22:W23,">=1")+COUNTIF('11氏名'!W22:W23,">=1")+COUNTIF('12氏名'!W22:W23,">=1")+COUNTIF('13氏名'!W22:W23,">=1")+COUNTIF('14氏名'!W22:W23,">=1")+COUNTIF('15氏名'!W22:W23,">=1"),IF(L3=O6,COUNTIF('1氏名'!W22:W23,">=1")+COUNTIF('2氏名'!W22:W23,">=1")+COUNTIF('3氏名'!W22:W23,">=1")+COUNTIF('4氏名'!W22:W23,">=1")+COUNTIF('5氏名'!W22:W23,">=1")+COUNTIF('6氏名'!W22:W23,">=1")+COUNTIF('7氏名'!W22:W23,">=1")+COUNTIF('8氏名'!W22:W23,">=1")+COUNTIF('9氏名'!W22:W23,">=1")+COUNTIF('10氏名'!W22:W23,">=1")+COUNTIF('11氏名'!W22:W23,">=1")+COUNTIF('12氏名'!W22:W23,">=1")+COUNTIF('13氏名'!W22:W23,">=1")+COUNTIF('14氏名'!W22:W23,">=1")+COUNTIF('15氏名'!W22:W23,">=1")+COUNTIF(他市1!W22:W23,">=1")+COUNTIF(他市2!W22:W23,">=1")+COUNTIF(他市3!W22:W23,">=1")+COUNTIF(他市4!W22:W23,">=1")+COUNTIF(他市5!W22:W23,">=1")+COUNTIF(他市6!W22:W23,">=1")+COUNTIF(他市7!W22:W23,">=1")+COUNTIF(他市8!W22:W23,">=1")+COUNTIF(他市9!W22:W23,">=1")+COUNTIF(他市10!W22:W23,">=1")+COUNTIF(他市11!W22:W23,">=1")+COUNTIF(他市12!W22:W23,">=1")+COUNTIF(他市13!W22:W23,">=1")+COUNTIF(他市14!W22:W23,">=1")+COUNTIF(他市15!W22:W23,">=1"),"")) -> 0 | H17: =SUM(I17:J17) -> 0 | I17: =IF(L3=O6,SUM('1氏名:他市15'!D21:D22),IF(L3=O7,SUM('1氏名:15氏名'!D21:D22),"")) -> 0 | J17: =IF(L3=O6,SUM('1氏名:他市15'!V21:V22),IF(L3=O7,SUM('1氏名:15氏名'!V21:V22),"")) -> 0 | K17: =IF(L3=O6,COUNTIF('1氏名'!W22:W23,">=1")+COUNTIF('2氏名'!W22:W23,">=1")+COUNTIF('3氏名'!W22:W23,">=1")+COUNTIF('4氏名'!W22:W23,">=1")+COUNTIF('5氏名'!W22:W23,">=1")+COUNTIF('6氏名'!W22:W23,">=1")+COUNTIF('7氏名'!W22:W23,">=1")+COUNTIF('8氏名'!W22:W23,">=1")+COUNTIF('9氏名'!W22:W23,">=1")+COUNTIF('10氏名'!W22:W23,">=1")+COUNTIF('11氏名'!W22:W23,">=1")+COUNTIF('12氏名'!W22:W23,">=1")+COUNTIF('13氏名'!W22:W23,">=1")+COUNTIF('14氏名'!W22:W23,">=1")+COUNTIF('15氏名'!W22:W23,">=1"),"－") -> 0 | L17: =IF(L3=O6,SUM('1氏名:15氏名'!W21:W22),"－") -> 0
B18: 令和８年１１月 | D18: =SUM(E18:F18) -> 0 | G18: =IF(L3=O7,COUNTIF('1氏名'!W24:W25,">=1")+COUNTIF('2氏名'!W24:W25,">=1")+COUNTIF('3氏名'!W24:W25,">=1")+COUNTIF('4氏名'!W24:W25,">=1")+COUNTIF('5氏名'!W24:W25,">=1")+COUNTIF('6氏名'!W24:W25,">=1")+COUNTIF('7氏名'!W24:W25,">=1")+COUNTIF('8氏名'!W24:W25,">=1")+COUNTIF('9氏名'!W24:W25,">=1")+COUNTIF('10氏名'!W24:W25,">=1")+COUNTIF('11氏名'!W24:W25,">=1")+COUNTIF('12氏名'!W24:W25,">=1")+COUNTIF('13氏名'!W24:W25,">=1")+COUNTIF('14氏名'!W24:W25,">=1")+COUNTIF('15氏名'!W24:W25,">=1"),IF(L3=O6,COUNTIF('1氏名'!W24:W25,">=1")+COUNTIF('2氏名'!W24:W25,">=1")+COUNTIF('3氏名'!W24:W25,">=1")+COUNTIF('4氏名'!W24:W25,">=1")+COUNTIF('5氏名'!W24:W25,">=1")+COUNTIF('6氏名'!W24:W25,">=1")+COUNTIF('7氏名'!W24:W25,">=1")+COUNTIF('8氏名'!W24:W25,">=1")+COUNTIF('9氏名'!W24:W25,">=1")+COUNTIF('10氏名'!W24:W25,">=1")+COUNTIF('11氏名'!W24:W25,">=1")+COUNTIF('12氏名'!W24:W25,">=1")+COUNTIF('13氏名'!W24:W25,">=1")+COUNTIF('14氏名'!W24:W25,">=1")+COUNTIF('15氏名'!W24:W25,">=1")+COUNTIF(他市1!W24:W25,">=1")+COUNTIF(他市2!W24:W25,">=1")+COUNTIF(他市3!W24:W25,">=1")+COUNTIF(他市4!W24:W25,">=1")+COUNTIF(他市5!W24:W25,">=1")+COUNTIF(他市6!W24:W25,">=1")+COUNTIF(他市7!W24:W25,">=1")+COUNTIF(他市8!W24:W25,">=1")+COUNTIF(他市9!W24:W25,">=1")+COUNTIF(他市10!W24:W25,">=1")+COUNTIF(他市11!W24:W25,">=1")+COUNTIF(他市12!W24:W25,">=1")+COUNTIF(他市13!W24:W25,">=1")+COUNTIF(他市14!W24:W25,">=1")+COUNTIF(他市15!W24:W25,">=1"),"")) -> 0 | H18: =SUM(I18:J18) -> 0 | I18: =IF(L3=O6,SUM('1氏名:他市15'!D23:D24),IF(L3=O7,SUM('1氏名:15氏名'!D23:D24),"")) -> 0 | J18: =IF(L3=O6,SUM('1氏名:他市15'!V23:V24),IF(L3=O7,SUM('1氏名:15氏名'!V23:V24),"")) -> 0 | K18: =IF(L3=O6,COUNTIF('1氏名'!W24:W25,">=1")+COUNTIF('2氏名'!W24:W25,">=1")+COUNTIF('3氏名'!W24:W25,">=1")+COUNTIF('4氏名'!W24:W25,">=1")+COUNTIF('5氏名'!W24:W25,">=1")+COUNTIF('6氏名'!W24:W25,">=1")+COUNTIF('7氏名'!W24:W25,">=1")+COUNTIF('8氏名'!W24:W25,">=1")+COUNTIF('9氏名'!W24:W25,">=1")+COUNTIF('10氏名'!W24:W25,">=1")+COUNTIF('11氏名'!W24:W25,">=1")+COUNTIF('12氏名'!W24:W25,">=1")+COUNTIF('13氏名'!W24:W25,">=1")+COUNTIF('14氏名'!W24:W25,">=1")+COUNTIF('15氏名'!W24:W25,">=1"),"－") -> 0 | L18: =IF(L3=O6,SUM('1氏名:15氏名'!W23:W24),"－") -> 0
B19: 令和８年１２月 | D19: =SUM(E19:F19) -> 0 | G19: =IF(L3=O7,COUNTIF('1氏名'!W26:W27,">=1")+COUNTIF('2氏名'!W26:W27,">=1")+COUNTIF('3氏名'!W26:W27,">=1")+COUNTIF('4氏名'!W26:W27,">=1")+COUNTIF('5氏名'!W26:W27,">=1")+COUNTIF('6氏名'!W26:W27,">=1")+COUNTIF('7氏名'!W26:W27,">=1")+COUNTIF('8氏名'!W26:W27,">=1")+COUNTIF('9氏名'!W26:W27,">=1")+COUNTIF('10氏名'!W26:W27,">=1")+COUNTIF('11氏名'!W26:W27,">=1")+COUNTIF('12氏名'!W26:W27,">=1")+COUNTIF('13氏名'!W26:W27,">=1")+COUNTIF('14氏名'!W26:W27,">=1")+COUNTIF('15氏名'!W26:W27,">=1"),IF(L3=O6,COUNTIF('1氏名'!W26:W27,">=1")+COUNTIF('2氏名'!W26:W27,">=1")+COUNTIF('3氏名'!W26:W27,">=1")+COUNTIF('4氏名'!W26:W27,">=1")+COUNTIF('5氏名'!W26:W27,">=1")+COUNTIF('6氏名'!W26:W27,">=1")+COUNTIF('7氏名'!W26:W27,">=1")+COUNTIF('8氏名'!W26:W27,">=1")+COUNTIF('9氏名'!W26:W27,">=1")+COUNTIF('10氏名'!W26:W27,">=1")+COUNTIF('11氏名'!W26:W27,">=1")+COUNTIF('12氏名'!W26:W27,">=1")+COUNTIF('13氏名'!W26:W27,">=1")+COUNTIF('14氏名'!W26:W27,">=1")+COUNTIF('15氏名'!W26:W27,">=1")+COUNTIF(他市1!W25:W27,">=1")+COUNTIF(他市2!W26:W27,">=1")+COUNTIF(他市3!W26:W27,">=1")+COUNTIF(他市4!W26:W27,">=1")+COUNTIF(他市5!W26:W27,">=1")+COUNTIF(他市6!W26:W27,">=1")+COUNTIF(他市7!W26:W27,">=1")+COUNTIF(他市8!W26:W27,">=1")+COUNTIF(他市9!W26:W27,">=1")+COUNTIF(他市10!W26:W27,">=1")+COUNTIF(他市11!W26:W27,">=1")+COUNTIF(他市12!W26:W27,">=1")+COUNTIF(他市13!W26:W27,">=1")+COUNTIF(他市14!W26:W27,">=1")+COUNTIF(他市15!W26:W27,">=1"),"")) -> 0 | H19: =SUM(I19:J19) -> 0 | I19: =IF(L3=O6,SUM('1氏名:他市15'!D25:D26),IF(L3=O7,SUM('1氏名:15氏名'!D25:D26),"")) -> 0 | J19: =IF(L3=O6,SUM('1氏名:他市15'!V25:V26),IF(L3=O7,SUM('1氏名:15氏名'!V25:V26),"")) -> 0 | K19: =IF(L3=O6,COUNTIF('1氏名'!W26:W27,">=1")+COUNTIF('2氏名'!W26:W27,">=1")+COUNTIF('3氏名'!W26:W27,">=1")+COUNTIF('4氏名'!W26:W27,">=1")+COUNTIF('5氏名'!W26:W27,">=1")+COUNTIF('6氏名'!W26:W27,">=1")+COUNTIF('7氏名'!W26:W27,">=1")+COUNTIF('8氏名'!W26:W27,">=1")+COUNTIF('9氏名'!W26:W27,">=1")+COUNTIF('10氏名'!W26:W27,">=1")+COUNTIF('11氏名'!W26:W27,">=1")+COUNTIF('12氏名'!W26:W27,">=1")+COUNTIF('13氏名'!W26:W27,">=1")+COUNTIF('14氏名'!W26:W27,">=1")+COUNTIF('15氏名'!W26:W27,">=1"),"－") -> 0 | L19: =IF(L3=O6,SUM('1氏名:15氏名'!W25:W26),"－") -> 0
B20: 令和９年１月 | D20: =SUM(E20:F20) -> 0 | G20: =IF(L3=O7,COUNTIF('1氏名'!W28:W29,">=1")+COUNTIF('2氏名'!W28:W29,">=1")+COUNTIF('3氏名'!W28:W29,">=1")+COUNTIF('4氏名'!W28:W29,">=1")+COUNTIF('5氏名'!W28:W29,">=1")+COUNTIF('6氏名'!W28:W29,">=1")+COUNTIF('7氏名'!W28:W29,">=1")+COUNTIF('8氏名'!W28:W29,">=1")+COUNTIF('9氏名'!W28:W29,">=1")+COUNTIF('10氏名'!W28:W29,">=1")+COUNTIF('11氏名'!W28:W29,">=1")+COUNTIF('12氏名'!W28:W29,">=1")+COUNTIF('13氏名'!W28:W29,">=1")+COUNTIF('14氏名'!W28:W29,">=1")+COUNTIF('15氏名'!W28:W29,">=1"),IF(L3=O6,COUNTIF('1氏名'!W28:W29,">=1")+COUNTIF('2氏名'!W28:W29,">=1")+COUNTIF('3氏名'!W28:W29,">=1")+COUNTIF('4氏名'!W28:W29,">=1")+COUNTIF('5氏名'!W28:W29,">=1")+COUNTIF('6氏名'!W28:W29,">=1")+COUNTIF('7氏名'!W28:W29,">=1")+COUNTIF('8氏名'!W28:W29,">=1")+COUNTIF('9氏名'!W28:W29,">=1")+COUNTIF('10氏名'!W28:W29,">=1")+COUNTIF('11氏名'!W28:W29,">=1")+COUNTIF('12氏名'!W28:W29,">=1")+COUNTIF('13氏名'!W28:W29,">=1")+COUNTIF('14氏名'!W28:W29,">=1")+COUNTIF('15氏名'!W28:W29,">=1")+COUNTIF(他市1!W28:W29,">=1")+COUNTIF(他市2!W28:W29,">=1")+COUNTIF(他市3!W28:W29,">=1")+COUNTIF(他市4!W28:W29,">=1")+COUNTIF(他市5!W28:W29,">=1")+COUNTIF(他市6!W28:W29,">=1")+COUNTIF(他市7!W28:W29,">=1")+COUNTIF(他市8!W28:W29,">=1")+COUNTIF(他市9!W28:W29,">=1")+COUNTIF(他市10!W28:W29,">=1")+COUNTIF(他市11!W28:W29,">=1")+COUNTIF(他市12!W28:W29,">=1")+COUNTIF(他市13!W28:W29,">=1")+COUNTIF(他市14!W28:W29,">=1")+COUNTIF(他市15!W28:W29,">=1"),"")) -> 0 | H20: =SUM(I20:J20) -> 0 | I20: =IF(L3=O6,SUM('1氏名:他市15'!D27:D28),IF(L3=O7,SUM('1氏名:15氏名'!D27:D28),"")) -> 0 | J20: =IF(L3=O6,SUM('1氏名:他市15'!V27:V28),IF(L3=O7,SUM('1氏名:15氏名'!V27:V28),"")) -> 0 | K20: =IF(L3=O6,COUNTIF('1氏名'!W28:W29,">=1")+COUNTIF('2氏名'!W28:W29,">=1")+COUNTIF('3氏名'!W28:W29,">=1")+COUNTIF('4氏名'!W28:W29,">=1")+COUNTIF('5氏名'!W28:W29,">=1")+COUNTIF('6氏名'!W28:W29,">=1")+COUNTIF('7氏名'!W28:W29,">=1")+COUNTIF('8氏名'!W28:W29,">=1")+COUNTIF('9氏名'!W28:W29,">=1")+COUNTIF('10氏名'!W28:W29,">=1")+COUNTIF('11氏名'!W28:W29,">=1")+COUNTIF('12氏名'!W28:W29,">=1")+COUNTIF('13氏名'!W28:W29,">=1")+COUNTIF('14氏名'!W28:W29,">=1")+COUNTIF('15氏名'!W28:W29,">=1"),"－") -> 0 | L20: =IF(L3=O6,SUM('1氏名:15氏名'!W27:W28),"－") -> 0
B21: 令和９年２月 | D21: =SUM(E21:F21) -> 0 | G21: =IF(L3=O7,COUNTIF('1氏名'!W30:W31,">=1")+COUNTIF('2氏名'!W30:W31,">=1")+COUNTIF('3氏名'!W30:W31,">=1")+COUNTIF('4氏名'!W30:W31,">=1")+COUNTIF('5氏名'!W30:W31,">=1")+COUNTIF('6氏名'!W30:W31,">=1")+COUNTIF('7氏名'!W30:W31,">=1")+COUNTIF('8氏名'!W30:W31,">=1")+COUNTIF('9氏名'!W30:W31,">=1")+COUNTIF('10氏名'!W30:W31,">=1")+COUNTIF('11氏名'!W30:W31,">=1")+COUNTIF('12氏名'!W30:W31,">=1")+COUNTIF('13氏名'!W30:W31,">=1")+COUNTIF('14氏名'!W30:W31,">=1")+COUNTIF('15氏名'!W30:W31,">=1"),IF(L3=O6,COUNTIF('1氏名'!W30:W31,">=1")+COUNTIF('2氏名'!W30:W31,">=1")+COUNTIF('3氏名'!W30:W31,">=1")+COUNTIF('4氏名'!W30:W31,">=1")+COUNTIF('5氏名'!W30:W31,">=1")+COUNTIF('6氏名'!W30:W31,">=1")+COUNTIF('7氏名'!W30:W31,">=1")+COUNTIF('8氏名'!W30:W31,">=1")+COUNTIF('9氏名'!W30:W31,">=1")+COUNTIF('10氏名'!W30:W31,">=1")+COUNTIF('11氏名'!W30:W31,">=1")+COUNTIF('12氏名'!W30:W31,">=1")+COUNTIF('13氏名'!W30:W31,">=1")+COUNTIF('14氏名'!W30:W31,">=1")+COUNTIF('15氏名'!W30:W31,">=1")+COUNTIF(他市1!W30:W31,">=1")+COUNTIF(他市2!W30:W31,">=1")+COUNTIF(他市3!W30:W31,">=1")+COUNTIF(他市4!W30:W31,">=1")+COUNTIF(他市5!W30:W31,">=1")+COUNTIF(他市6!W30:W31,">=1")+COUNTIF(他市7!W30:W31,">=1")+COUNTIF(他市8!W30:W31,">=1")+COUNTIF(他市9!W30:W31,">=1")+COUNTIF(他市10!W30:W31,">=1")+COUNTIF(他市11!W30:W31,">=1")+COUNTIF(他市12!W30:W31,">=1")+COUNTIF(他市13!W30:W31,">=1")+COUNTIF(他市14!W30:W31,">=1")+COUNTIF(他市15!W30:W31,">=1"),"")) -> 0 | H21: =SUM(I21:J21) -> 0 | I21: =IF(L3=O6,SUM('1氏名:他市15'!D29:D30),IF(L3=O7,SUM('1氏名:15氏名'!D29:D30),"")) -> 0 | J21: =IF(L3=O6,SUM('1氏名:他市15'!V29:V30),IF(L3=O7,SUM('1氏名:15氏名'!V29:V30),"")) -> 0 | K21: =IF(L3=O6,COUNTIF('1氏名'!W30:W31,">=1")+COUNTIF('2氏名'!W30:W31,">=1")+COUNTIF('3氏名'!W30:W31,">=1")+COUNTIF('4氏名'!W30:W31,">=1")+COUNTIF('5氏名'!W30:W31,">=1")+COUNTIF('6氏名'!W30:W31,">=1")+COUNTIF('7氏名'!W30:W31,">=1")+COUNTIF('8氏名'!W30:W31,">=1")+COUNTIF('9氏名'!W30:W31,">=1")+COUNTIF('10氏名'!W30:W31,">=1")+COUNTIF('11氏名'!W30:W31,">=1")+COUNTIF('12氏名'!W30:W31,">=1")+COUNTIF('13氏名'!W30:W31,">=1")+COUNTIF('14氏名'!W30:W31,">=1")+COUNTIF('15氏名'!W30:W31,">=1"),"－") -> 0 | L21: =IF(L3=O6,SUM('1氏名:15氏名'!W29:W30),"－") -> 0
B22: 令和９年３月 | D22: =SUM(E22:F22) -> 0 | G22: =IF(L3=O7,COUNTIF('1氏名'!W32:W33,">=1")+COUNTIF('2氏名'!W32:W33,">=1")+COUNTIF('3氏名'!W32:W33,">=1")+COUNTIF('4氏名'!W32:W33,">=1")+COUNTIF('5氏名'!W32:W33,">=1")+COUNTIF('6氏名'!W32:W33,">=1")+COUNTIF('7氏名'!W32:W33,">=1")+COUNTIF('8氏名'!W32:W33,">=1")+COUNTIF('9氏名'!W32:W33,">=1")+COUNTIF('10氏名'!W32:W33,">=1")+COUNTIF('11氏名'!W32:W33,">=1")+COUNTIF('12氏名'!W32:W33,">=1")+COUNTIF('13氏名'!W32:W33,">=1")+COUNTIF('14氏名'!W32:W33,">=1")+COUNTIF('15氏名'!W32:W33,">=1"),IF(L3=O6,COUNTIF('1氏名'!W32:W33,">=1")+COUNTIF('2氏名'!W32:W33,">=1")+COUNTIF('3氏名'!W32:W33,">=1")+COUNTIF('4氏名'!W32:W33,">=1")+COUNTIF('5氏名'!W32:W33,">=1")+COUNTIF('6氏名'!W32:W33,">=1")+COUNTIF('7氏名'!W32:W33,">=1")+COUNTIF('8氏名'!W32:W33,">=1")+COUNTIF('9氏名'!W32:W33,">=1")+COUNTIF('10氏名'!W32:W33,">=1")+COUNTIF('11氏名'!W32:W33,">=1")+COUNTIF('12氏名'!W32:W33,">=1")+COUNTIF('13氏名'!W32:W33,">=1")+COUNTIF('14氏名'!W32:W33,">=1")+COUNTIF('15氏名'!W32:W33,">=1")+COUNTIF(他市1!W32:W33,">=1")+COUNTIF(他市2!W32:W33,">=1")+COUNTIF(他市3!W32:W33,">=1")+COUNTIF(他市4!W32:W33,">=1")+COUNTIF(他市5!W32:W33,">=1")+COUNTIF(他市6!W32:W33,">=1")+COUNTIF(他市7!W32:W33,">=1")+COUNTIF(他市8!W32:W33,">=1")+COUNTIF(他市9!W32:W33,">=1")+COUNTIF(他市10!W32:W33,">=1")+COUNTIF(他市11!W32:W33,">=1")+COUNTIF(他市12!W32:W33,">=1")+COUNTIF(他市13!W32:W33,">=1")+COUNTIF(他市14!W32:W33,">=1")+COUNTIF(他市15!W32:W33,">=1"),"")) -> 0 | H22: =SUM(I22:J22) -> 0 | I22: =IF(L3=O6,SUM('1氏名:他市15'!D31:D32),IF(L3=O7,SUM('1氏名:15氏名'!D31:D32),"")) -> 0 | J22: =IF(L3=O6,SUM('1氏名:他市15'!V31:V32),IF(L3=O7,SUM('1氏名:15氏名'!V31:V32),"")) -> 0 | K22: =IF(L3=O6,COUNTIF('1氏名'!W32:W33,">=1")+COUNTIF('2氏名'!W32:W33,">=1")+COUNTIF('3氏名'!W32:W33,">=1")+COUNTIF('4氏名'!W32:W33,">=1")+COUNTIF('5氏名'!W32:W33,">=1")+COUNTIF('6氏名'!W32:W33,">=1")+COUNTIF('7氏名'!W32:W33,">=1")+COUNTIF('8氏名'!W32:W33,">=1")+COUNTIF('9氏名'!W32:W33,">=1")+COUNTIF('10氏名'!W32:W33,">=1")+COUNTIF('11氏名'!W32:W33,">=1")+COUNTIF('12氏名'!W32:W33,">=1")+COUNTIF('13氏名'!W32:W33,">=1")+COUNTIF('14氏名'!W32:W33,">=1")+COUNTIF('15氏名'!W32:W33,">=1"),"－") -> 0 | L22: =IF(L3=O6,SUM('1氏名:15氏名'!W31:W32),"－") -> 0
B23: 合計 | C23: =SUM(C11:C22) -> 0 | D23: =SUM(D11:D22) -> 0 | E23: =SUM(E11:E22) -> 0 | F23: =SUM(F11:F22) -> 0 | G23: =SUM(G11:G22) -> 0 | H23: =SUM(H11:H22) -> 0 | I23: =SUM(I11:I22) -> 0 | J23: =SUM(J11:J22) -> 0 | ... L23: =SUM(L11:L22) -> 0
B25: 上半期実績報告用 | C25: =SUM(C11:C16)*2 -> 0 | D25: =SUM(D11:D16)*2 -> 0 | E25: =SUM(E11:E16)*2 -> 0 | F25: =SUM(F11:F16)*2 -> 0 | G25: =SUM(G11:G16)*2 -> 0 | H25: =SUM(H11:H16)*2 -> 0 | I25: =SUM(I11:I16)*2 -> 0 | J25: =SUM(J11:J16)*2 -> 0 | ... L25: =SUM(L11:L16)*2 -> 0
B27: ８年度実績報告用 | C27: =SUM(C11:C22) -> 0 | D27: =SUM(D11:D22) -> 0 | E27: =SUM(E11:E22) -> 0 | F27: =SUM(F11:F22) -> 0 | G27: =SUM(G11:G22) -> 0 | H27: =SUM(H11:H22) -> 0 | I27: =SUM(I11:I22) -> 0 | J27: =SUM(J11:J22) -> 0 | ... L27: =SUM(L11:L22) -> 0
C30: 「①本来受領すべき利用者負担総額（全利用者の１割～３割負担部分と食費居住費の合計）」には、サービス利用者の全員分を入力してください。
C32: （「②軽減総額」には社福軽減対象者の全員分が、「③うち相模原市被保険者分」には市内対象者分が、自動計算されます。）

Sheet 1氏名
A1: 軽減対象者ごとにシートを作成してください。左端の「利用者負担額等明細」シートに軽減総額が自動入力されます。 | O1: ※上半期調査時は黄色のセル・下半期調査時は オレンジのセルに入力してください。
A2: 相模原市以外が保険者となっている軽減対象者については、シートの見出しが「他市」となっているシートに入力してください。 | AB2: =IF(OR(Q4=Z8,Q4=Z15),"食費・短期","食費・施設") -> 食費・施設 | AD2: =IF(OR(Q4=Z4,Q4=Z8,Q4=Z15),"従来型・老短","従来型・施設") -> 従来型・施設 | AF2: =IF(OR(Q4=Z4,Q4=Z8,Q4=Z15),"従来型・老短３","従来型・施設３") -> 従来型・施設３
AB3: 施設 | AC3: 短期 | AD3: 施設 | AE3: 老短 | AF3: 施設 | AG3: 老短
B4: 被保険者番号： | H4: 事業所番号： | O4: 軽減サービス名： | Z4: 介護老人福祉施設サービス | AB4: 300 | AC4: 300 | AD4: 550 | AE4: 380 | AF4: 550 | AG4: 380
B5: 軽減対象者氏名： | H5: 事業所名： | Z5: 地域密着型介護老人福祉施設入所者生活介護 | AB5: 390 | AC5: 600 | AD5: 1370 | AE5: 480 | AF5: 1370 | AG5: 480
Z6: 訪問介護 | AB6: 650 | AC6: 1000 | AE6: 880 | AF6: 1470 | AG6: 880
B7: 提供年月 | C7: ①サービス費 （利用者負担額×25％） ※小数点以下切捨て ※生活保護受給者は軽減無し ※サービス種別、利用者負担段階によっては軽減無し | E7: ②食費（1日あたりの負担限度額×利用日数×25％） ※小数点以下切捨て ※生活保護受給者は軽減無し ※通所介護の場合は、１日あたりの食費×利用日数 | H7: ③居住費 上段（１日あたりの負担限度額×利用日数×25％） ※生活保護受給の場合は下段（１日あたりの負担限度額×利用日数×100％） | V7: ②＋③計 | W7: ①+②+③ 月毎の軽減総額 | Z7: 通所介護 | AB7: 1360 | AC7: 1300 | AG7: 980
I8: ユニット型個室 | L8: ユニット型個室的多床室 | O8: 従来型個室 | R8: 多床室 | U8: 計 | Z8: 短期入所生活介護
C9: 利用者負担額 | D9: 軽減額 | E9: 円/日 | F9: 日数 | G9: 軽減額 | I9: 円/日 | J9: 日数 | K9: 軽減額 | L9: 円/日 | M9: 日数 | N9: 軽減額 | O9: 円/日 | P9: 日数 | Q9: 軽減額 | R9: 円/日 | S9: 日数 | T9: 軽減額 | Z9: 夜間対応型訪問介護
B10: 令和８年４月 | D10: =ROUNDDOWN(C10*25%,0) -> 0 | G10: =ROUNDDOWN(E10*F10*25%,0) -> 0 | H10: 生保以外 | K10: =ROUNDDOWN(I10*J10*25%,0) -> 0 | N10: =ROUNDDOWN(L10*M10*25%,0) -> 0 | Q10: =ROUNDDOWN(O10*P10*25%,0) -> 0 | T10: =ROUNDDOWN(R10*S10*25%,0) -> 0 | U10: =K10+K11+N10+N11+Q10+Q11+T10+T11 -> 0 | V10: =G10+U10 -> 0 | W10: =D10+G10+U10 -> 0 | Z10: 地域密着型通所介護
H11: 生保 | I11: 880 | K11: =I11*J11 -> 0 | L11: 550 | N11: =L11*M11 -> 0 | O11: =IF(OR(Q4="介護老人福祉施設サービス",Q4="短期入所生活介護",Q4="介護予防短期入所生活介護"),380,550) -> 550 | Q11: =O11*P11 -> 0 | R11: 0 | T11: =R11*S11 -> 0 | Z11: 認知症対応型通所介護
B12: 令和８年５月 | D12: =ROUNDDOWN(C12*25%,0) -> 0 | G12: =ROUNDDOWN(E12*F12*25%,0) -> 0 | H12: 生保以外 | K12: =ROUNDDOWN(I12*J12*25%,0) -> 0 | N12: =ROUNDDOWN(L12*M12*25%,0) -> 0 | Q12: =ROUNDDOWN(O12*P12*25%,0) -> 0 | T12: =ROUNDDOWN(R12*S12*25%,0) -> 0 | U12: =K12+K13+N12+N13+Q12+Q13+T12+T13 -> 0 | V12: =G12+U12 -> 0 | W12: =D12+G12+U12 -> 0 | Z12: 小規模多機能型居宅介護
H13: 生保 | I13: 880 | K13: =I13*J13 -> 0 | L13: 550 | N13: =L13*M13 -> 0 | O13: =IF(OR(Q4="介護老人福祉施設サービス",Q4="短期入所生活介護",Q4="介護予防短期入所生活介護"),380,550) -> 550 | Q13: =O13*P13 -> 0 | R13: 0 | T13: =R13*S13 -> 0 | Z13: 介護予防訪問介護(総合事業の訪問事業（現行相当のみ）を含む)
B14: 令和８年６月 | D14: =ROUNDDOWN(C14*25%,0) -> 0 | G14: =ROUNDDOWN(E14*F14*25%,0) -> 0 | H14: 生保以外 | K14: =ROUNDDOWN(I14*J14*25%,0) -> 0 | N14: =ROUNDDOWN(L14*M14*25%,0) -> 0 | Q14: =ROUNDDOWN(O14*P14*25%,0) -> 0 | T14: =ROUNDDOWN(R14*S14*25%,0) -> 0 | U14: =K14+K15+N14+N15+Q14+Q15+T14+T15 -> 0 | V14: =G14+U14 -> 0 | W14: =D14+G14+U14 -> 0 | Z14: 介護予防通所介護(総合事業の通所事業（現行相当のみ）を含む)
H15: 生保 | I15: 880 | K15: =I15*J15 -> 0 | L15: 550 | N15: =L15*M15 -> 0 | O15: =IF(OR(Q4="介護老人福祉施設サービス",Q4="短期入所生活介護",Q4="介護予防短期入所生活介護"),380,550) -> 550 | Q15: =O15*P15 -> 0 | R15: 0 | T15: =R15*S15 -> 0 | Z15: 介護予防短期入所生活介護
B16: 令和８年７月 | D16: =ROUNDDOWN(C16*25%,0) -> 0 | G16: =ROUNDDOWN(E16*F16*25%,0) -> 0 | H16: 生保以外 | K16: =ROUNDDOWN(I16*J16*25%,0) -> 0 | N16: =ROUNDDOWN(L16*M16*25%,0) -> 0 | Q16: =ROUNDDOWN(O16*P16*25%,0) -> 0 | T16: =ROUNDDOWN(R16*S16*25%,0) -> 0 | U16: =K16+K17+N16+N17+Q16+Q17+T16+T17 -> 0 | V16: =G16+U16 -> 0 | W16: =D16+G16+U16 -> 0 | Z16: 介護予防認知症対応型通所介護
H17: 生保 | I17: 880 | K17: =I17*J17 -> 0 | L17: 550 | N17: =L17*M17 -> 0 | O17: =IF(OR(Q4="介護老人福祉施設サービス",Q4="短期入所生活介護",Q4="介護予防短期入所生活介護"),380,550) -> 550 | Q17: =O17*P17 -> 0 | R17: 0 | T17: =R17*S17 -> 0 | Z17: 介護予防小規模多機能型居宅介護
B18: 令和８年８月 | D18: =ROUNDDOWN(C18*25%,0) -> 0 | G18: =ROUNDDOWN(E18*F18*25%,0) -> 0 | H18: 生保以外 | K18: =ROUNDDOWN(I18*J18*25%,0) -> 0 | N18: =ROUNDDOWN(L18*M18*25%,0) -> 0 | Q18: =ROUNDDOWN(O18*P18*25%,0) -> 0 | T18: =ROUNDDOWN(R18*S18*25%,0) -> 0 | U18: =K18+K19+N18+N19+Q18+Q19+T18+T19 -> 0 | V18: =G18+U18 -> 0 | W18: =D18+G18+U18 -> 0 | Z18: 定期巡回・随時対応型訪問介護看護
H19: 生保 | I19: 880 | K19: =I19*J19 -> 0 | L19: 550 | N19: =L19*M19 -> 0 | O19: =IF(OR(Q4="介護老人福祉施設サービス",Q4="短期入所生活介護",Q4="介護予防短期入所生活介護"),380,550) -> 550 | Q19: =O19*P19 -> 0 | R19: 0 | T19: =R19*S19 -> 0 | Z19: 複合型サービス
B20: 令和８年９月 | D20: =ROUNDDOWN(C20*25%,0) -> 0 | G20: =ROUNDDOWN(E20*F20*25%,0) -> 0 | H20: 生保以外 | K20: =ROUNDDOWN(I20*J20*25%,0) -> 0 | N20: =ROUNDDOWN(L20*M20*25%,0) -> 0 | Q20: =ROUNDDOWN(O20*P20*25%,0) -> 0 | T20: =ROUNDDOWN(R20*S20*25%,0) -> 0 | U20: =K20+K21+N20+N21+Q20+Q21+T20+T21 -> 0 | V20: =G20+U20 -> 0 | W20: =D20+G20+U20 -> 0
H21: 生保 | I21: 880 | K21: =I21*J21 -> 0 | L21: 550 | N21: =L21*M21 -> 0 | O21: =IF(OR(Q4="介護老人福祉施設サービス",Q4="短期入所生活介護",Q4="介護予防短期入所生活介護"),380,550) -> 550 | Q21: =O21*P21 -> 0 | R21: 0 | T21: =R21*S21 -> 0
B22: 令和８年１０月 | D22: =ROUNDDOWN(C22*25%,0) -> 0 | G22: =ROUNDDOWN(E22*F22*25%,0) -> 0 | H22: 生保以外 | K22: =ROUNDDOWN(I22*J22*25%,0) -> 0 | N22: =ROUNDDOWN(L22*M22*25%,0) -> 0 | Q22: =ROUNDDOWN(O22*P22*25%,0) -> 0 | T22: =ROUNDDOWN(R22*S22*25%,0) -> 0 | U22: =K22+K23+N22+N23+Q22+Q23+T22+T23 -> 0 | V22: =G22+U22 -> 0 | W22: =D22+G22+U22 -> 0
H23: 生保 | I23: 880 | K23: =I23*J23 -> 0 | L23: 550 | N23: =L23*M23 -> 0 | O23: =IF(OR(Q4="介護老人福祉施設サービス",Q4="短期入所生活介護",Q4="介護予防短期入所生活介護"),380,550) -> 550 | Q23: =O23*P23 -> 0 | R23: 0 | T23: =R23*S23 -> 0
B24: 令和８年１１月 | D24: =ROUNDDOWN(C24*25%,0) -> 0 | G24: =ROUNDDOWN(E24*F24*25%,0) -> 0 | H24: 生保以外 | K24: =ROUNDDOWN(I24*J24*25%,0) -> 0 | N24: =ROUNDDOWN(L24*M24*25%,0) -> 0 | Q24: =ROUNDDOWN(O24*P24*25%,0) -> 0 | T24: =ROUNDDOWN(R24*S24*25%,0) -> 0 | U24: =K24+K25+N24+N25+Q24+Q25+T24+T25 -> 0 | V24: =G24+U24 -> 0 | W24: =D24+G24+U24 -> 0
H25: 生保 | I25: 880 | K25: =I25*J25 -> 0 | L25: 550 | N25: =L25*M25 -> 0 | O25: =IF(OR(Q4="介護老人福祉施設サービス",Q4="短期入所生活介護",Q4="介護予防短期入所生活介護"),380,550) -> 550 | Q25: =O25*P25 -> 0 | R25: 0 | T25: =R25*S25 -> 0
B26: 令和８年１２月 | D26: =ROUNDDOWN(C26*25%,0) -> 0 | G26: =ROUNDDOWN(E26*F26*25%,0) -> 0 | H26: 生保以外 | K26: =ROUNDDOWN(I26*J26*25%,0) -> 0 | N26: =ROUNDDOWN(L26*M26*25%,0) -> 0 | Q26: =ROUNDDOWN(O26*P26*25%,0) -> 0 | T26: =ROUNDDOWN(R26*S26*25%,0) -> 0 | U26: =K26+K27+N26+N27+Q26+Q27+T26+T27 -> 0 | V26: =G26+U26 -> 0 | W26: =D26+G26+U26 -> 0
H27: 生保 | I27: 880 | K27: =I27*J27 -> 0 | L27: 550 | N27: =L27*M27 -> 0 | O27: =IF(OR(Q4="介護老人福祉施設サービス",Q4="短期入所生活介護",Q4="介護予防短期入所生活介護"),380,550) -> 550 | Q27: =O27*P27 -> 0 | R27: 0 | T27: =R27*S27 -> 0
B28: 令和９年１月 | D28: =ROUNDDOWN(C28*25%,0) -> 0 | G28: =ROUNDDOWN(E28*F28*25%,0) -> 0 | H28: 生保以外 | K28: =ROUNDDOWN(I28*J28*25%,0) -> 0 | N28: =ROUNDDOWN(L28*M28*25%,0) -> 0 | Q28: =ROUNDDOWN(O28*P28*25%,0) -> 0 | T28: =ROUNDDOWN(R28*S28*25%,0) -> 0 | U28: =K28+K29+N28+N29+Q28+Q29+T28+T29 -> 0 | V28: =G28+U28 -> 0 | W28: =D28+G28+U28 -> 0
H29: 生保 | I29: 880 | K29: =I29*J29 -> 0 | L29: 550 | N29: =L29*M29 -> 0 | O29: =IF(OR(Q4="介護老人福祉施設サービス",Q4="短期入所生活介護",Q4="介護予防短期入所生活介護"),380,550) -> 550 | Q29: =O29*P29 -> 0 | R29: 0 | T29: =R29*S29 -> 0
B30: 令和９年２月 | D30: =ROUNDDOWN(C30*25%,0) -> 0 | G30: =ROUNDDOWN(E30*F30*25%,0) -> 0 | H30: 生保以外 | K30: =ROUNDDOWN(I30*J30*25%,0) -> 0 | N30: =ROUNDDOWN(L30*M30*25%,0) -> 0 | Q30: =ROUNDDOWN(O30*P30*25%,0) -> 0 | T30: =ROUNDDOWN(R30*S30*25%,0) -> 0 | U30: =K30+K31+N30+N31+Q30+Q31+T30+T31 -> 0 | V30: =G30+U30 -> 0 | W30: =D30+G30+U30 -> 0
H31: 生保 | I31: 880 | K31: =I31*J31 -> 0 | L31: 550 | N31: =L31*M31 -> 0 | O31: =IF(OR(Q4="介護老人福祉施設サービス",Q4="短期入所生活介護",Q4="介護予防短期入所生活介護"),380,550) -> 550 | Q31: =O31*P31 -> 0 | R31: 0 | T31: =R31*S31 -> 0
B32: 令和９年３月 | D32: =ROUNDDOWN(C32*25%,0) -> 0 | G32: =ROUNDDOWN(E32*F32*25%,0) -> 0 | H32: 生保以外 | K32: =ROUNDDOWN(I32*J32*25%,0) -> 0 | N32: =ROUNDDOWN(L32*M32*25%,0) -> 0 | Q32: =ROUNDDOWN(O32*P32*25%,0) -> 0 | T32: =ROUNDDOWN(R32*S32*25%,0) -> 0 | U32: =K32+K33+N32+N33+Q32+Q33+T32+T33 -> 0 | V32: =G32+U32 -> 0 | W32: =D32+G32+U32 -> 0
H33: 生保 | I33: 880 | K33: =I33*J33 -> 0 | L33: 550 | N33: =L33*M33 -> 0 | O33: =IF(OR(Q4="介護老人福祉施設サービス",Q4="短期入所生活介護",Q4="介護予防短期入所生活介護"),380,550) -> 550 | Q33: =O33*P33 -> 0 | R33: 0 | T33: =R33*S33 -> 0
B34: 合 計 | C34: =SUM(C10:C33) -> 0 | D34: =SUM(D10:D33) -> 0 | G34: =SUM(G10:G33) -> 0 | U34: =SUM(U10:U33) -> 0 | V34: =SUM(V10:V33) -> 0 | W34: =SUM(W10:W33) -> 0
M36: 事務処理欄 | N36: 生保 | O36: 有無 | P36: 期間 | S36: 高額 | T36: 段階 | U36: 期間
B37: 上半期実績 報告用 | C37: サービス費 軽減額 | D37: 食費 軽減額 | E37: 居住費 軽減額 | F37: 食費居住費 軽減総額 | G37: 軽減総額
C38: =SUM(D10:D20)*2 -> 0 | D38: =SUM(G10:G20)*2 -> 0 | E38: =SUM(U10:U20)*2 -> 0 | F38: =SUM(V10:V20)*2 -> 0 | G38: =SUM(W10:W20)*2 -> 0
N39: 社福 | O39: 段階 | P39: 期間 | S39: 負担 限度 | T39: 段階 | U39: 期間
B40: ８年度実績 報告用 | C40: サービス費 軽減額 | D40: 食費 軽減額 | E40: 居住費 軽減額 | F40: 食費居住費 軽減総額 | G40: 軽減総額
C41: =SUM(D10:D32) -> 0 | D41: =SUM(G10:G32) -> 0 | E41: =SUM(U10:U32) -> 0 | F41: =SUM(V10:V32) -> 0 | G41: =SUM(W10:W32) -> 0

Sheet 2氏名
O1: ※上半期調査時は黄色のセル・下半期調査時は オレンジのセルに入力してください。
A2: 1氏名
B4: 被保険者番号： | H4: 事業所番号： | I4: ='1氏名'!I4 -> 0 | O4: 軽減サービス名： | Q4: ='1氏名'!Q4 -> 0
B5: 軽減対象者氏名： | H5: 事業所名： | I5: ='1氏名'!I5 -> 0
B7: 提供年月 | C7: ①サービス費 （利用者負担額×25％） ※小数点以下切捨て ※生活保護受給者は軽減無し ※サービス種別、利用者負担段階によっては軽減無し | E7: ②食費（1日あたりの負担限度額×利用日数×25％） ※小数点以下切捨て ※生活保護受給者は軽減無し ※通所介護の場合は、１日あたりの食費×利用日数 | I7: ③居住費 上段（１日あたりの負担限度額×利用日数×25％） ※生活保護受給の場合は下段（１日あたりの負担限度額×利用日数×100％） | V7: ②＋③計 | W7: ①+②+③ 月毎の軽減総額
I8: ユニット型個室 | L8: ユニット型個室的多床室 | O8: 従来型個室 | R8: 多床室 | U8: 計
C9: 利用者負担額 | D9: 軽減額 | E9: 円/日 | F9: 日数 | G9: 軽減額 | I9: 円/日 | J9: 日数 | K9: 軽減額 | L9: 円/日 | M9: 日数 | N9: 軽減額 | O9: 円/日 | P9: 日数 | Q9: 軽減額 | R9: 円/日 | S9: 日数 | T9: 軽減額
B10: 令和８年４月 | D10: =ROUNDDOWN(C10*25%,0) -> 0 | G10: =ROUNDDOWN(E10*F10*25%,0) -> 0 | H10: 生保以外 | K10: =ROUNDDOWN(I10*J10*25%,0) -> 0 | N10: =ROUNDDOWN(L10*M10*25%,0) -> 0 | Q10: =ROUNDDOWN(O10*P10*25%,0) -> 0 | T10: =ROUNDDOWN(R10*S10*25%,0) -> 0 | U10: =K10+K11+N10+N11+Q10+Q11+T10+T11 -> 0 | V10: =G10+U10 -> 0 | W10: =D10+G10+U10 -> 0
H11: 生保 | I11: 880 | K11: =I11*J11 -> 0 | L11: 550 | N11: =L11*M11 -> 0 | O11: =IF(OR(Q4="介護老人福祉施設サービス",Q4="短期入所生活介護",Q4="介護予防短期入所生活介護"),380,550) -> 550 | Q11: =O11*P11 -> 0 | R11: 0 | T11: =R11*S11 -> 0
B12: 令和８年５月 | D12: =ROUNDDOWN(C12*25%,0) -> 0 | G12: =ROUNDDOWN(E12*F12*25%,0) -> 0 | H12: 生保以外 | K12: =ROUNDDOWN(I12*J12*25%,0) -> 0 | N12: =ROUNDDOWN(L12*M12*25%,0) -> 0 | Q12: =ROUNDDOWN(O12*P12*25%,0) -> 0 | T12: =ROUNDDOWN(R12*S12*25%,0) -> 0 | U12: =K12+K13+N12+N13+Q12+Q13+T12+T13 -> 0 | V12: =G12+U12 -> 0 | W12: =D12+G12+U12 -> 0
H13: 生保 | I13: 880 | K13: =I13*J13 -> 0 | L13: 550 | N13: =L13*M13 -> 0 | O13: =IF(OR(Q4="介護老人福祉施設サービス",Q4="短期入所生活介護",Q4="介護予防短期入所生活介護"),380,550) -> 550 | Q13: =O13*P13 -> 0 | R13: 0 | T13: =R13*S13 -> 0
B14: 令和８年６月 | D14: =ROUNDDOWN(C14*25%,0) -> 0 | G14: =ROUNDDOWN(E14*F14*25%,0) -> 0 | H14: 生保以外 | K14: =ROUNDDOWN(I14*J14*25%,0) -> 0 | N14: =ROUNDDOWN(L14*M14*25%,0) -> 0 | Q14: =ROUNDDOWN(O14*P14*25%,0) -> 0 | T14: =ROUNDDOWN(R14*S14*25%,0) -> 0 | U14: =K14+K15+N14+N15+Q14+Q15+T14+T15 -> 0 | V14: =G14+U14 -> 0 | W14: =D14+G14+U14 -> 0
H15: 生保 | I15: 880 | K15: =I15*J15 -> 0 | L15: 550 | N15: =L15*M15 -> 0 | O15: =IF(OR(Q4="介護老人福祉施設サービス",Q4="短期入所生活介護",Q4="介護予防短期入所生活介護"),380,550) -> 550 | Q15: =O15*P15 -> 0 | R15: 0 | T15: =R15*S15 -> 0
B16: 令和８年７月 | D16: =ROUNDDOWN(C16*25%,0) -> 0 | G16: =ROUNDDOWN(E16*F16*25%,0) -> 0 | H16: 生保以外 | K16: =ROUNDDOWN(I16*J16*25%,0) -> 0 | N16: =ROUNDDOWN(L16*M16*25%,0) -> 0 | Q16: =ROUNDDOWN(O16*P16*25%,0) -> 0 | T16: =ROUNDDOWN(R16*S16*25%,0) -> 0 | U16: =K16+K17+N16+N17+Q16+Q17+T16+T17 -> 0 | V16: =G16+U16 -> 0 | W16: =D16+G16+U16 -> 0
H17: 生保 | I17: 880 | K17: =I17*J17 -> 0 | L17: 550 | N17: =L17*M17 -> 0 | O17: =IF(OR(Q4="介護老人福祉施設サービス",Q4="短期入所生活介護",Q4="介護予防短期入所生活介護"),380,550) -> 550 | Q17: =O17*P17 -> 0 | R17: 0 | T17: =R17*S17 -> 0
B18: 令和８年８月 | D18: =ROUNDDOWN(C18*25%,0) -> 0 | G18: =ROUNDDOWN(E18*F18*25%,0) -> 0 | H18: 生保以外 | K18: =ROUNDDOWN(I18*J18*25%,0) -> 0 | N18: =ROUNDDOWN(L18*M18*25%,0) -> 0 | Q18: =ROUNDDOWN(O18*P18*25%,0) -> 0 | T18: =ROUNDDOWN(R18*S18*25%,0) -> 0 | U18: =K18+K19+N18+N19+Q18+Q19+T18+T19 -> 0 | V18: =G18+U18 -> 0 | W18: =D18+G18+U18 -> 0
H19: 生保 | I19: 880 | K19: =I19*J19 -> 0 | L19: 550 | N19: =L19*M19 -> 0 | O19: =IF(OR(Q4="介護老人福祉施設サービス",Q4="短期入所生活介護",Q4="介護予防短期入所生活介護"),380,550) -> 550 | Q19: =O19*P19 -> 0 | R19: 0 | T19: =R19*S19 -> 0
B20: 令和８年９月 | D20: =ROUNDDOWN(C20*25%,0) -> 0 | G20: =ROUNDDOWN(E20*F20*25%,0) -> 0 | H20: 生保以外 | K20: =ROUNDDOWN(I20*J20*25%,0) -> 0 | N20: =ROUNDDOWN(L20*M20*25%,0) -> 0 | Q20: =ROUNDDOWN(O20*P20*25%,0) -> 0 | T20: =ROUNDDOWN(R20*S20*25%,0) -> 0 | U20: =K20+K21+N20+N21+Q20+Q21+T20+T21 -> 0 | V20: =G20+U20 -> 0 | W20: =D20+G20+U20 -> 0
H21: 生保 | I21: 880 | K21: =I21*J21 -> 0 | L21: 550 | N21: =L21*M21 -> 0 | O21: =IF(OR(Q4="介護老人福祉施設サービス",Q4="短期入所生活介護",Q4="介護予防短期入所生活介護"),380,550) -> 550 | Q21: =O21*P21 -> 0 | R21: 0 | T21: =R21*S21 -> 0
B22: 令和８年１０月 | D22: =ROUNDDOWN(C22*25%,0) -> 0 | G22: =ROUNDDOWN(E22*F22*25%,0) -> 0 | H22: 生保以外 | K22: =ROUNDDOWN(I22*J22*25%,0) -> 0 | N22: =ROUNDDOWN(L22*M22*25%,0) -> 0 | Q22: =ROUNDDOWN(O22*P22*25%,0) -> 0 | T22: =ROUNDDOWN(R22*S22*25%,0) -> 0 | U22: =K22+K23+N22+N23+Q22+Q23+T22+T23 -> 0 | V22: =G22+U22 -> 0 | W22: =D22+G22+U22 -> 0
H23: 生保 | I23: 880 | K23: =I23*J23 -> 0 | L23: 550 | N23: =L23*M23 -> 0 | O23: =IF(OR(Q4="介護老人福祉施設サービス",Q4="短期入所生活介護",Q4="介護予防短期入所生活介護"),380,550) -> 550 | Q23: =O23*P23 -> 0 | R23: 0 | T23: =R23*S23 -> 0
B24: 令和８年１１月 | D24: =ROUNDDOWN(C24*25%,0) -> 0 | G24: =ROUNDDOWN(E24*F24*25%,0) -> 0 | H24: 生保以外 | K24: =ROUNDDOWN(I24*J24*25%,0) -> 0 | N24: =ROUNDDOWN(L24*M24*25%,0) -> 0 | Q24: =ROUNDDOWN(O24*P24*25%,0) -> 0 | T24: =ROUNDDOWN(R24*S24*25%,0) -> 0 | U24: =K24+K25+N24+N25+Q24+Q25+T24+T25 -> 0 | V24: =G24+U24 -> 0 | W24: =D24+G24+U24 -> 0
H25: 生保 | I25: 880 | K25: =I25*J25 -> 0 | L25: 550 | N25: =L25*M25 -> 0 | O25: =IF(OR(Q4="介護老人福祉施設サービス",Q4="短期入所生活介護",Q4="介護予防短期入所生活介護"),380,550) -> 550 | Q25: =O25*P25 -> 0 | R25: 0 | T25: =R25*S25 -> 0
B26: 令和８年１２月 | D26: =ROUNDDOWN(C26*25%,0) -> 0 | G26: =ROUNDDOWN(E26*F26*25%,0) -> 0 | H26: 生保以外 | K26: =ROUNDDOWN(I26*J26*25%,0) -> 0 | N26: =ROUNDDOWN(L26*M26*25%,0) -> 0 | Q26: =ROUNDDOWN(O26*P26*25%,0) -> 0 | T26: =ROUNDDOWN(R26*S26*25%,0) -> 0 | U26: =K26+K27+N26+N27+Q26+Q27+T26+T27 -> 0 | V26: =G26+U26 -> 0 | W26: =D26+G26+U26 -> 0
H27: 生保 | I27: 880 | K27: =I27*J27 -> 0 | L27: 550 | N27: =L27*M27 -> 0 | O27: =IF(OR(Q4="介護老人福祉施設サービス",Q4="短期入所生活介護",Q4="介護予防短期入所生活介護"),380,550) -> 550 | Q27: =O27*P27 -> 0 | R27: 0 | T27: =R27*S27 -> 0
B28: 令和９年１月 | D28: =ROUNDDOWN(C28*25%,0) -> 0 | G28: =ROUNDDOWN(E28*F28*25%,0) -> 0 | H28: 生保以外 | K28: =ROUNDDOWN(I28*J28*25%,0) -> 0 | N28: =ROUNDDOWN(L28*M28*25%,0) -> 0 | Q28: =ROUNDDOWN(O28*P28*25%,0) -> 0 | T28: =ROUNDDOWN(R28*S28*25%,0) -> 0 | U28: =K28+K29+N28+N29+Q28+Q29+T28+T29 -> 0 | V28: =G28+U28 -> 0 | W28: =D28+G28+U28 -> 0
H29: 生保 | I29: 880 | K29: =I29*J29 -> 0 | L29: 550 | N29: =L29*M29 -> 0 | O29: =IF(OR(Q4="介護老人福祉施設サービス",Q4="短期入所生活介護",Q4="介護予防短期入所生活介護"),380,550) -> 550 | Q29: =O29*P29 -> 0 | R29: 0 | T29: =R29*S29 -> 0
B30: 令和９年２月 | D30: =ROUNDDOWN(C30*25%,0) -> 0 | G30: =ROUNDDOWN(E30*F30*25%,0) -> 0 | H30: 生保以外 | K30: =ROUNDDOWN(I30*J30*25%,0) -> 0 | N30: =ROUNDDOWN(L30*M30*25%,0) -> 0 | Q30: =ROUNDDOWN(O30*P30*25%,0) -> 0 | T30: =ROUNDDOWN(R30*S30*25%,0) -> 0 | U30: =K30+K31+N30+N31+Q30+Q31+T30+T31 -> 0 | V30: =G30+U30 -> 0 | W30: =D30+G30+U30 -> 0
H31: 生保 | I31: 880 | K31: =I31*J31 -> 0 | L31: 550 | N31: =L31*M31 -> 0 | O31: =IF(OR(Q4="介護老人福祉施設サービス",Q4="短期入所生活介護",Q4="介護予防短期入所生活介護"),380,550) -> 550 | Q31: =O31*P31 -> 0 | R31: 0 | T31: =R31*S31 -> 0
B32: 令和９年３月 | D32: =ROUNDDOWN(C32*25%,0) -> 0 | G32: =ROUNDDOWN(E32*F32*25%,0) -> 0 | H32: 生保以外 | K32: =ROUNDDOWN(I32*J32*25%,0) -> 0 | N32: =ROUNDDOWN(L32*M32*25%,0) -> 0 | Q32: =ROUNDDOWN(O32*P32*25%,0) -> 0 | T32: =ROUNDDOWN(R32*S32*25%,0) -> 0 | U32: =K32+K33+N32+N33+Q32+Q33+T32+T33 -> 0 | V32: =G32+U32 -> 0 | W32: =D32+G32+U32 -> 0
H33: 生保 | I33: 880 | K33: =I33*J33 -> 0 | L33: 550 | N33: =L33*M33 -> 0 | O33: =IF(OR(Q4="介護老人福祉施設サービス",Q4="短期入所生活介護",Q4="介護予防短期入所生活介護"),380,550) -> 550 | Q33: =O33*P33 -> 0 | R33: 0 | T33: =R33*S33 -> 0
B34: 合 計 | C34: =SUM(C10:C33) -> 0 | D34: =SUM(D10:D33) -> 0 | G34: =SUM(G10:G33) -> 0 | U34: =SUM(U10:U33) -> 0 | V34: =SUM(V10:V33) -> 0 | W34: =SUM(W10:W33) -> 0
M36: 事務処理欄 | N36: 生保 | O36: 有無 | P36: 期間 | S36: 高額 | T36: 段階 | U36: 期間
B37: 上半期実績 報告用 | C37: サービス費 軽減額 | D37: 食費 軽減額 | E37: 居住費 軽減額 | F37: 食費居住費 軽減総額 | G37: 軽減総額
C38: =SUM(D10:D20)*2 -> 0 | D38: =SUM(G10:G20)*2 -> 0 | E38: =SUM(U10:U20)*2 -> 0 | F38: =SUM(V10:V20)*2 -> 0 | G38: =SUM(W10:W20)*2 -> 0
N39: 社福 | O39: 段階 | P39: 期間 | S39: 負担 限度 | T39: 段階 | U39: 期間
B40: ８年度実績 報告用 | C40: サービス費 軽減額 | D40: 食費 軽減額 | E40: 居住費 軽減額 | F40: 食費居住費 軽減総額 | G40: 軽減総額
C41: =SUM(D10:D32) -> 0 | D41: =SUM(G10:G32) -> 0 | E41: =SUM(U10:U32) -> 0 | F41: =SUM(V10:V32) -> 0 | G41: =SUM(W10:W32) -> 0

Sheet 3氏名
O1: ※上半期調査時は黄色のセル・下半期調査時は オレンジのセルに入力してください。
A2: 1氏名
B4: 被保険者番号： | H4: 事業所番号： | I4: ='1氏名'!I4 -> 0 | O4: 軽減サービス名： | Q4: ='1氏名'!Q4 -> 0
B5: 軽減対象者氏名： | H5: 事業所名： | I5: ='1氏名'!I5 -> 0
B7: 提供年月 | C7: ①サービス費 （利用者負担額×25％） ※小数点以下切捨て ※生活保護受給者は軽減無し ※サービス種別、利用者負担段階によっては軽減無し | E7: ②食費（1日あたりの負担限度額×利用日数×25％） ※小数点以下切捨て ※生活保護受給者は軽減無し ※通所介護の場合は、１日あたりの食費×利用日数 | I7: ③居住費 上段（１日あたりの負担限度額×利用日数×25％） ※生活保護受給の場合は下段（１日あたりの負担限度額×利用日数×100％） | V7: ②＋③計 | W7: ①+②+③ 月毎の軽減総額
I8: ユニット型個室 | L8: ユニット型個室的多床室 | O8: 従来型個室 | R8: 多床室 | U8: 計
C9: 利用者負担額 | D9: 軽減額 | E9: 円/日 | F9: 日数 | G9: 軽減額 | I9: 円/日 | J9: 日数 | K9: 軽減額 | L9: 円/日 | M9: 日数 | N9: 軽減額 | O9: 円/日 | P9: 日数 | Q9: 軽減額 | R9: 円/日 | S9: 日数 | T9: 軽減額
B10: 令和８年４月 | D10: =ROUNDDOWN(C10*25%,0) -> 0 | G10: =ROUNDDOWN(E10*F10*25%,0) -> 0 | H10: 生保以外 | K10: =ROUNDDOWN(I10*J10*25%,0) -> 0 | N10: =ROUNDDOWN(L10*M10*25%,0) -> 0 | Q10: =ROUNDDOWN(O10*P10*25%,0) -> 0 | T10: =ROUNDDOWN(R10*S10*25%,0) -> 0 | U10: =K10+K11+N10+N11+Q10+Q11+T10+T11 -> 0 | V10: =G10+U10 -> 0 | W10: =D10+G10+U10 -> 0
H11: 生保 | I11: 880 | K11: =I11*J11 -> 0 | L11: 550 | N11: =L11*M11 -> 0 | O11: =IF(OR(Q4="介護老人福祉施設サービス",Q4="短期入所生活介護",Q4="介護予防短期入所生活介護"),380,550) -> 550 | Q11: =O11*P11 -> 0 | R11: 0 | T11: =R11*S11 -> 0
B12: 令和８年５月 | D12: =ROUNDDOWN(C12*25%,0) -> 0 | G12: =ROUNDDOWN(E12*F12*25%,0) -> 0 | H12: 生保以外 | K12: =ROUNDDOWN(I12*J12*25%,0) -> 0 | N12: =ROUNDDOWN(L12*M12*25%,0) -> 0 | Q12: =ROUNDDOWN(O12*P12*25%,0) -> 0 | T12: =ROUNDDOWN(R12*S12*25%,0) -> 0 | U12: =K12+K13+N12+N13+Q12+Q13+T12+T13 -> 0 | V12: =G12+U12 -> 0 | W12: =D12+G12+U12 -> 0
H13: 生保 | I13: 880 | K13: =I13*J13 -> 0 | L13: 550 | N13: =L13*M13 -> 0 | O13: =IF(OR(Q4="介護老人福祉施設サービス",Q4="短期入所生活介護",Q4="介護予防短期入所生活介護"),380,550) -> 550 | Q13: =O13*P13 -> 0 | R13: 0 | T13: =R13*S13 -> 0
B14: 令和８年６月 | D14: =ROUNDDOWN(C14*25%,0) -> 0 | G14: =ROUNDDOWN(E14*F14*25%,0) -> 0 | H14: 生保以外 | K14: =ROUNDDOWN(I14*J14*25%,0) -> 0 | N14: =ROUNDDOWN(L14*M14*25%,0) -> 0 | Q14: =ROUNDDOWN(O14*P14*25%,0) -> 0 | T14: =ROUNDDOWN(R14*S14*25%,0) -> 0 | U14: =K14+K15+N14+N15+Q14+Q15+T14+T15 -> 0 | V14: =G14+U14 -> 0 | W14: =D14+G14+U14 -> 0
H15: 生保 | I15: 880 | K15: =I15*J15 -> 0 | L15: 550 | N15: =L15*M15 -> 0 | O15: =IF(OR(Q4="介護老人福祉施設サービス",Q4="短期入所生活介護",Q4="介護予防短期入所生活介護"),380,550) -> 550 | Q15: =O15*P15 -> 0 | R15: 0 | T15: =R15*S15 -> 0
B16: 令和８年７月 | D16: =ROUNDDOWN(C16*25%,0) -> 0 | G16: =ROUNDDOWN(E16*F16*25%,0) -> 0 | H16: 生保以外 | K16: =ROUNDDOWN(I16*J16*25%,0) -> 0 | N16: =ROUNDDOWN(L16*M16*25%,0) -> 0 | Q16: =ROUNDDOWN(O16*P16*25%,0) -> 0 | T16: =ROUNDDOWN(R16*S16*25%,0) -> 0 | U16: =K16+K17+N16+N17+Q16+Q17+T16+T17 -> 0 | V16: =G16+U16 -> 0 | W16: =D16+G16+U16 -> 0
H17: 生保 | I17: 880 | K17: =I17*J17 -> 0 | L17: 550 | N17: =L17*M17 -> 0 | O17: =IF(OR(Q4="介護老人福祉施設サービス",Q4="短期入所生活介護",Q4="介護予防短期入所生活介護"),380,550) -> 550 | Q17: =O17*P17 -> 0 | R17: 0 | T17: =R17*S17 -> 0
B18: 令和８年８月 | D18: =ROUNDDOWN(C18*25%,0) -> 0 | G18: =ROUNDDOWN(E18*F18*25%,0) -> 0 | H18: 生保以外 | K18: =ROUNDDOWN(I18*J18*25%,0) -> 0 | N18: =ROUNDDOWN(L18*M18*25%,0) -> 0 | Q18: =ROUNDDOWN(O18*P18*25%,0) -> 0 | T18: =ROUNDDOWN(R18*S18*25%,0) -> 0 | U18: =K18+K19+N18+N19+Q18+Q19+T18+T19 -> 0 | V18: =G18+U18 -> 0 | W18: =D18+G18+U18 -> 0
H19: 生保 | I19: 880 | K19: =I19*J19 -> 0 | L19: 550 | N19: =L19*M19 -> 0 | O19: =IF(OR(Q4="介護老人福祉施設サービス",Q4="短期入所生活介護",Q4="介護予防短期入所生活介護"),380,550) -> 550 | Q19: =O19*P19 -> 0 | R19: 0 | T19: =R19*S19 -> 0
B20: 令和８年９月 | D20: =ROUNDDOWN(C20*25%,0) -> 0 | G20: =ROUNDDOWN(E20*F20*25%,0) -> 0 | H20: 生保以外 | K20: =ROUNDDOWN(I20*J20*25%,0) -> 0 | N20: =ROUNDDOWN(L20*M20*25%,0) -> 0 | Q20: =ROUNDDOWN(O20*P20*25%,0) -> 0 | T20: =ROUNDDOWN(R20*S20*25%,0) -> 0 | U20: =K20+K21+N20+N21+Q20+Q21+T20+T21 -> 0 | V20: =G20+U20 -> 0 | W20: =D20+G20+U20 -> 0
H21: 生保 | I21: 880 | K21: =I21*J21 -> 0 | L21: 550 | N21: =L21*M21 -> 0 | O21: =IF(OR(Q4="介護老人福祉施設サービス",Q4="短期入所生活介護",Q4="介護予防短期入所生活介護"),380,550) -> 550 | Q21: =O21*P21 -> 0 | R21: 0 | T21: =R21*S21 -> 0
B22: 令和８年１０月 | D22: =ROUNDDOWN(C22*25%,0) -> 0 | G22: =ROUNDDOWN(E22*F22*25%,0) -> 0 | H22: 生保以外 | K22: =ROUNDDOWN(I22*J22*25%,0) -> 0 | N22: =ROUNDDOWN(L22*M22*25%,0) -> 0 | Q22: =ROUNDDOWN(O22*P22*25%,0) -> 0 | T22: =ROUNDDOWN(R22*S22*25%,0) -> 0 | U22: =K22+K23+N22+N23+Q22+Q23+T22+T23 -> 0 | V22: =G22+U22 -> 0 | W22: =D22+G22+U22 -> 0
H23: 生保 | I23: 880 | K23: =I23*J23 -> 0 | L23: 550 | N23: =L23*M23 -> 0 | O23: =IF(OR(Q4="介護老人福祉施設サービス",Q4="短期入所生活介護",Q4="介護予防短期入所生活介護"),380,550) -> 550 | Q23: =O23*P23 -> 0 | R23: 0 | T23: =R23*S23 -> 0
B24: 令和８年１１月 | D24: =ROUNDDOWN(C24*25%,0) -> 0 | G24: =ROUNDDOWN(E24*F24*25%,0) -> 0 | H24: 生保以外 | K24: =ROUNDDOWN(I24*J24*25%,0) -> 0 | N24: =ROUNDDOWN(L24*M24*25%,0) -> 0 | Q24: =ROUNDDOWN(O24*P24*25%,0) -> 0 | T24: =ROUNDDOWN(R24*S24*25%,0) -> 0 | U24: =K24+K25+N24+N25+Q24+Q25+T24+T25 -> 0 | V24: =G24+U24 -> 0 | W24: =D24+G24+U24 -> 0
H25: 生保 | I25: 880 | K25: =I25*J25 -> 0 | L25: 550 | N25: =L25*M25 -> 0 | O25: =IF(OR(Q4="介護老人福祉施設サービス",Q4="短期入所生活介護",Q4="介護予防短期入所生活介護"),380,550) -> 550 | Q25: =O25*P25 -> 0 | R25: 0 | T25: =R25*S25 -> 0
B26: 令和８年１２月 | D26: =ROUNDDOWN(C26*25%,0) -> 0 | G26: =ROUNDDOWN(E26*F26*25%,0) -> 0 | H26: 生保以外 | K26: =ROUNDDOWN(I26*J26*25%,0) -> 0 | N26: =ROUNDDOWN(L26*M26*25%,0) -> 0 | Q26: =ROUNDDOWN(O26*P26*25%,0) -> 0 | T26: =ROUNDDOWN(R26*S26*25%,0) -> 0 | U26: =K26+K27+N26+N27+Q26+Q27+T26+T27 -> 0 | V26: =G26+U26 -> 0 | W26: =D26+G26+U26 -> 0
H27: 生保 | I27: 880 | K27: =I27*J27 -> 0 | L27: 550 | N27: =L27*M27 -> 0 | O27: =IF(OR(Q4="介護老人福祉施設サービス",Q4="短期入所生活介護",Q4="介護予防短期入所生活介護"),380,550) -> 550 | Q27: =O27*P27 -> 0 | R27: 0 | T27: =R27*S27 -> 0
B28: 令和９年１月 | D28: =ROUNDDOWN(C28*25%,0) -> 0 | G28: =ROUNDDOWN(E28*F28*25%,0) -> 0 | H28: 生保以外 | K28: =ROUNDDOWN(I28*J28*25%,0) -> 0 | N28: =ROUNDDOWN(L28*M28*25%,0) -> 0 | Q28: =ROUNDDOWN(O28*P28*25%,0) -> 0 | T28: =ROUNDDOWN(R28*S28*25%,0) -> 0 | U28: =K28+K29+N28+N29+Q28+Q29+T28+T29 -> 0 | V28: =G28+U28 -> 0 | W28: =D28+G28+U28 -> 0
H29: 生保 | I29: 880 | K29: =I29*J29 -> 0 | L29: 550 | N29: =L29*M29 -> 0 | O29: =IF(OR(Q4="介護老人福祉施設サービス",Q4="短期入所生活介護",Q4="介護予防短期入所生活介護"),380,550) -> 550 | Q29: =O29*P29 -> 0 | R29: 0 | T29: =R29*S29 -> 0
B30: 令和９年２月 | D30: =ROUNDDOWN(C30*25%,0) -> 0 | G30: =ROUNDDOWN(E30*F30*25%,0) -> 0 | H30: 生保以外 | K30: =ROUNDDOWN(I30*J30*25%,0) -> 0 | N30: =ROUNDDOWN(L30*M30*25%,0) -> 0 | Q30: =ROUNDDOWN(O30*P30*25%,0) -> 0 | T30: =ROUNDDOWN(R30*S30*25%,0) -> 0 | U30: =K30+K31+N30+N31+Q30+Q31+T30+T31 -> 0 | V30: =G30+U30 -> 0 | W30: =D30+G30+U30 -> 0
H31: 生保 | I31: 880 | K31: =I31*J31 -> 0 | L31: 550 | N31: =L31*M31 -> 0 | O31: =IF(OR(Q4="介護老人福祉施設サービス",Q4="短期入所生活介護",Q4="介護予防短期入所生活介護"),380,550) -> 550 | Q31: =O31*P31 -> 0 | R31: 0 | T31: =R31*S31 -> 0
B32: 令和９年３月 | D32: =ROUNDDOWN(C32*25%,0) -> 0 | G32: =ROUNDDOWN(E32*F32*25%,0) -> 0 | H32: 生保以外 | K32: =ROUNDDOWN(I32*J32*25%,0) -> 0 | N32: =ROUNDDOWN(L32*M32*25%,0) -> 0 | Q32: =ROUNDDOWN(O32*P32*25%,0) -> 0 | T32: =ROUNDDOWN(R32*S32*25%,0) -> 0 | U32: =K32+K33+N32+N33+Q32+Q33+T32+T33 -> 0 | V32: =G32+U32 -> 0 | W32: =D32+G32+U32 -> 0
H33: 生保 | I33: 880 | K33: =I33*J33 -> 0 | L33: 550 | N33: =L33*M33 -> 0 | O33: =IF(OR(Q4="介護老人福祉施設サービス",Q4="短期入所生活介護",Q4="介護予防短期入所生活介護"),380,550) -> 550 | Q33: =O33*P33 -> 0 | R33: 0 | T33: =R33*S33 -> 0
B34: 合 計 | C34: =SUM(C10:C33) -> 0 | D34: =SUM(D10:D33) -> 0 | G34: =SUM(G10:G33) -> 0 | U34: =SUM(U10:U33) -> 0 | V34: =SUM(V10:V33) -> 0 | W34: =SUM(W10:W33) -> 0
M36: 事務処理欄 | N36: 生保 | O36: 有無 | P36: 期間 | S36: 高額 | T36: 段階 | U36: 期間
B37: 上半期実績 報告用 | C37: サービス費 軽減額 | D37: 食費 軽減額 | E37: 居住費 軽減額 | F37: 食費居住費 軽減総額 | G37: 軽減総額
C38: =SUM(D10:D20)*2 -> 0 | D38: =SUM(G10:G20)*2 -> 0 | E38: =SUM(U10:U20)*2 -> 0 | F38: =SUM(V10:V20)*2 -> 0 | G38: =SUM(W10:W20)*2 -> 0
N39: 社福 | O39: 段階 | P39: 期間 | S39: 負担 限度 | T39: 段階 | U39: 期間
B40: ８年度実績 報告用 | C40: サービス費 軽減額 | D40: 食費 軽減額 | E40: 居住費 軽減額 | F40: 食費居住費 軽減総額 | G40: 軽減総額
C41: =SUM(D10:D32) -> 0 | D41: =SUM(G10:G32) -> 0 | E41: =SUM(U10:U32) -> 0 | F41: =SUM(V10:V32) -> 0 | G41: =SUM(W10:W32) -> 0

Sheet 4氏名
O1: ※上半期調査時は黄色のセル・下半期調査時は オレンジのセルに入力してください。
A2: 1氏名
B4: 被保険者番号： | H4: 事業所番号： | I4: ='1氏名'!I4 -> 0 | O4: 軽減サービス名： | Q4: ='1氏名'!Q4 -> 0
B5: 軽減対象者氏名： | H5: 事業所名： | I5: ='1氏名'!I5 -> 0
B7: 提供年月 | C7: ①サービス費 （利用者負担額×25％） ※小数点以下切捨て ※生活保護受給者は軽減無し ※サービス種別、利用者負担段階によっては軽減無し | E7: ②食費（1日あたりの負担限度額×利用日数×25％） ※小数点以下切捨て ※生活保護受給者は軽減無し ※通所介護の場合は、１日あたりの食費×利用日数 | I7: ③居住費 上段（１日あたりの負担限度額×利用日数×25％） ※生活保護受給の場合は下段（１日あたりの負担限度額×利用日数×100％） | V7: ②＋③計 | W7: ①+②+③ 月毎の軽減総額
I8: ユニット型個室 | L8: ユニット型個室的多床室 | O8: 従来型個室 | R8: 多床室 | U8: 計
C9: 利用者負担額 | D9: 軽減額 | E9: 円/日 | F9: 日数 | G9: 軽減額 | I9: 円/日 | J9: 日数 | K9: 軽減額 | L9: 円/日 | M9: 日数 | N9: 軽減額 | O9: 円/日 | P9: 日数 | Q9: 軽減額 | R9: 円/日 | S9: 日数 | T9: 軽減額
B10: 令和８年４月 | D10: =ROUNDDOWN(C10*25%,0) -> 0 | G10: =ROUNDDOWN(E10*F10*25%,0) -> 0 | H10: 生保以外 | K10: =ROUNDDOWN(I10*J10*25%,0) -> 0 | N10: =ROUNDDOWN(L10*M10*25%,0) -> 0 | Q10: =ROUNDDOWN(O10*P10*25%,0) -> 0 | T10: =ROUNDDOWN(R10*S10*25%,0) -> 0 | U10: =K10+K11+N10+N11+Q10+Q11+T10+T11 -> 0 | V10: =G10+U10 -> 0 | W10: =D10+G10+U10 -> 0
H11: 生保 | I11: 880 | K11: =I11*J11 -> 0 | L11: 550 | N11: =L11*M11 -> 0 | O11: =IF(OR(Q4="介護老人福祉施設サービス",Q4="短期入所生活介護",Q4="介護予防短期入所生活介護"),380,550) -> 550 | Q11: =O11*P11 -> 0 | R11: 0 | T11: =R11*S11 -> 0
B12: 令和８年５月 | D12: =ROUNDDOWN(C12*25%,0) -> 0 | G12: =ROUNDDOWN(E12*F12*25%,0) -> 0 | H12: 生保以外 | K12: =ROUNDDOWN(I12*J12*25%,0) -> 0 | N12: =ROUNDDOWN(L12*M12*25%,0) -> 0 | Q12: =ROUNDDOWN(O12*P12*25%,0) -> 0 | T12: =ROUNDDOWN(R12*S12*25%,0) -> 0 | U12: =K12+K13+N12+N13+Q12+Q13+T12+T13 -> 0 | V12: =G12+U12 -> 0 | W12: =D12+G12+U12 -> 0
H13: 生保 | I13: 880 | K13: =I13*J13 -> 0 | L13: 550 | N13: =L13*M13 -> 0 | O13: =IF(OR(Q4="介護老人福祉施設サービス",Q4="短期入所生活介護",Q4="介護予防短期入所生活介護"),380,550) -> 550 | Q13: =O13*P13 -> 0 | R13: 0 | T13: =R13*S13 -> 0
B14: 令和８年６月 | D14: =ROUNDDOWN(C14*25%,0) -> 0 | G14: =ROUNDDOWN(E14*F14*25%,0) -> 0 | H14: 生保以外 | K14: =ROUNDDOWN(I14*J14*25%,0) -> 0 | N14: =ROUNDDOWN(L14*M14*25%,0) -> 0 | Q14: =ROUNDDOWN(O14*P14*25%,0) -> 0 | T14: =ROUNDDOWN(R14*S14*25%,0) -> 0 | U14: =K14+K15+N14+N15+Q14+Q15+T14+T15 -> 0 | V14: =G14+U14 -> 0 | W14: =D14+G14+U14 -> 0
H15: 生保 | I15: 880 | K15: =I15*J15 -> 0 | L15: 550 | N15: =L15*M15 -> 0 | O15: =IF(OR(Q4="介護老人福祉施設サービス",Q4="短期入所生活介護",Q4="介護予防短期入所生活介護"),380,550) -> 550 | Q15: =O15*P15 -> 0 | R15: 0 | T15: =R15*S15 -> 0
B16: 令和８年７月 | D16: =ROUNDDOWN(C16*25%,0) -> 0 | G16: =ROUNDDOWN(E16*F16*25%,0) -> 0 | H16: 生保以外 | K16: =ROUNDDOWN(I16*J16*25%,0) -> 0 | N16: =ROUNDDOWN(L16*M16*25%,0) -> 0 | Q16: =ROUNDDOWN(O16*P16*25%,0) -> 0 | T16: =ROUNDDOWN(R16*S16*25%,0) -> 0 | U16: =K16+K17+N16+N17+Q16+Q17+T16+T17 -> 0 | V16: =G16+U16 -> 0 | W16: =D16+G16+U16 -> 0
H17: 生保 | I17: 880 | K17: =I17*J17 -> 0 | L17: 550 | N17: =L17*M17 -> 0 | O17: =IF(OR(Q4="介護老人福祉施設サービス",Q4="短期入所生活介護",Q4="介護予防短期入所生活介護"),380,550) -> 550 | Q17: =O17*P17 -> 0 | R17: 0 | T17: =R17*S17 -> 0
B18: 令和８年８月 | D18: =ROUNDDOWN(C18*25%,0) -> 0 | G18: =ROUNDDOWN(E18*F18*25%,0) -> 0 | H18: 生保以外 | K18: =ROUNDDOWN(I18*J18*25%,0) -> 0 | N18: =ROUNDDOWN(L18*M18*25%,0) -> 0 | Q18: =ROUNDDOWN(O18*P18*25%,0) -> 0 | T18: =ROUNDDOWN(R18*S18*25%,0) -> 0 | U18: =K18+K19+N18+N19+Q18+Q19+T18+T19 -> 0 | V18: =G18+U18 -> 0 | W18: =D18+G18+U18 -> 0
H19: 生保 | I19: 880 | K19: =I19*J19 -> 0 | L19: 550 | N19: =L19*M19 -> 0 | O19: =IF(OR(Q4="介護老人福祉施設サービス",Q4="短期入所生活介護",Q4="介護予防短期入所生活介護"),380,550) -> 550 | Q19: =O19*P19 -> 0 | R19: 0 | T19: =R19*S19 -> 0
B20: 令和８年９月 | D20: =ROUNDDOWN(C20*25%,0) -> 0 | G20: =ROUNDDOWN(E20*F20*25%,0) -> 0 | H20: 生保以外 | K20: =ROUNDDOWN(I20*J20*25%,0) -> 0 | N20: =ROUNDDOWN(L20*M20*25%,0) -> 0 | Q20: =ROUNDDOWN(O20*P20*25%,0) -> 0 | T20: =ROUNDDOWN(R20*S20*25%,0) -> 0 | U20: =K20+K21+N20+N21+Q20+Q21+T20+T21 -> 0 | V20: =G20+U20 -> 0 | W20: =D20+G20+U20 -> 0
H21: 生保 | I21: 880 | K21: =I21*J21 -> 0 | L21: 550 | N21: =L21*M21 -> 0 | O21: =IF(OR(Q4="介護老人福祉施設サービス",Q4="短期入所生活介護",Q4="介護予防短期入所生活介護"),380,550) -> 550 | Q21: =O21*P21 -> 0 | R21: 0 | T21: =R21*S21 -> 0
B22: 令和８年１０月 | D22: =ROUNDDOWN(C22*25%,0) -> 0 | G22: =ROUNDDOWN(E22*F22*25%,0) -> 0 | H22: 生保以外 | K22: =ROUNDDOWN(I22*J22*25%,0) -> 0 | N22: =ROUNDDOWN(L22*M22*25%,0) -> 0 | Q22: =ROUNDDOWN(O22*P22*25%,0) -> 0 | T22: =ROUNDDOWN(R22*S22*25%,0) -> 0 | U22: =K22+K23+N22+N23+Q22+Q23+T22+T23 -> 0 | V22: =G22+U22 -> 0 | W22: =D22+G22+U22 -> 0
H23: 生保 | I23: 880 | K23: =I23*J23 -> 0 | L23: 550 | N23: =L23*M23 -> 0 | O23: =IF(OR(Q4="介護老人福祉施設サービス",Q4="短期入所生活介護",Q4="介護予防短期入所生活介護"),380,550) -> 550 | Q23: =O23*P23 -> 0 | R23: 0 | T23: =R23*S23 -> 0
B24: 令和８年１１月 | D24: =ROUNDDOWN(C24*25%,0) -> 0 | G24: =ROUNDDOWN(E24*F24*25%,0) -> 0 | H24: 生保以外 | K24: =ROUNDDOWN(I24*J24*25%,0) -> 0 | N24: =ROUNDDOWN(L24*M24*25%,0) -> 0 | Q24: =ROUNDDOWN(O24*P24*25%,0) -> 0 | T24: =ROUNDDOWN(R24*S24*25%,0) -> 0 | U24: =K24+K25+N24+N25+Q24+Q25+T24+T25 -> 0 | V24: =G24+U24 -> 0 | W24: =D24+G24+U24 -> 0
H25: 生保 | I25: 880 | K25: =I25*J25 -> 0 | L25: 550 | N25: =L25*M25 -> 0 | O25: =IF(OR(Q4="介護老人福祉施設サービス",Q4="短期入所生活介護",Q4="介護予防短期入所生活介護"),380,550) -> 550 | Q25: =O25*P25 -> 0 | R25: 0 | T25: =R25*S25 -> 0
B26: 令和８年１２月 | D26: =ROUNDDOWN(C26*25%,0) -> 0 | G26: =ROUNDDOWN(E26*F26*25%,0) -> 0 | H26: 生保以外 | K26: =ROUNDDOWN(I26*J26*25%,0) -> 0 | N26: =ROUNDDOWN(L26*M26*25%,0) -> 0 | Q26: =ROUNDDOWN(O26*P26*25%,0) -> 0 | T26: =ROUNDDOWN(R26*S26*25%,0) -> 0 | U26: =K26+K27+N26+N27+Q26+Q27+T26+T27 -> 0 | V26: =G26+U26 -> 0 | W26: =D26+G26+U26 -> 0
H27: 生保 | I27: 880 | K27: =I27*J27 -> 0 | L27: 550 | N27: =L27*M27 -> 0 | O27: =IF(OR(Q4="介護老人福祉施設サービス",Q4="短期入所生活介護",Q4="介護予防短期入所生活介護"),380,550) -> 550 | Q27: =O27*P27 -> 0 | R27: 0 | T27: =R27*S27 -> 0
B28: 令和９年１月 | D28: =ROUNDDOWN(C28*25%,0) -> 0 | G28: =ROUNDDOWN(E28*F28*25%,0) -> 0 | H28: 生保以外 | K28: =ROUNDDOWN(I28*J28*25%,0) -> 0 | N28: =ROUNDDOWN(L28*M28*25%,0) -> 0 | Q28: =ROUNDDOWN(O28*P28*25%,0) -> 0 | T28: =ROUNDDOWN(R28*S28*25%,0) -> 0 | U28: =K28+K29+N28+N29+Q28+Q29+T28+T29 -> 0 | V28: =G28+U28 -> 0 | W28: =D28+G28+U28 -> 0
H29: 生保 | I29: 880 | K29: =I29*J29 -> 0 | L29: 550 | N29: =L29*M29 -> 0 | O29: =IF(OR(Q4="介護老人福祉施設サービス",Q4="短期入所生活介護",Q4="介護予防短期入所生活介護"),380,550) -> 550 | Q29: =O29*P29 -> 0 | R29: 0 | T29: =R29*S29 -> 0
B30: 令和９年２月 | D30: =ROUNDDOWN(C30*25%,0) -> 0 | G30: =ROUNDDOWN(E30*F30*25%,0) -> 0 | H30: 生保以外 | K30: =ROUNDDOWN(I30*J30*25%,0) -> 0 | N30: =ROUNDDOWN(L30*M30*25%,0) -> 0 | Q30: =ROUNDDOWN(O30*P30*25%,0) -> 0 | T30: =ROUNDDOWN(R30*S30*25%,0) -> 0 | U30: =K30+K31+N30+N31+Q30+Q31+T30+T31 -> 0 | V30: =G30+U30 -> 0 | W30: =D30+G30+U30 -> 0
H31: 生保 | I31: 880 | K31: =I31*J31 -> 0 | L31: 550 | N31: =L31*M31 -> 0 | O31: =IF(OR(Q4="介護老人福祉施設サービス",Q4="短期入所生活介護",Q4="介護予防短期入所生活介護"),380,550) -> 550 | Q31: =O31*P31 -> 0 | R31: 0 | T31: =R31*S31 -> 0
B32: 令和９年３月 | D32: =ROUNDDOWN(C32*25%,0) -> 0 | G32: =ROUNDDOWN(E32*F32*25%,0) -> 0 | H32: 生保以外 | K32: =ROUNDDOWN(I32*J32*25%,0) -> 0 | N32: =ROUNDDOWN(L32*M32*25%,0) -> 0 | Q32: =ROUNDDOWN(O32*P32*25%,0) -> 0 | T32: =ROUNDDOWN(R32*S32*25%,0) -> 0 | U32: =K32+K33+N32+N33+Q32+Q33+T32+T33 -> 0 | V32: =G32+U32 -> 0 | W32: =D32+G32+U32 -> 0
H33: 生保 | I33: 880 | K33: =I33*J33 -> 0 | L33: 550 | N33: =L33*M33 -> 0 | O33: =IF(OR(Q4="介護老人福祉施設サービス",Q4="短期入所生活介護",Q4="介護予防短期入所生活介護"),380,550) -> 550 | Q33: =O33*P33 -> 0 | R33: 0 | T33: =R33*S33 -> 0
B34: 合 計 | C34: =SUM(C10:C33) -> 0 | D34: =SUM(D10:D33) -> 0 | G34: =SUM(G10:G33) -> 0 | U34: =SUM(U10:U33) -> 0 | V34: =SUM(V10:V33) -> 0 | W34: =SUM(W10:W33) -> 0
M36: 事務処理欄 | N36: 生保 | O36: 有無 | P36: 期間 | S36: 高額 | T36: 段階 | U36: 期間
B37: 上半期実績 報告用 | C37: サービス費 軽減額 | D37: 食費 軽減額 | E37: 居住費 軽減額 | F37: 食費居住費 軽減総額 | G37: 軽減総額
C38: =SUM(D10:D20)*2 -> 0 | D38: =SUM(G10:G20)*2 -> 0 | E38: =SUM(U10:U20)*2 -> 0 | F38: =SUM(V10:V20)*2 -> 0 | G38: =SUM(W10:W20)*2 -> 0
N39: 社福 | O39: 段階 | P39: 期間 | S39: 負担 限度 | T39: 段階 | U39: 期間
B40: ８年度実績 報告用 | C40: サービス費 軽減額 | D40: 食費 軽減額 | E40: 居住費 軽減額 | F40: 食費居住費 軽減総額 | G40: 軽減総額
C41: =SUM(D10:D32) -> 0 | D41: =SUM(G10:G32) -> 0 | E41: =SUM(U10:U32) -> 0 | F41: =SUM(V10:V32) -> 0 | G41: =SUM(W10:W32) -> 0

Sheet 5氏名
O1: ※上半期調査時は黄色のセル・下半期調査時は オレンジのセルに入力してください。
A2: 1氏名
B4: 被保険者番号： | H4: 事業所番号： | I4: ='1氏名'!I4 -> 0 | O4: 軽減サービス名： | Q4: ='1氏名'!Q4 -> 0
B5: 軽減対象者氏名： | H5: 事業所名： | I5: ='1氏名'!I5 -> 0
B7: 提供年月 | C7: ①サービス費 （利用者負担額×25％） ※小数点以下切捨て ※生活保護受給者は軽減無し ※サービス種別、利用者負担段階によっては軽減無し | E7: ②食費（1日あたりの負担限度額×利用日数×25％） ※小数点以下切捨て ※生活保護受給者は軽減無し ※通所介護の場合は、１日あたりの食費×利用日数 | I7: ③居住費 上段（１日あたりの負担限度額×利用日数×25％） ※生活保護受給の場合は下段（１日あたりの負担限度額×利用日数×100％） | V7: ②＋③計 | W7: ①+②+③ 月毎の軽減総額
I8: ユニット型個室 | L8: ユニット型個室的多床室 | O8: 従来型個室 | R8: 多床室 | U8: 計
C9: 利用者負担額 | D9: 軽減額 | E9: 円/日 | F9: 日数 | G9: 軽減額 | I9: 円/日 | J9: 日数 | K9: 軽減額 | L9: 円/日 | M9: 日数 | N9: 軽減額 | O9: 円/日 | P9: 日数 | Q9: 軽減額 | R9: 円/日 | S9: 日数 | T9: 軽減額
B10: 令和８年４月 | D10: =ROUNDDOWN(C10*25%,0) -> 0 | G10: =ROUNDDOWN(E10*F10*25%,0) -> 0 | H10: 生保以外 | K10: =ROUNDDOWN(I10*J10*25%,0) -> 0 | N10: =ROUNDDOWN(L10*M10*25%,0) -> 0 | Q10: =ROUNDDOWN(O10*P10*25%,0) -> 0 | T10: =ROUNDDOWN(R10*S10*25%,0) -> 0 | U10: =K10+K11+N10+N11+Q10+Q11+T10+T11 -> 0 | V10: =G10+U10 -> 0 | W10: =D10+G10+U10 -> 0
H11: 生保 | I11: 880 | K11: =I11*J11 -> 0 | L11: 550 | N11: =L11*M11 -> 0 | O11: =IF(OR(Q4="介護老人福祉施設サービス",Q4="短期入所生活介護",Q4="介護予防短期入所生活介護"),380,550) -> 550 | Q11: =O11*P11 -> 0 | R11: 0 | T11: =R11*S11 -> 0
B12: 令和８年５月 | D12: =ROUNDDOWN(C12*25%,0) -> 0 | G12: =ROUNDDOWN(E12*F12*25%,0) -> 0 | H12: 生保以外 | K12: =ROUNDDOWN(I12*J12*25%,0) -> 0 | N12: =ROUNDDOWN(L12*M12*25%,0) -> 0 | Q12: =ROUNDDOWN(O12*P12*25%,0) -> 0 | T12: =ROUNDDOWN(R12*S12*25%,0) -> 0 | U12: =K12+K13+N12+N13+Q12+Q13+T12+T13 -> 0 | V12: =G12+U12 -> 0 | W12: =D12+G12+U12 -> 0
H13: 生保 | I13: 880 | K13: =I13*J13 -> 0 | L13: 550 | N13: =L13*M13 -> 0 | O13: =IF(OR(Q4="介護老人福祉施設サービス",Q4="短期入所生活介護",Q4="介護予防短期入所生活介護"),380,550) -> 550 | Q13: =O13*P13 -> 0 | R13: 0 | T13: =R13*S13 -> 0
B14: 令和８年６月 | D14: =ROUNDDOWN(C14*25%,0) -> 0 | G14: =ROUNDDOWN(E14*F14*25%,0) -> 0 | H14: 生保以外 | K14: =ROUNDDOWN(I14*J14*25%,0) -> 0 | N14: =ROUNDDOWN(L14*M14*25%,0) -> 0 | Q14: =ROUNDDOWN(O14*P14*25%,0) -> 0 | T14: =ROUNDDOWN(R14*S14*25%,0) -> 0 | U14: =K14+K15+N14+N15+Q14+Q15+T14+T15 -> 0 | V14: =G14+U14 -> 0 | W14: =D14+G14+U14 -> 0
H15: 生保 | I15: 880 | K15: =I15*J15 -> 0 | L15: 550 | N15: =L15*M15 -> 0 | O15: =IF(OR(Q4="介護老人福祉施設サービス",Q4="短期入所生活介護",Q4="介護予防短期入所生活介護"),380,550) -> 550 | Q15: =O15*P15 -> 0 | R15: 0 | T15: =R15*S15 -> 0
B16: 令和８年７月 | D16: =ROUNDDOWN(C16*25%,0) -> 0 | G16: =ROUNDDOWN(E16*F16*25%,0) -> 0 | H16: 生保以外 | K16: =ROUNDDOWN(I16*J16*25%,0) -> 0 | N16: =ROUNDDOWN(L16*M16*25%,0) -> 0 | Q16: =ROUNDDOWN(O16*P16*25%,0) -> 0 | T16: =ROUNDDOWN(R16*S16*25%,0) -> 0 | U16: =K16+K17+N16+N17+Q16+Q17+T16+T17 -> 0 | V16: =G16+U16 -> 0 | W16: =D16+G16+U16 -> 0
H17: 生保 | I17: 880 | K17: =I17*J17 -> 0 | L17: 550 | N17: =L17*M17 -> 0 | O17: =IF(OR(Q4="介護老人福祉施設サービス",Q4="短期入所生活介護",Q4="介護予防短期入所生活介護"),380,550) -> 550 | Q17: =O17*P17 -> 0 | R17: 0 | T17: =R17*S17 -> 0
B18: 令和８年８月 | D18: =ROUNDDOWN(C18*25%,0) -> 0 | G18: =ROUNDDOWN(E18*F18*25%,0) -> 0 | H18: 生保以外 | K18: =ROUNDDOWN(I18*J18*25%,0) -> 0 | N18: =ROUNDDOWN(L18*M18*25%,0) -> 0 | Q18: =ROUNDDOWN(O18*P18*25%,0) -> 0 | T18: =ROUNDDOWN(R18*S18*25%,0) -> 0 | U18: =K18+K19+N18+N19+Q18+Q19+T18+T19 -> 0 | V18: =G18+U18 -> 0 | W18: =D18+G18+U18 -> 0
H19: 生保 | I19: 880 | K19: =I19*J19 -> 0 | L19: 550 | N19: =L19*M19 -> 0 | O19: =IF(OR(Q4="介護老人福祉施設サービス",Q4="短期入所生活介護",Q4="介護予防短期入所生活介護"),380,550) -> 550 | Q19: =O19*P19 -> 0 | R19: 0 | T19: =R19*S19 -> 0
B20: 令和８年９月 | D20: =ROUNDDOWN(C20*25%,0) -> 0 | G20: =ROUNDDOWN(E20*F20*25%,0) -> 0 | H20: 生保以外 | K20: =ROUNDDOWN(I20*J20*25%,0) -> 0 | N20: =ROUNDDOWN(L20*M20*25%,0) -> 0 | Q20: =ROUNDDOWN(O20*P20*25%,0) -> 0 | T20: =ROUNDDOWN(R20*S20*25%,0) -> 0 | U20: =K20+K21+N20+N21+Q20+Q21+T20+T21 -> 0 | V20: =G20+U20 -> 0 | W20: =D20+G20+U20 -> 0
H21: 生保 | I21: 880 | K21: =I21*J21 -> 0 | L21: 550 | N21: =L21*M21 -> 0 | O21: =IF(OR(Q4="介護老人福祉施設サービス",Q4="短期入所生活介護",Q4="介護予防短期入所生活介護"),380,550) -> 550 | Q21: =O21*P21 -> 0 | R21: 0 | T21: =R21*S21 -> 0
B22: 令和８年１０月 | D22: =ROUNDDOWN(C22*25%,0) -> 0 | G22: =ROUNDDOWN(E22*F22*25%,0) -> 0 | H22: 生保以外 | K22: =ROUNDDOWN(I22*J22*25%,0) -> 0 | N22: =ROUNDDOWN(L22*M22*25%,0) -> 0 | Q22: =ROUNDDOWN(O22*P22*25%,0) -> 0 | T22: =ROUNDDOWN(R22*S22*25%,0) -> 0 | U22: =K22+K23+N22+N23+Q22+Q23+T22+T23 -> 0 | V22: =G22+U22 -> 0 | W22: =D22+G22+U22 -> 0
H23: 生保 | I23: 880 | K23: =I23*J23 -> 0 | L23: 550 | N23: =L23*M23 -> 0 | O23: =IF(OR(Q4="介護老人福祉施設サービス",Q4="短期入所生活介護",Q4="介護予防短期入所生活介護"),380,550) -> 550 | Q23: =O23*P23 -> 0 | R23: 0 | T23: =R23*S23 -> 0
B24: 令和８年１１月 | D24: =ROUNDDOWN(C24*25%,0) -> 0 | G24: =ROUNDDOWN(E24*F24*25%,0) -> 0 | H24: 生保以外 | K24: =ROUNDDOWN(I24*J24*25%,0) -> 0 | N24: =ROUNDDOWN(L24*M24*25%,0) -> 0 | Q24: =ROUNDDOWN(O24*P24*25%,0) -> 0 | T24: =ROUNDDOWN(R24*S24*25%,0) -> 0 | U24: =K24+K25+N24+N25+Q24+Q25+T24+T25 -> 0 | V24: =G24+U24 -> 0 | W24: =D24+G24+U24 -> 0
H25: 生保 | I25: 880 | K25: =I25*J25 -> 0 | L25: 550 | N25: =L25*M25 -> 0 | O25: =IF(OR(Q4="介護老人福祉施設サービス",Q4="短期入所生活介護",Q4="介護予防短期入所生活介護"),380,550) -> 550 | Q25: =O25*P25 -> 0 | R25: 0 | T25: =R25*S25 -> 0
B26: 令和８年１２月 | D26: =ROUNDDOWN(C26*25%,0) -> 0 | G26: =ROUNDDOWN(E26*F26*25%,0) -> 0 | H26: 生保以外 | K26: =ROUNDDOWN(I26*J26*25%,0) -> 0 | N26: =ROUNDDOWN(L26*M26*25%,0) -> 0 | Q26: =ROUNDDOWN(O26*P26*25%,0) -> 0 | T26: =ROUNDDOWN(R26*S26*25%,0) -> 0 | U26: =K26+K27+N26+N27+Q26+Q27+T26+T27 -> 0 | V26: =G26+U26 -> 0 | W26: =D26+G26+U26 -> 0
H27: 生保 | I27: 880 | K27: =I27*J27 -> 0 | L27: 550 | N27: =L27*M27 -> 0 | O27: =IF(OR(Q4="介護老人福祉施設サービス",Q4="短期入所生活介護",Q4="介護予防短期入所生活介護"),380,550) -> 550 | Q27: =O27*P27 -> 0 | R27: 0 | T27: =R27*S27 -> 0
B28: 令和９年１月 | D28: =ROUNDDOWN(C28*25%,0) -> 0 | G28: =ROUNDDOWN(E28*F28*25%,0) -> 0 | H28: 生保以外 | K28: =ROUNDDOWN(I28*J28*25%,0) -> 0 | N28: =ROUNDDOWN(L28*M28*25%,0) -> 0 | Q28: =ROUNDDOWN(O28*P28*25%,0) -> 0 | T28: =ROUNDDOWN(R28*S28*25%,0) -> 0 | U28: =K28+K29+N28+N29+Q28+Q29+T28+T29 -> 0 | V28: =G28+U28 -> 0 | W28: =D28+G28+U28 -> 0
H29: 生保 | I29: 880 | K29: =I29*J29 -> 0 | L29: 550 | N29: =L29*M29 -> 0 | O29: =IF(OR(Q4="介護老人福祉施設サービス",Q4="短期入所生活介護",Q4="介護予防短期入所生活介護"),380,550) -> 550 | Q29: =O29*P29 -> 0 | R29: 0 | T29: =R29*S29 -> 0
B30: 令和９年２月 | D30: =ROUNDDOWN(C30*25%,0) -> 0 | G30: =ROUNDDOWN(E30*F30*25%,0) -> 0 | H30: 生保以外 | K30: =ROUNDDOWN(I30*J30*25%,0) -> 0 | N30: =ROUNDDOWN(L30*M30*25%,0) -> 0 | Q30: =ROUNDDOWN(O30*P30*25%,0) -> 0 | T30: =ROUNDDOWN(R30*S30*25%,0) -> 0 | U30: =K30+K31+N30+N31+Q30+Q31+T30+T31 -> 0 | V30: =G30+U30 -> 0 | W30: =D30+G30+U30 -> 0
H31: 生保 | I31: 880 | K31: =I31*J31 -> 0 | L31: 550 | N31: =L31*M31 -> 0 | O31: =IF(OR(Q4="介護老人福祉施設サービス",Q4="短期入所生活介護",Q4="介護予防短期入所生活介護"),380,550) -> 550 | Q31: =O31*P31 -> 0 | R31: 0 | T31: =R31*S31 -> 0
B32: 令和９年３月 | D32: =ROUNDDOWN(C32*25%,0) -> 0 | G32: =ROUNDDOWN(E32*F32*25%,0) -> 0 | H32: 生保以外 | K32: =ROUNDDOWN(I32*J32*25%,0) -> 0 | N32: =ROUNDDOWN(L32*M32*25%,0) -> 0 | Q32: =ROUNDDOWN(O32*P32*25%,0) -> 0 | T32: =ROUNDDOWN(R32*S32*25%,0) -> 0 | U32: =K32+K33+N32+N33+Q32+Q33+T32+T33 -> 0 | V32: =G32+U32 -> 0 | W32: =D32+G32+U32 -> 0
H33: 生保 | I33: 880 | K33: =I33*J33 -> 0 | L33: 550 | N33: =L33*M33 -> 0 | O33: =IF(OR(Q4="介護老人福祉施設サービス",Q4="短期入所生活介護",Q4="介護予防短期入所生活介護"),380,550) -> 550 | Q33: =O33*P33 -> 0 | R33: 0 | T33: =R33*S33 -> 0
B34: 合 計 | C34: =SUM(C10:C33) -> 0 | D34: =SUM(D10:D33) -> 0 | G34: =SUM(G10:G33) -> 0 | U34: =SUM(U10:U33) -> 0 | V34: =SUM(V10:V33) -> 0 | W34: =SUM(W10:W33) -> 0
M36: 事務処理欄 | N36: 生保 | O36: 有無 | P36: 期間 | S36: 高額 | T36: 段階 | U36: 期間
B37: 上半期実績 報告用 | C37: サービス費 軽減額 | D37: 食費 軽減額 | E37: 居住費 軽減額 | F37: 食費居住費 軽減総額 | G37: 軽減総額
C38: =SUM(D10:D20)*2 -> 0 | D38: =SUM(G10:G20)*2 -> 0 | E38: =SUM(U10:U20)*2 -> 0 | F38: =SUM(V10:V20)*2 -> 0 | G38: =SUM(W10:W20)*2 -> 0
N39: 社福 | O39: 段階 | P39: 期間 | S39: 負担 限度 | T39: 段階 | U39: 期間
B40: ８年度実績 報告用 | C40: サービス費 軽減額 | D40: 食費 軽減額 | E40: 居住費 軽減額 | F40: 食費居住費 軽減総額 | G40: 軽減総額
C41: =SUM(D10:D32) -> 0 | D41: =SUM(G10:G32) -> 0 | E41: =SUM(U10:U32) -> 0 | F41: =SUM(V10:V32) -> 0 | G41: =SUM(W10:W32) -> 0

Sheet 6氏名
O1: ※上半期調査時は黄色のセル・下半期調査時は オレンジのセルに入力してください。
A2: 1氏名
B4: 被保険者番号： | H4: 事業所番号： | I4: ='1氏名'!I4 -> 0 | O4: 軽減サービス名： | Q4: ='1氏名'!Q4 -> 0
B5: 軽減対象者氏名： | H5: 事業所名： | I5: ='1氏名'!I5 -> 0
B7: 提供年月 | C7: ①サービス費 （利用者負担額×25％） ※小数点以下切捨て ※生活保護受給者は軽減無し ※サービス種別、利用者負担段階によっては軽減無し | E7: ②食費（1日あたりの負担限度額×利用日数×25％） ※小数点以下切捨て ※生活保護受給者は軽減無し ※通所介護の場合は、１日あたりの食費×利用日数 | I7: ③居住費 上段（１日あたりの負担限度額×利用日数×25％） ※生活保護受給の場合は下段（１日あたりの負担限度額×利用日数×100％） | V7: ②＋③計 | W7: ①+②+③ 月毎の軽減総額
I8: ユニット型個室 | L8: ユニット型個室的多床室 | O8: 従来型個室 | R8: 多床室 | U8: 計
C9: 利用者負担額 | D9: 軽減額 | E9: 円/日 | F9: 日数 | G9: 軽減額 | I9: 円/日 | J9: 日数 | K9: 軽減額 | L9: 円/日 | M9: 日数 | N9: 軽減額 | O9: 円/日 | P9: 日数 | Q9: 軽減額 | R9: 円/日 | S9: 日数 | T9: 軽減額
B10: 令和８年４月 | D10: =ROUNDDOWN(C10*25%,0) -> 0 | G10: =ROUNDDOWN(E10*F10*25%,0) -> 0 | H10: 生保以外 | K10: =ROUNDDOWN(I10*J10*25%,0) -> 0 | N10: =ROUNDDOWN(L10*M10*25%,0) -> 0 | Q10: =ROUNDDOWN(O10*P10*25%,0) -> 0 | T10: =ROUNDDOWN(R10*S10*25%,0) -> 0 | U10: =K10+K11+N10+N11+Q10+Q11+T10+T11 -> 0 | V10: =G10+U10 -> 0 | W10: =D10+G10+U10 -> 0
H11: 生保 | I11: 880 | K11: =I11*J11 -> 0 | L11: 550 | N11: =L11*M11 -> 0 | O11: =IF(OR(Q4="介護老人福祉施設サービス",Q4="短期入所生活介護",Q4="介護予防短期入所生活介護"),380,550) -> 550 | Q11: =O11*P11 -> 0 | R11: 0 | T11: =R11*S11 -> 0
B12: 令和８年５月 | D12: =ROUNDDOWN(C12*25%,0) -> 0 | G12: =ROUNDDOWN(E12*F12*25%,0) -> 0 | H12: 生保以外 | K12: =ROUNDDOWN(I12*J12*25%,0) -> 0 | N12: =ROUNDDOWN(L12*M12*25%,0) -> 0 | Q12: =ROUNDDOWN(O12*P12*25%,0) -> 0 | T12: =ROUNDDOWN(R12*S12*25%,0) -> 0 | U12: =K12+K13+N12+N13+Q12+Q13+T12+T13 -> 0 | V12: =G12+U12 -> 0 | W12: =D12+G12+U12 -> 0
H13: 生保 | I13: 880 | K13: =I13*J13 -> 0 | L13: 550 | N13: =L13*M13 -> 0 | O13: =IF(OR(Q4="介護老人福祉施設サービス",Q4="短期入所生活介護",Q4="介護予防短期入所生活介護"),380,550) -> 550 | Q13: =O13*P13 -> 0 | R13: 0 | T13: =R13*S13 -> 0
B14: 令和８年６月 | D14: =ROUNDDOWN(C14*25%,0) -> 0 | G14: =ROUNDDOWN(E14*F14*25%,0) -> 0 | H14: 生保以外 | K14: =ROUNDDOWN(I14*J14*25%,0) -> 0 | N14: =ROUNDDOWN(L14*M14*25%,0) -> 0 | Q14: =ROUNDDOWN(O14*P14*25%,0) -> 0 | T14: =ROUNDDOWN(R14*S14*25%,0) -> 0 | U14: =K14+K15+N14+N15+Q14+Q15+T14+T15 -> 0 | V14: =G14+U14 -> 0 | W14: =D14+G14+U14 -> 0
H15: 生保 | I15: 880 | K15: =I15*J15 -> 0 | L15: 550 | N15: =L15*M15 -> 0 | O15: =IF(OR(Q4="介護老人福祉施設サービス",Q4="短期入所生活介護",Q4="介護予防短期入所生活介護"),380,550) -> 550 | Q15: =O15*P15 -> 0 | R15: 0 | T15: =R15*S15 -> 0
B16: 令和８年７月 | D16: =ROUNDDOWN(C16*25%,0) -> 0 | G16: =ROUNDDOWN(E16*F16*25%,0) -> 0 | H16: 生保以外 | K16: =ROUNDDOWN(I16*J16*25%,0) -> 0 | N16: =ROUNDDOWN(L16*M16*25%,0) -> 0 | Q16: =ROUNDDOWN(O16*P16*25%,0) -> 0 | T16: =ROUNDDOWN(R16*S16*25%,0) -> 0 | U16: =K16+K17+N16+N17+Q16+Q17+T16+T17 -> 0 | V16: =G16+U16 -> 0 | W16: =D16+G16+U16 -> 0
H17: 生保 | I17: 880 | K17: =I17*J17 -> 0 | L17: 550 | N17: =L17*M17 -> 0 | O17: =IF(OR(Q4="介護老人福祉施設サービス",Q4="短期入所生活介護",Q4="介護予防短期入所生活介護"),380,550) -> 550 | Q17: =O17*P17 -> 0 | R17: 0 | T17: =R17*S17 -> 0
B18: 令和８年８月 | D18: =ROUNDDOWN(C18*25%,0) -> 0 | G18: =ROUNDDOWN(E18*F18*25%,0) -> 0 | H18: 生保以外 | K18: =ROUNDDOWN(I18*J18*25%,0) -> 0 | N18: =ROUNDDOWN(L18*M18*25%,0) -> 0 | Q18: =ROUNDDOWN(O18*P18*25%,0) -> 0 | T18: =ROUNDDOWN(R18*S18*25%,0) -> 0 | U18: =K18+K19+N18+N19+Q18+Q19+T18+T19 -> 0 | V18: =G18+U18 -> 0 | W18: =D18+G18+U18 -> 0
H19: 生保 | I19: 880 | K19: =I19*J19 -> 0 | L19: 550 | N19: =L19*M19 -> 0 | O19: =IF(OR(Q4="介護老人福祉施設サービス",Q4="短期入所生活介護",Q4="介護予防短期入所生活介護"),380,550) -> 550 | Q19: =O19*P19 -> 0 | R19: 0 | T19: =R19*S19 -> 0
B20: 令和８年９月 | D20: =ROUNDDOWN(C20*25%,0) -> 0 | G20: =ROUNDDOWN(E20*F20*25%,0) -> 0 | H20: 生保以外 | K20: =ROUNDDOWN(I20*J20*25%,0) -> 0 | N20: =ROUNDDOWN(L20*M20*25%,0) -> 0 | Q20: =ROUNDDOWN(O20*P20*25%,0) -> 0 | T20: =ROUNDDOWN(R20*S20*25%,0) -> 0 | U20: =K20+K21+N20+N21+Q20+Q21+T20+T21 -> 0 | V20: =G20+U20 -> 0 | W20: =D20+G20+U20 -> 0
H21: 生保 | I21: 880 | K21: =I21*J21 -> 0 | L21: 550 | N21: =L21*M21 -> 0 | O21: =IF(OR(Q4="介護老人福祉施設サービス",Q4="短期入所生活介護",Q4="介護予防短期入所生活介護"),380,550) -> 550 | Q21: =O21*P21 -> 0 | R21: 0 | T21: =R21*S21 -> 0
B22: 令和８年１０月 | D22: =ROUNDDOWN(C22*25%,0) -> 0 | G22: =ROUNDDOWN(E22*F22*25%,0) -> 0 | H22: 生保以外 | K22: =ROUNDDOWN(I22*J22*25%,0) -> 0 | N22: =ROUNDDOWN(L22*M22*25%,0) -> 0 | Q22: =ROUNDDOWN(O22*P22*25%,0) -> 0 | T22: =ROUNDDOWN(R22*S22*25%,0) -> 0 | U22: =K22+K23+N22+N23+Q22+Q23+T22+T23 -> 0 | V22: =G22+U22 -> 0 | W22: =D22+G22+U22 -> 0
H23: 生保 | I23: 880 | K23: =I23*J23 -> 0 | L23: 550 | N23: =L23*M23 -> 0 | O23: =IF(OR(Q4="介護老人福祉施設サービス",Q4="短期入所生活介護",Q4="介護予防短期入所生活介護"),380,550) -> 550 | Q23: =O23*P23 -> 0 | R23: 0 | T23: =R23*S23 -> 0
B24: 令和８年１１月 | D24: =ROUNDDOWN(C24*25%,0) -> 0 | G24: =ROUNDDOWN(E24*F24*25%,0) -> 0 | H24: 生保以外 | K24: =ROUNDDOWN(I24*J24*25%,0) -> 0 | N24: =ROUNDDOWN(L24*M24*25%,0) -> 0 | Q24: =ROUNDDOWN(O24*P24*25%,0) -> 0 | T24: =ROUNDDOWN(R24*S24*25%,0) -> 0 | U24: =K24+K25+N24+N25+Q24+Q25+T24+T25 -> 0 | V24: =G24+U24 -> 0 | W24: =D24+G24+U24 -> 0
H25: 生保 | I25: 880 | K25: =I25*J25 -> 0 | L25: 550 | N25: =L25*M25 -> 0 | O25: =IF(OR(Q4="介護老人福祉施設サービス",Q4="短期入所生活介護",Q4="介護予防短期入所生活介護"),380,550) -> 550 | Q25: =O25*P25 -> 0 | R25: 0 | T25: =R25*S25 -> 0
B26: 令和８年１２月 | D26: =ROUNDDOWN(C26*25%,0) -> 0 | G26: =ROUNDDOWN(E26*F26*25%,0) -> 0 | H26: 生保以外 | K26: =ROUNDDOWN(I26*J26*25%,0) -> 0 | N26: =ROUNDDOWN(L26*M26*25%,0) -> 0 | Q26: =ROUNDDOWN(O26*P26*25%,0) -> 0 | T26: =ROUNDDOWN(R26*S26*25%,0) -> 0 | U26: =K26+K27+N26+N27+Q26+Q27+T26+T27 -> 0 | V26: =G26+U26 -> 0 | W26: =D26+G26+U26 -> 0
H27: 生保 | I27: 880 | K27: =I27*J27 -> 0 | L27: 550 | N27: =L27*M27 -> 0 | O27: =IF(OR(Q4="介護老人福祉施設サービス",Q4="短期入所生活介護",Q4="介護予防短期入所生活介護"),380,550) -> 550 | Q27: =O27*P27 -> 0 | R27: 0 | T27: =R27*S27 -> 0
B28: 令和９年１月 | D28: =ROUNDDOWN(C28*25%,0) -> 0 | G28: =ROUNDDOWN(E28*F28*25%,0) -> 0 | H28: 生保以外 | K28: =ROUNDDOWN(I28*J28*25%,0) -> 0 | N28: =ROUNDDOWN(L28*M28*25%,0) -> 0 | Q28: =ROUNDDOWN(O28*P28*25%,0) -> 0 | T28: =ROUNDDOWN(R28*S28*25%,0) -> 0 | U28: =K28+K29+N28+N29+Q28+Q29+T28+T29 -> 0 | V28: =G28+U28 -> 0 | W28: =D28+G28+U28 -> 0
H29: 生保 | I29: 880 | K29: =I29*J29 -> 0 | L29: 550 | N29: =L29*M29 -> 0 | O29: =IF(OR(Q4="介護老人福祉施設サービス",Q4="短期入所生活介護",Q4="介護予防短期入所生活介護"),380,550) -> 550 | Q29: =O29*P29 -> 0 | R29: 0 | T29: =R29*S29 -> 0
B30: 令和９年２月 | D30: =ROUNDDOWN(C30*25%,0) -> 0 | G30: =ROUNDDOWN(E30*F30*25%,0) -> 0 | H30: 生保以外 | K30: =ROUNDDOWN(I30*J30*25%,0) -> 0 | N30: =ROUNDDOWN(L30*M30*25%,0) -> 0 | Q30: =ROUNDDOWN(O30*P30*25%,0) -> 0 | T30: =ROUNDDOWN(R30*S30*25%,0) -> 0 | U30: =K30+K31+N30+N31+Q30+Q31+T30+T31 -> 0 | V30: =G30+U30 -> 0 | W30: =D30+G30+U30 -> 0
H31: 生保 | I31: 880 | K31: =I31*J31 -> 0 | L31: 550 | N31: =L31*M31 -> 0 | O31: =IF(OR(Q4="介護老人福祉施設サービス",Q4="短期入所生活介護",Q4="介護予防短期入所生活介護"),380,550) -> 550 | Q31: =O31*P31 -> 0 | R31: 0 | T31: =R31*S31 -> 0
B32: 令和９年３月 | D32: =ROUNDDOWN(C32*25%,0) -> 0 | G32: =ROUNDDOWN(E32*F32*25%,0) -> 0 | H32: 生保以外 | K32: =ROUNDDOWN(I32*J32*25%,0) -> 0 | N32: =ROUNDDOWN(L32*M32*25%,0) -> 0 | Q32: =ROUNDDOWN(O32*P32*25%,0) -> 0 | T32: =ROUNDDOWN(R32*S32*25%,0) -> 0 | U32: =K32+K33+N32+N33+Q32+Q33+T32+T33 -> 0 | V32: =G32+U32 -> 0 | W32: =D32+G32+U32 -> 0
H33: 生保 | I33: 880 | K33: =I33*J33 -> 0 | L33: 550 | N33: =L33*M33 -> 0 | O33: =IF(OR(Q4="介護老人福祉施設サービス",Q4="短期入所生活介護",Q4="介護予防短期入所生活介護"),380,550) -> 550 | Q33: =O33*P33 -> 0 | R33: 0 | T33: =R33*S33 -> 0
B34: 合 計 | C34: =SUM(C10:C33) -> 0 | D34: =SUM(D10:D33) -> 0 | G34: =SUM(G10:G33) -> 0 | U34: =SUM(U10:U33) -> 0 | V34: =SUM(V10:V33) -> 0 | W34: =SUM(W10:W33) -> 0
M36: 事務処理欄 | N36: 生保 | O36: 有無 | P36: 期間 | S36: 高額 | T36: 段階 | U36: 期間
B37: 上半期実績 報告用 | C37: サービス費 軽減額 | D37: 食費 軽減額 | E37: 居住費 軽減額 | F37: 食費居住費 軽減総額 | G37: 軽減総額
C38: =SUM(D10:D20)*2 -> 0 | D38: =SUM(G10:G20)*2 -> 0 | E38: =SUM(U10:U20)*2 -> 0 | F38: =SUM(V10:V20)*2 -> 0 | G38: =SUM(W10:W20)*2 -> 0
N39: 社福 | O39: 段階 | P39: 期間 | S39: 負担 限度 | T39: 段階 | U39: 期間
B40: ８年度実績 報告用 | C40: サービス費 軽減額 | D40: 食費 軽減額 | E40: 居住費 軽減額 | F40: 食費居住費 軽減総額 | G40: 軽減総額
C41: =SUM(D10:D32) -> 0 | D41: =SUM(G10:G32) -> 0 | E41: =SUM(U10:U32) -> 0 | F41: =SUM(V10:V32) -> 0 | G41: =SUM(W10:W32) -> 0

Sheet 7氏名
O1: ※上半期調査時は黄色のセル・下半期調査時は オレンジのセルに入力してください。
A2: 1氏名
B4: 被保険者番号： | H4: 事業所番号： | I4: ='1氏名'!I4 -> 0 | O4: 軽減サービス名： | Q4: ='1氏名'!Q4 -> 0
B5: 軽減対象者氏名： | H5: 事業所名： | I5: ='1氏名'!I5 -> 0
B7: 提供年月 | C7: ①サービス費 （利用者負担額×25％） ※小数点以下切捨て ※生活保護受給者は軽減無し ※サービス種別、利用者負担段階によっては軽減無し | E7: ②食費（1日あたりの負担限度額×利用日数×25％） ※小数点以下切捨て ※生活保護受給者は軽減無し ※通所介護の場合は、１日あたりの食費×利用日数 | I7: ③居住費 上段（１日あたりの負担限度額×利用日数×25％） ※生活保護受給の場合は下段（１日あたりの負担限度額×利用日数×100％） | V7: ②＋③計 | W7: ①+②+③ 月毎の軽減総額
I8: ユニット型個室 | L8: ユニット型個室的多床室 | O8: 従来型個室 | R8: 多床室 | U8: 計
C9: 利用者負担額 | D9: 軽減額 | E9: 円/日 | F9: 日数 | G9: 軽減額 | I9: 円/日 | J9: 日数 | K9: 軽減額 | L9: 円/日 | M9: 日数 | N9: 軽減額 | O9: 円/日 | P9: 日数 | Q9: 軽減額 | R9: 円/日 | S9: 日数 | T9: 軽減額
B10: 令和８年４月 | D10: =ROUNDDOWN(C10*25%,0) -> 0 | G10: =ROUNDDOWN(E10*F10*25%,0) -> 0 | H10: 生保以外 | K10: =ROUNDDOWN(I10*J10*25%,0) -> 0 | N10: =ROUNDDOWN(L10*M10*25%,0) -> 0 | Q10: =ROUNDDOWN(O10*P10*25%,0) -> 0 | T10: =ROUNDDOWN(R10*S10*25%,0) -> 0 | U10: =K10+K11+N10+N11+Q10+Q11+T10+T11 -> 0 | V10: =G10+U10 -> 0 | W10: =D10+G10+U10 -> 0
H11: 生保 | I11: 880 | K11: =I11*J11 -> 0 | L11: 550 | N11: =L11*M11 -> 0 | O11: =IF(OR(Q4="介護老人福祉施設サービス",Q4="短期入所生活介護",Q4="介護予防短期入所生活介護"),380,550) -> 550 | Q11: =O11*P11 -> 0 | R11: 0 | T11: =R11*S11 -> 0
B12: 令和８年５月 | D12: =ROUNDDOWN(C12*25%,0) -> 0 | G12: =ROUNDDOWN(E12*F12*25%,0) -> 0 | H12: 生保以外 | K12: =ROUNDDOWN(I12*J12*25%,0) -> 0 | N12: =ROUNDDOWN(L12*M12*25%,0) -> 0 | Q12: =ROUNDDOWN(O12*P12*25%,0) -> 0 | T12: =ROUNDDOWN(R12*S12*25%,0) -> 0 | U12: =K12+K13+N12+N13+Q12+Q13+T12+T13 -> 0 | V12: =G12+U12 -> 0 | W12: =D12+G12+U12 -> 0
H13: 生保 | I13: 880 | K13: =I13*J13 -> 0 | L13: 550 | N13: =L13*M13 -> 0 | O13: =IF(OR(Q4="介護老人福祉施設サービス",Q4="短期入所生活介護",Q4="介護予防短期入所生活介護"),380,550) -> 550 | Q13: =O13*P13 -> 0 | R13: 0 | T13: =R13*S13 -> 0
B14: 令和８年６月 | D14: =ROUNDDOWN(C14*25%,0) -> 0 | G14: =ROUNDDOWN(E14*F14*25%,0) -> 0 | H14: 生保以外 | K14: =ROUNDDOWN(I14*J14*25%,0) -> 0 | N14: =ROUNDDOWN(L14*M14*25%,0) -> 0 | Q14: =ROUNDDOWN(O14*P14*25%,0) -> 0 | T14: =ROUNDDOWN(R14*S14*25%,0) -> 0 | U14: =K14+K15+N14+N15+Q14+Q15+T14+T15 -> 0 | V14: =G14+U14 -> 0 | W14: =D14+G14+U14 -> 0
H15: 生保 | I15: 880 | K15: =I15*J15 -> 0 | L15: 550 | N15: =L15*M15 -> 0 | O15: =IF(OR(Q4="介護老人福祉施設サービス",Q4="短期入所生活介護",Q4="介護予防短期入所生活介護"),380,550) -> 550 | Q15: =O15*P15 -> 0 | R15: 0 | T15: =R15*S15 -> 0
B16: 令和８年７月 | D16: =ROUNDDOWN(C16*25%,0) -> 0 | G16: =ROUNDDOWN(E16*F16*25%,0) -> 0 | H16: 生保以外 | K16: =ROUNDDOWN(I16*J16*25%,0) -> 0 | N16: =ROUNDDOWN(L16*M16*25%,0) -> 0 | Q16: =ROUNDDOWN(O16*P16*25%,0) -> 0 | T16: =ROUNDDOWN(R16*S16*25%,0) -> 0 | U16: =K16+K17+N16+N17+Q16+Q17+T16+T17 -> 0 | V16: =G16+U16 -> 0 | W16: =D16+G16+U16 -> 0
H17: 生保 | I17: 880 | K17: =I17*J17 -> 0 | L17: 550 | N17: =L17*M17 -> 0 | O17: =IF(OR(Q4="介護老人福祉施設サービス",Q4="短期入所生活介護",Q4="介護予防短期入所生活介護"),380,550) -> 550 | Q17: =O17*P17 -> 0 | R17: 0 | T17: =R17*S17 -> 0
B18: 令和８年８月 | D18: =ROUNDDOWN(C18*25%,0) -> 0 | G18: =ROUNDDOWN(E18*F18*25%,0) -> 0 | H18: 生保以外 | K18: =ROUNDDOWN(I18*J18*25%,0) -> 0 | N18: =ROUNDDOWN(L18*M18*25%,0) -> 0 | Q18: =ROUNDDOWN(O18*P18*25%,0) -> 0 | T18: =ROUNDDOWN(R18*S18*25%,0) -> 0 | U18: =K18+K19+N18+N19+Q18+Q19+T18+T19 -> 0 | V18: =G18+U18 -> 0 | W18: =D18+G18+U18 -> 0
H19: 生保 | I19: 880 | K19: =I19*J19 -> 0 | L19: 550 | N19: =L19*M19 -> 0 | O19: =IF(OR(Q4="介護老人福祉施設サービス",Q4="短期入所生活介護",Q4="介護予防短期入所生活介護"),380,550) -> 550 | Q19: =O19*P19 -> 0 | R19: 0 | T19: =R19*S19 -> 0
B20: 令和８年９月 | D20: =ROUNDDOWN(C20*25%,0) -> 0 | G20: =ROUNDDOWN(E20*F20*25%,0) -> 0 | H20: 生保以外 | K20: =ROUNDDOWN(I20*J20*25%,0) -> 0 | N20: =ROUNDDOWN(L20*M20*25%,0) -> 0 | Q20: =ROUNDDOWN(O20*P20*25%,0) -> 0 | T20: =ROUNDDOWN(R20*S20*25%,0) -> 0 | U20: =K20+K21+N20+N21+Q20+Q21+T20+T21 -> 0 | V20: =G20+U20 -> 0 | W20: =D20+G20+U20 -> 0
H21: 生保 | I21: 880 | K21: =I21*J21 -> 0 | L21: 550 | N21: =L21*M21 -> 0 | O21: =IF(OR(Q4="介護老人福祉施設サービス",Q4="短期入所生活介護",Q4="介護予防短期入所生活介護"),380,550) -> 550 | Q21: =O21*P21 -> 0 | R21: 0 | T21: =R21*S21 -> 0
B22: 令和８年１０月 | D22: =ROUNDDOWN(C22*25%,0) -> 0 | G22: =ROUNDDOWN(E22*F22*25%,0) -> 0 | H22: 生保以外 | K22: =ROUNDDOWN(I22*J22*25%,0) -> 0 | N22: =ROUNDDOWN(L22*M22*25%,0) -> 0 | Q22: =ROUNDDOWN(O22*P22*25%,0) -> 0 | T22: =ROUNDDOWN(R22*S22*25%,0) -> 0 | U22: =K22+K23+N22+N23+Q22+Q23+T22+T23 -> 0 | V22: =G22+U22 -> 0 | W22: =D22+G22+U22 -> 0
H23: 生保 | I23: 880 | K23: =I23*J23 -> 0 | L23: 550 | N23: =L23*M23 -> 0 | O23: =IF(OR(Q4="介護老人福祉施設サービス",Q4="短期入所生活介護",Q4="介護予防短期入所生活介護"),380,550) -> 550 | Q23: =O23*P23 -> 0 | R23: 0 | T23: =R23*S23 -> 0
B24: 令和８年１１月 | D24: =ROUNDDOWN(C24*25%,0) -> 0 | G24: =ROUNDDOWN(E24*F24*25%,0) -> 0 | H24: 生保以外 | K24: =ROUNDDOWN(I24*J24*25%,0) -> 0 | N24: =ROUNDDOWN(L24*M24*25%,0) -> 0 | Q24: =ROUNDDOWN(O24*P24*25%,0) -> 0 | T24: =ROUNDDOWN(R24*S24*25%,0) -> 0 | U24: =K24+K25+N24+N25+Q24+Q25+T24+T25 -> 0 | V24: =G24+U24 -> 0 | W24: =D24+G24+U24 -> 0
H25: 生保 | I25: 880 | K25: =I25*J25 -> 0 | L25: 550 | N25: =L25*M25 -> 0 | O25: =IF(OR(Q4="介護老人福祉施設サービス",Q4="短期入所生活介護",Q4="介護予防短期入所生活介護"),380,550) -> 550 | Q25: =O25*P25 -> 0 | R25: 0 | T25: =R25*S25 -> 0
B26: 令和８年１２月 | D26: =ROUNDDOWN(C26*25%,0) -> 0 | G26: =ROUNDDOWN(E26*F26*25%,0) -> 0 | H26: 生保以外 | K26: =ROUNDDOWN(I26*J26*25%,0) -> 0 | N26: =ROUNDDOWN(L26*M26*25%,0) -> 0 | Q26: =ROUNDDOWN(O26*P26*25%,0) -> 0 | T26: =ROUNDDOWN(R26*S26*25%,0) -> 0 | U26: =K26+K27+N26+N27+Q26+Q27+T26+T27 -> 0 | V26: =G26+U26 -> 0 | W26: =D26+G26+U26 -> 0
H27: 生保 | I27: 880 | K27: =I27*J27 -> 0 | L27: 550 | N27: =L27*M27 -> 0 | O27: =IF(OR(Q4="介護老人福祉施設サービス",Q4="短期入所生活介護",Q4="介護予防短期入所生活介護"),380,550) -> 550 | Q27: =O27*P27 -> 0 | R27: 0 | T27: =R27*S27 -> 0
B28: 令和９年１月 | D28: =ROUNDDOWN(C28*25%,0) -> 0 | G28: =ROUNDDOWN(E28*F28*25%,0) -> 0 | H28: 生保以外 | K28: =ROUNDDOWN(I28*J28*25%,0) -> 0 | N28: =ROUNDDOWN(L28*M28*25%,0) -> 0 | Q28: =ROUNDDOWN(O28*P28*25%,0) -> 0 | T28: =ROUNDDOWN(R28*S28*25%,0) -> 0 | U28: =K28+K29+N28+N29+Q28+Q29+T28+T29 -> 0 | V28: =G28+U28 -> 0 | W28: =D28+G28+U28 -> 0
H29: 生保 | I29: 880 | K29: =I29*J29 -> 0 | L29: 550 | N29: =L29*M29 -> 0 | O29: =IF(OR(Q4="介護老人福祉施設サービス",Q4="短期入所生活介護",Q4="介護予防短期入所生活介護"),380,550) -> 550 | Q29: =O29*P29 -> 0 | R29: 0 | T29: =R29*S29 -> 0
B30: 令和９年２月 | D30: =ROUNDDOWN(C30*25%,0) -> 0 | G30: =ROUNDDOWN(E30*F30*25%,0) -> 0 | H30: 生保以外 | K30: =ROUNDDOWN(I30*J30*25%,0) -> 0 | N30: =ROUNDDOWN(L30*M30*25%,0) -> 0 | Q30: =ROUNDDOWN(O30*P30*25%,0) -> 0 | T30: =ROUNDDOWN(R30*S30*25%,0) -> 0 | U30: =K30+K31+N30+N31+Q30+Q31+T30+T31 -> 0 | V30: =G30+U30 -> 0 | W30: =D30+G30+U30 -> 0
H31: 生保 | I31: 880 | K31: =I31*J31 -> 0 | L31: 550 | N31: =L31*M31 -> 0 | O31: =IF(OR(Q4="介護老人福祉施設サービス",Q4="短期入所生活介護",Q4="介護予防短期入所生活介護"),380,550) -> 550 | Q31: =O31*P31 -> 0 | R31: 0 | T31: =R31*S31 -> 0
B32: 令和９年３月 | D32: =ROUNDDOWN(C32*25%,0) -> 0 | G32: =ROUNDDOWN(E32*F32*25%,0) -> 0 | H32: 生保以外 | K32: =ROUNDDOWN(I32*J32*25%,0) -> 0 | N32: =ROUNDDOWN(L32*M32*25%,0) -> 0 | Q32: =ROUNDDOWN(O32*P32*25%,0) -> 0 | T32: =ROUNDDOWN(R32*S32*25%,0) -> 0 | U32: =K32+K33+N32+N33+Q32+Q33+T32+T33 -> 0 | V32: =G32+U32 -> 0 | W32: =D32+G32+U32 -> 0
H33: 生保 | I33: 880 | K33: =I33*J33 -> 0 | L33: 550 | N33: =L33*M33 -> 0 | O33: =IF(OR(Q4="介護老人福祉施設サービス",Q4="短期入所生活介護",Q4="介護予防短期入所生活介護"),380,550) -> 550 | Q33: =O33*P33 -> 0 | R33: 0 | T33: =R33*S33 -> 0
B34: 合 計 | C34: =SUM(C10:C33) -> 0 | D34: =SUM(D10:D33) -> 0 | G34: =SUM(G10:G33) -> 0 | U34: =SUM(U10:U33) -> 0 | V34: =SUM(V10:V33) -> 0 | W34: =SUM(W10:W33) -> 0
M36: 事務処理欄 | N36: 生保 | O36: 有無 | P36: 期間 | S36: 高額 | T36: 段階 | U36: 期間
B37: 上半期実績 報告用 | C37: サービス費 軽減額 | D37: 食費 軽減額 | E37: 居住費 軽減額 | F37: 食費居住費 軽減総額 | G37: 軽減総額
C38: =SUM(D10:D20)*2 -> 0 | D38: =SUM(G10:G20)*2 -> 0 | E38: =SUM(U10:U20)*2 -> 0 | F38: =SUM(V10:V20)*2 -> 0 | G38: =SUM(W10:W20)*2 -> 0
N39: 社福 | O39: 段階 | P39: 期間 | S39: 負担 限度 | T39: 段階 | U39: 期間
B40: ８年度実績 報告用 | C40: サービス費 軽減額 | D40: 食費 軽減額 | E40: 居住費 軽減額 | F40: 食費居住費 軽減総額 | G40: 軽減総額
C41: =SUM(D10:D32) -> 0 | D41: =SUM(G10:G32) -> 0 | E41: =SUM(U10:U32) -> 0 | F41: =SUM(V10:V32) -> 0 | G41: =SUM(W10:W32) -> 0

Sheet 8氏名
O1: ※上半期調査時は黄色のセル・下半期調査時は オレンジのセルに入力してください。
A2: 1氏名
B4: 被保険者番号： | H4: 事業所番号： | I4: ='1氏名'!I4 -> 0 | O4: 軽減サービス名： | Q4: ='1氏名'!Q4 -> 0
B5: 軽減対象者氏名： | H5: 事業所名： | I5: ='1氏名'!I5 -> 0
B7: 提供年月 | C7: ①サービス費 （利用者負担額×25％） ※小数点以下切捨て ※生活保護受給者は軽減無し ※サービス種別、利用者負担段階によっては軽減無し | E7: ②食費（1日あたりの負担限度額×利用日数×25％） ※小数点以下切捨て ※生活保護受給者は軽減無し ※通所介護の場合は、１日あたりの食費×利用日数 | I7: ③居住費 上段（１日あたりの負担限度額×利用日数×25％） ※生活保護受給の場合は下段（１日あたりの負担限度額×利用日数×100％） | V7: ②＋③計 | W7: ①+②+③ 月毎の軽減総額
I8: ユニット型個室 | L8: ユニット型個室的多床室 | O8: 従来型個室 | R8: 多床室 | U8: 計
C9: 利用者負担額 | D9: 軽減額 | E9: 円/日 | F9: 日数 | G9: 軽減額 | I9: 円/日 | J9: 日数 | K9: 軽減額 | L9: 円/日 | M9: 日数 | N9: 軽減額 | O9: 円/日 | P9: 日数 | Q9: 軽減額 | R9: 円/日 | S9: 日数 | T9: 軽減額
B10: 令和８年４月 | D10: =ROUNDDOWN(C10*25%,0) -> 0 | G10: =ROUNDDOWN(E10*F10*25%,0) -> 0 | H10: 生保以外 | K10: =ROUNDDOWN(I10*J10*25%,0) -> 0 | N10: =ROUNDDOWN(L10*M10*25%,0) -> 0 | Q10: =ROUNDDOWN(O10*P10*25%,0) -> 0 | T10: =ROUNDDOWN(R10*S10*25%,0) -> 0 | U10: =K10+K11+N10+N11+Q10+Q11+T10+T11 -> 0 | V10: =G10+U10 -> 0 | W10: =D10+G10+U10 -> 0
H11: 生保 | I11: 880 | K11: =I11*J11 -> 0 | L11: 550 | N11: =L11*M11 -> 0 | O11: =IF(OR(Q4="介護老人福祉施設サービス",Q4="短期入所生活介護",Q4="介護予防短期入所生活介護"),380,550) -> 550 | Q11: =O11*P11 -> 0 | R11: 0 | T11: =R11*S11 -> 0
B12: 令和８年５月 | D12: =ROUNDDOWN(C12*25%,0) -> 0 | G12: =ROUNDDOWN(E12*F12*25%,0) -> 0 | H12: 生保以外 | K12: =ROUNDDOWN(I12*J12*25%,0) -> 0 | N12: =ROUNDDOWN(L12*M12*25%,0) -> 0 | Q12: =ROUNDDOWN(O12*P12*25%,0) -> 0 | T12: =ROUNDDOWN(R12*S12*25%,0) -> 0 | U12: =K12+K13+N12+N13+Q12+Q13+T12+T13 -> 0 | V12: =G12+U12 -> 0 | W12: =D12+G12+U12 -> 0
H13: 生保 | I13: 880 | K13: =I13*J13 -> 0 | L13: 550 | N13: =L13*M13 -> 0 | O13: =IF(OR(Q4="介護老人福祉施設サービス",Q4="短期入所生活介護",Q4="介護予防短期入所生活介護"),380,550) -> 550 | Q13: =O13*P13 -> 0 | R13: 0 | T13: =R13*S13 -> 0
B14: 令和８年６月 | D14: =ROUNDDOWN(C14*25%,0) -> 0 | G14: =ROUNDDOWN(E14*F14*25%,0) -> 0 | H14: 生保以外 | K14: =ROUNDDOWN(I14*J14*25%,0) -> 0 | N14: =ROUNDDOWN(L14*M14*25%,0) -> 0 | Q14: =ROUNDDOWN(O14*P14*25%,0) -> 0 | T14: =ROUNDDOWN(R14*S14*25%,0) -> 0 | U14: =K14+K15+N14+N15+Q14+Q15+T14+T15 -> 0 | V14: =G14+U14 -> 0 | W14: =D14+G14+U14 -> 0
H15: 生保 | I15: 880 | K15: =I15*J15 -> 0 | L15: 550 | N15: =L15*M15 -> 0 | O15: =IF(OR(Q4="介護老人福祉施設サービス",Q4="短期入所生活介護",Q4="介護予防短期入所生活介護"),380,550) -> 550 | Q15: =O15*P15 -> 0 | R15: 0 | T15: =R15*S15 -> 0
B16: 令和８年７月 | D16: =ROUNDDOWN(C16*25%,0) -> 0 | G16: =ROUNDDOWN(E16*F16*25%,0) -> 0 | H16: 生保以外 | K16: =ROUNDDOWN(I16*J16*25%,0) -> 0 | N16: =ROUNDDOWN(L16*M16*25%,0) -> 0 | Q16: =ROUNDDOWN(O16*P16*25%,0) -> 0 | T16: =ROUNDDOWN(R16*S16*25%,0) -> 0 | U16: =K16+K17+N16+N17+Q16+Q17+T16+T17 -> 0 | V16: =G16+U16 -> 0 | W16: =D16+G16+U16 -> 0
H17: 生保 | I17: 880 | K17: =I17*J17 -> 0 | L17: 550 | N17: =L17*M17 -> 0 | O17: =IF(OR(Q4="介護老人福祉施設サービス",Q4="短期入所生活介護",Q4="介護予防短期入所生活介護"),380,550) -> 550 | Q17: =O17*P17 -> 0 | R17: 0 | T17: =R17*S17 -> 0
B18: 令和８年８月 | D18: =ROUNDDOWN(C18*25%,0) -> 0 | G18: =ROUNDDOWN(E18*F18*25%,0) -> 0 | H18: 生保以外 | K18: =ROUNDDOWN(I18*J18*25%,0) -> 0 | N18: =ROUNDDOWN(L18*M18*25%,0) -> 0 | Q18: =ROUNDDOWN(O18*P18*25%,0) -> 0 | T18: =ROUNDDOWN(R18*S18*25%,0) -> 0 | U18: =K18+K19+N18+N19+Q18+Q19+T18+T19 -> 0 | V18: =G18+U18 -> 0 | W18: =D18+G18+U18 -> 0
H19: 生保 | I19: 880 | K19: =I19*J19 -> 0 | L19: 550 | N19: =L19*M19 -> 0 | O19: =IF(OR(Q4="介護老人福祉施設サービス",Q4="短期入所生活介護",Q4="介護予防短期入所生活介護"),380,550) -> 550 | Q19: =O19*P19 -> 0 | R19: 0 | T19: =R19*S19 -> 0
B20: 令和８年９月 | D20: =ROUNDDOWN(C20*25%,0) -> 0 | G20: =ROUNDDOWN(E20*F20*25%,0) -> 0 | H20: 生保以外 | K20: =ROUNDDOWN(I20*J20*25%,0) -> 0 | N20: =ROUNDDOWN(L20*M20*25%,0) -> 0 | Q20: =ROUNDDOWN(O20*P20*25%,0) -> 0 | T20: =ROUNDDOWN(R20*S20*25%,0) -> 0 | U20: =K20+K21+N20+N21+Q20+Q21+T20+T21 -> 0 | V20: =G20+U20 -> 0 | W20: =D20+G20+U20 -> 0
H21: 生保 | I21: 880 | K21: =I21*J21 -> 0 | L21: 550 | N21: =L21*M21 -> 0 | O21: =IF(OR(Q4="介護老人福祉施設サービス",Q4="短期入所生活介護",Q4="介護予防短期入所生活介護"),380,550) -> 550 | Q21: =O21*P21 -> 0 | R21: 0 | T21: =R21*S21 -> 0
B22: 令和８年１０月 | D22: =ROUNDDOWN(C22*25%,0) -> 0 | G22: =ROUNDDOWN(E22*F22*25%,0) -> 0 | H22: 生保以外 | K22: =ROUNDDOWN(I22*J22*25%,0) -> 0 | N22: =ROUNDDOWN(L22*M22*25%,0) -> 0 | Q22: =ROUNDDOWN(O22*P22*25%,0) -> 0 | T22: =ROUNDDOWN(R22*S22*25%,0) -> 0 | U22: =K22+K23+N22+N23+Q22+Q23+T22+T23 -> 0 | V22: =G22+U22 -> 0 | W22: =D22+G22+U22 -> 0
H23: 生保 | I23: 880 | K23: =I23*J23 -> 0 | L23: 550 | N23: =L23*M23 -> 0 | O23: =IF(OR(Q4="介護老人福祉施設サービス",Q4="短期入所生活介護",Q4="介護予防短期入所生活介護"),380,550) -> 550 | Q23: =O23*P23 -> 0 | R23: 0 | T23: =R23*S23 -> 0
B24: 令和８年１１月 | D24: =ROUNDDOWN(C24*25%,0) -> 0 | G24: =ROUNDDOWN(E24*F24*25%,0) -> 0 | H24: 生保以外 | K24: =ROUNDDOWN(I24*J24*25%,0) -> 0 | N24: =ROUNDDOWN(L24*M24*25%,0) -> 0 | Q24: =ROUNDDOWN(O24*P24*25%,0) -> 0 | T24: =ROUNDDOWN(R24*S24*25%,0) -> 0 | U24: =K24+K25+N24+N25+Q24+Q25+T24+T25 -> 0 | V24: =G24+U24 -> 0 | W24: =D24+G24+U24 -> 0
H25: 生保 | I25: 880 | K25: =I25*J25 -> 0 | L25: 550 | N25: =L25*M25 -> 0 | O25: =IF(OR(Q4="介護老人福祉施設サービス",Q4="短期入所生活介護",Q4="介護予防短期入所生活介護"),380,550) -> 550 | Q25: =O25*P25 -> 0 | R25: 0 | T25: =R25*S25 -> 0
B26: 令和８年１２月 | D26: =ROUNDDOWN(C26*25%,0) -> 0 | G26: =ROUNDDOWN(E26*F26*25%,0) -> 0 | H26: 生保以外 | K26: =ROUNDDOWN(I26*J26*25%,0) -> 0 | N26: =ROUNDDOWN(L26*M26*25%,0) -> 0 | Q26: =ROUNDDOWN(O26*P26*25%,0) -> 0 | T26: =ROUNDDOWN(R26*S26*25%,0) -> 0 | U26: =K26+K27+N26+N27+Q26+Q27+T26+T27 -> 0 | V26: =G26+U26 -> 0 | W26: =D26+G26+U26 -> 0
H27: 生保 | I27: 880 | K27: =I27*J27 -> 0 | L27: 550 | N27: =L27*M27 -> 0 | O27: =IF(OR(Q4="介護老人福祉施設サービス",Q4="短期入所生活介護",Q4="介護予防短期入所生活介護"),380,550) -> 550 | Q27: =O27*P27 -> 0 | R27: 0 | T27: =R27*S27 -> 0
B28: 令和９年１月 | D28: =ROUNDDOWN(C28*25%,0) -> 0 | G28: =ROUNDDOWN(E28*F28*25%,0) -> 0 | H28: 生保以外 | K28: =ROUNDDOWN(I28*J28*25%,0) -> 0 | N28: =ROUNDDOWN(L28*M28*25%,0) -> 0 | Q28: =ROUNDDOWN(O28*P28*25%,0) -> 0 | T28: =ROUNDDOWN(R28*S28*25%,0) -> 0 | U28: =K28+K29+N28+N29+Q28+Q29+T28+T29 -> 0 | V28: =G28+U28 -> 0 | W28: =D28+G28+U28 -> 0
H29: 生保 | I29: 880 | K29: =I29*J29 -> 0 | L29: 550 | N29: =L29*M29 -> 0 | O29: =IF(OR(Q4="介護老人福祉施設サービス",Q4="短期入所生活介護",Q4="介護予防短期入所生活介護"),380,550) -> 550 | Q29: =O29*P29 -> 0 | R29: 0 | T29: =R29*S29 -> 0
B30: 令和９年２月 | D30: =ROUNDDOWN(C30*25%,0) -> 0 | G30: =ROUNDDOWN(E30*F30*25%,0) -> 0 | H30: 生保以外 | K30: =ROUNDDOWN(I30*J30*25%,0) -> 0 | N30: =ROUNDDOWN(L30*M30*25%,0) -> 0 | Q30: =ROUNDDOWN(O30*P30*25%,0) -> 0 | T30: =ROUNDDOWN(R30*S30*25%,0) -> 0 | U30: =K30+K31+N30+N31+Q30+Q31+T30+T31 -> 0 | V30: =G30+U30 -> 0 | W30: =D30+G30+U30 -> 0
H31: 生保 | I31: 880 | K31: =I31*J31 -> 0 | L31: 550 | N31: =L31*M31 -> 0 | O31: =IF(OR(Q4="介護老人福祉施設サービス",Q4="短期入所生活介護",Q4="介護予防短期入所生活介護"),380,550) -> 550 | Q31: =O31*P31 -> 0 | R31: 0 | T31: =R31*S31 -> 0
B32: 令和９年３月 | D32: =ROUNDDOWN(C32*25%,0) -> 0 | G32: =ROUNDDOWN(E32*F32*25%,0) -> 0 | H32: 生保以外 | K32: =ROUNDDOWN(I32*J32*25%,0) -> 0 | N32: =ROUNDDOWN(L32*M32*25%,0) -> 0 | Q32: =ROUNDDOWN(O32*P32*25%,0) -> 0 | T32: =ROUNDDOWN(R32*S32*25%,0) -> 0 | U32: =K32+K33+N32+N33+Q32+Q33+T32+T33 -> 0 | V32: =G32+U32 -> 0 | W32: =D32+G32+U32 -> 0
H33: 生保 | I33: 880 | K33: =I33*J33 -> 0 | L33: 550 | N33: =L33*M33 -> 0 | O33: =IF(OR(Q4="介護老人福祉施設サービス",Q4="短期入所生活介護",Q4="介護予防短期入所生活介護"),380,550) -> 550 | Q33: =O33*P33 -> 0 | R33: 0 | T33: =R33*S33 -> 0
B34: 合 計 | C34: =SUM(C10:C33) -> 0 | D34: =SUM(D10:D33) -> 0 | G34: =SUM(G10:G33) -> 0 | U34: =SUM(U10:U33) -> 0 | V34: =SUM(V10:V33) -> 0 | W34: =SUM(W10:W33) -> 0
M36: 事務処理欄 | N36: 生保 | O36: 有無 | P36: 期間 | S36: 高額 | T36: 段階 | U36: 期間
B37: 上半期実績 報告用 | C37: サービス費 軽減額 | D37: 食費 軽減額 | E37: 居住費 軽減額 | F37: 食費居住費 軽減総額 | G37: 軽減総額
C38: =SUM(D10:D20)*2 -> 0 | D38: =SUM(G10:G20)*2 -> 0 | E38: =SUM(U10:U20)*2 -> 0 | F38: =SUM(V10:V20)*2 -> 0 | G38: =SUM(W10:W20)*2 -> 0
N39: 社福 | O39: 段階 | P39: 期間 | S39: 負担 限度 | T39: 段階 | U39: 期間
B40: ８年度実績 報告用 | C40: サービス費 軽減額 | D40: 食費 軽減額 | E40: 居住費 軽減額 | F40: 食費居住費 軽減総額 | G40: 軽減総額
C41: =SUM(D10:D32) -> 0 | D41: =SUM(G10:G32) -> 0 | E41: =SUM(U10:U32) -> 0 | F41: =SUM(V10:V32) -> 0 | G41: =SUM(W10:W32) -> 0

Sheet 9氏名
O1: ※上半期調査時は黄色のセル・下半期調査時は オレンジのセルに入力してください。
A2: 1氏名
B4: 被保険者番号： | H4: 事業所番号： | I4: ='1氏名'!I4 -> 0 | O4: 軽減サービス名： | Q4: ='1氏名'!Q4 -> 0
B5: 軽減対象者氏名： | H5: 事業所名： | I5: ='1氏名'!I5 -> 0
B7: 提供年月 | C7: ①サービス費 （利用者負担額×25％） ※小数点以下切捨て ※生活保護受給者は軽減無し ※サービス種別、利用者負担段階によっては軽減無し | E7: ②食費（1日あたりの負担限度額×利用日数×25％） ※小数点以下切捨て ※生活保護受給者は軽減無し ※通所介護の場合は、１日あたりの食費×利用日数 | I7: ③居住費 上段（１日あたりの負担限度額×利用日数×25％） ※生活保護受給の場合は下段（１日あたりの負担限度額×利用日数×100％） | V7: ②＋③計 | W7: ①+②+③ 月毎の軽減総額
I8: ユニット型個室 | L8: ユニット型個室的多床室 | O8: 従来型個室 | R8: 多床室 | U8: 計
C9: 利用者負担額 | D9: 軽減額 | E9: 円/日 | F9: 日数 | G9: 軽減額 | I9: 円/日 | J9: 日数 | K9: 軽減額 | L9: 円/日 | M9: 日数 | N9: 軽減額 | O9: 円/日 | P9: 日数 | Q9: 軽減額 | R9: 円/日 | S9: 日数 | T9: 軽減額
B10: 令和８年４月 | D10: =ROUNDDOWN(C10*25%,0) -> 0 | G10: =ROUNDDOWN(E10*F10*25%,0) -> 0 | H10: 生保以外 | K10: =ROUNDDOWN(I10*J10*25%,0) -> 0 | N10: =ROUNDDOWN(L10*M10*25%,0) -> 0 | Q10: =ROUNDDOWN(O10*P10*25%,0) -> 0 | T10: =ROUNDDOWN(R10*S10*25%,0) -> 0 | U10: =K10+K11+N10+N11+Q10+Q11+T10+T11 -> 0 | V10: =G10+U10 -> 0 | W10: =D10+G10+U10 -> 0
H11: 生保 | I11: 880 | K11: =I11*J11 -> 0 | L11: 550 | N11: =L11*M11 -> 0 | O11: =IF(OR(Q4="介護老人福祉施設サービス",Q4="短期入所生活介護",Q4="介護予防短期入所生活介護"),380,550) -> 550 | Q11: =O11*P11 -> 0 | R11: 0 | T11: =R11*S11 -> 0
B12: 令和８年５月 | D12: =ROUNDDOWN(C12*25%,0) -> 0 | G12: =ROUNDDOWN(E12*F12*25%,0) -> 0 | H12: 生保以外 | K12: =ROUNDDOWN(I12*J12*25%,0) -> 0 | N12: =ROUNDDOWN(L12*M12*25%,0) -> 0 | Q12: =ROUNDDOWN(O12*P12*25%,0) -> 0 | T12: =ROUNDDOWN(R12*S12*25%,0) -> 0 | U12: =K12+K13+N12+N13+Q12+Q13+T12+T13 -> 0 | V12: =G12+U12 -> 0 | W12: =D12+G12+U12 -> 0
H13: 生保 | I13: 880 | K13: =I13*J13 -> 0 | L13: 550 | N13: =L13*M13 -> 0 | O13: =IF(OR(Q4="介護老人福祉施設サービス",Q4="短期入所生活介護",Q4="介護予防短期入所生活介護"),380,550) -> 550 | Q13: =O13*P13 -> 0 | R13: 0 | T13: =R13*S13 -> 0
B14: 令和８年６月 | D14: =ROUNDDOWN(C14*25%,0) -> 0 | G14: =ROUNDDOWN(E14*F14*25%,0) -> 0 | H14: 生保以外 | K14: =ROUNDDOWN(I14*J14*25%,0) -> 0 | N14: =ROUNDDOWN(L14*M14*25%,0) -> 0 | Q14: =ROUNDDOWN(O14*P14*25%,0) -> 0 | T14: =ROUNDDOWN(R14*S14*25%,0) -> 0 | U14: =K14+K15+N14+N15+Q14+Q15+T14+T15 -> 0 | V14: =G14+U14 -> 0 | W14: =D14+G14+U14 -> 0
H15: 生保 | I15: 880 | K15: =I15*J15 -> 0 | L15: 550 | N15: =L15*M15 -> 0 | O15: =IF(OR(Q4="介護老人福祉施設サービス",Q4="短期入所生活介護",Q4="介護予防短期入所生活介護"),380,550) -> 550 | Q15: =O15*P15 -> 0 | R15: 0 | T15: =R15*S15 -> 0
B16: 令和８年７月 | D16: =ROUNDDOWN(C16*25%,0) -> 0 | G16: =ROUNDDOWN(E16*F16*25%,0) -> 0 | H16: 生保以外 | K16: =ROUNDDOWN(I16*J16*25%,0) -> 0 | N16: =ROUNDDOWN(L16*M16*25%,0) -> 0 | Q16: =ROUNDDOWN(O16*P16*25%,0) -> 0 | T16: =ROUNDDOWN(R16*S16*25%,0) -> 0 | U16: =K16+K17+N16+N17+Q16+Q17+T16+T17 -> 0 | V16: =G16+U16 -> 0 | W16: =D16+G16+U16 -> 0
H17: 生保 | I17: 880 | K17: =I17*J17 -> 0 | L17: 550 | N17: =L17*M17 -> 0 | O17: =IF(OR(Q4="介護老人福祉施設サービス",Q4="短期入所生活介護",Q4="介護予防短期入所生活介護"),380,550) -> 550 | Q17: =O17*P17 -> 0 | R17: 0 | T17: =R17*S17 -> 0
B18: 令和８年８月 | D18: =ROUNDDOWN(C18*25%,0) -> 0 | G18: =ROUNDDOWN(E18*F18*25%,0) -> 0 | H18: 生保以外 | K18: =ROUNDDOWN(I18*J18*25%,0) -> 0 | N18: =ROUNDDOWN(L18*M18*25%,0) -> 0 | Q18: =ROUNDDOWN(O18*P18*25%,0) -> 0 | T18: =ROUNDDOWN(R18*S18*25%,0) -> 0 | U18: =K18+K19+N18+N19+Q18+Q19+T18+T19 -> 0 | V18: =G18+U18 -> 0 | W18: =D18+G18+U18 -> 0
H19: 生保 | I19: 880 | K19: =I19*J19 -> 0 | L19: 550 | N19: =L19*M19 -> 0 | O19: =IF(OR(Q4="介護老人福祉施設サービス",Q4="短期入所生活介護",Q4="介護予防短期入所生活介護"),380,550) -> 550 | Q19: =O19*P19 -> 0 | R19: 0 | T19: =R19*S19 -> 0
B20: 令和８年９月 | D20: =ROUNDDOWN(C20*25%,0) -> 0 | G20: =ROUNDDOWN(E20*F20*25%,0) -> 0 | H20: 生保以外 | K20: =ROUNDDOWN(I20*J20*25%,0) -> 0 | N20: =ROUNDDOWN(L20*M20*25%,0) -> 0 | Q20: =ROUNDDOWN(O20*P20*25%,0) -> 0 | T20: =ROUNDDOWN(R20*S20*25%,0) -> 0 | U20: =K20+K21+N20+N21+Q20+Q21+T20+T21 -> 0 | V20: =G20+U20 -> 0 | W20: =D20+G20+U20 -> 0
H21: 生保 | I21: 880 | K21: =I21*J21 -> 0 | L21: 550 | N21: =L21*M21 -> 0 | O21: =IF(OR(Q4="介護老人福祉施設サービス",Q4="短期入所生活介護",Q4="介護予防短期入所生活介護"),380,550) -> 550 | Q21: =O21*P21 -> 0 | R21: 0 | T21: =R21*S21 -> 0
B22: 令和８年１０月 | D22: =ROUNDDOWN(C22*25%,0) -> 0 | G22: =ROUNDDOWN(E22*F22*25%,0) -> 0 | H22: 生保以外 | K22: =ROUNDDOWN(I22*J22*25%,0) -> 0 | N22: =ROUNDDOWN(L22*M22*25%,0) -> 0 | Q22: =ROUNDDOWN(O22*P22*25%,0) -> 0 | T22: =ROUNDDOWN(R22*S22*25%,0) -> 0 | U22: =K22+K23+N22+N23+Q22+Q23+T22+T23 -> 0 | V22: =G22+U22 -> 0 | W22: =D22+G22+U22 -> 0
H23: 生保 | I23: 880 | K23: =I23*J23 -> 0 | L23: 550 | N23: =L23*M23 -> 0 | O23: =IF(OR(Q4="介護老人福祉施設サービス",Q4="短期入所生活介護",Q4="介護予防短期入所生活介護"),380,550) -> 550 | Q23: =O23*P23 -> 0 | R23: 0 | T23: =R23*S23 -> 0
B24: 令和８年１１月 | D24: =ROUNDDOWN(C24*25%,0) -> 0 | G24: =ROUNDDOWN(E24*F24*25%,0) -> 0 | H24: 生保以外 | K24: =ROUNDDOWN(I24*J24*25%,0) -> 0 | N24: =ROUNDDOWN(L24*M24*25%,0) -> 0 | Q24: =ROUNDDOWN(O24*P24*25%,0) -> 0 | T24: =ROUNDDOWN(R24*S24*25%,0) -> 0 | U24: =K24+K25+N24+N25+Q24+Q25+T24+T25 -> 0 | V24: =G24+U24 -> 0 | W24: =D24+G24+U24 -> 0
H25: 生保 | I25: 880 | K25: =I25*J25 -> 0 | L25: 550 | N25: =L25*M25 -> 0 | O25: =IF(OR(Q4="介護老人福祉施設サービス",Q4="短期入所生活介護",Q4="介護予防短期入所生活介護"),380,550) -> 550 | Q25: =O25*P25 -> 0 | R25: 0 | T25: =R25*S25 -> 0
B26: 令和８年１２月 | D26: =ROUNDDOWN(C26*25%,0) -> 0 | G26: =ROUNDDOWN(E26*F26*25%,0) -> 0 | H26: 生保以外 | K26: =ROUNDDOWN(I26*J26*25%,0) -> 0 | N26: =ROUNDDOWN(L26*M26*25%,0) -> 0 | Q26: =ROUNDDOWN(O26*P26*25%,0) -> 0 | T26: =ROUNDDOWN(R26*S26*25%,0) -> 0 | U26: =K26+K27+N26+N27+Q26+Q27+T26+T27 -> 0 | V26: =G26+U26 -> 0 | W26: =D26+G26+U26 -> 0
H27: 生保 | I27: 880 | K27: =I27*J27 -> 0 | L27: 550 | N27: =L27*M27 -> 0 | O27: =IF(OR(Q4="介護老人福祉施設サービス",Q4="短期入所生活介護",Q4="介護予防短期入所生活介護"),380,550) -> 550 | Q27: =O27*P27 -> 0 | R27: 0 | T27: =R27*S27 -> 0
B28: 令和９年１月 | D28: =ROUNDDOWN(C28*25%,0) -> 0 | G28: =ROUNDDOWN(E28*F28*25%,0) -> 0 | H28: 生保以外 | K28: =ROUNDDOWN(I28*J28*25%,0) -> 0 | N28: =ROUNDDOWN(L28*M28*25%,0) -> 0 | Q28: =ROUNDDOWN(O28*P28*25%,0) -> 0 | T28: =ROUNDDOWN(R28*S28*25%,0) -> 0 | U28: =K28+K29+N28+N29+Q28+Q29+T28+T29 -> 0 | V28: =G28+U28 -> 0 | W28: =D28+G28+U28 -> 0
H29: 生保 | I29: 880 | K29: =I29*J29 -> 0 | L29: 550 | N29: =L29*M29 -> 0 | O29: =IF(OR(Q4="介護老人福祉施設サービス",Q4="短期入所生活介護",Q4="介護予防短期入所生活介護"),380,550) -> 550 | Q29: =O29*P29 -> 0 | R29: 0 | T29: =R29*S29 -> 0
B30: 令和９年２月 | D30: =ROUNDDOWN(C30*25%,0) -> 0 | G30: =ROUNDDOWN(E30*F30*25%,0) -> 0 | H30: 生保以外 | K30: =ROUNDDOWN(I30*J30*25%,0) -> 0 | N30: =ROUNDDOWN(L30*M30*25%,0) -> 0 | Q30: =ROUNDDOWN(O30*P30*25%,0) -> 0 | T30: =ROUNDDOWN(R30*S30*25%,0) -> 0 | U30: =K30+K31+N30+N31+Q30+Q31+T30+T31 -> 0 | V30: =G30+U30 -> 0 | W30: =D30+G30+U30 -> 0
H31: 生保 | I31: 880 | K31: =I31*J31 -> 0 | L31: 550 | N31: =L31*M31 -> 0 | O31: =IF(OR(Q4="介護老人福祉施設サービス",Q4="短期入所生活介護",Q4="介護予防短期入所生活介護"),380,550) -> 550 | Q31: =O31*P31 -> 0 | R31: 0 | T31: =R31*S31 -> 0
B32: 令和９年３月 | D32: =ROUNDDOWN(C32*25%,0) -> 0 | G32: =ROUNDDOWN(E32*F32*25%,0) -> 0 | H32: 生保以外 | K32: =ROUNDDOWN(I32*J32*25%,0) -> 0 | N32: =ROUNDDOWN(L32*M32*25%,0) -> 0 | Q32: =ROUNDDOWN(O32*P32*25%,0) -> 0 | T32: =ROUNDDOWN(R32*S32*25%,0) -> 0 | U32: =K32+K33+N32+N33+Q32+Q33+T32+T33 -> 0 | V32: =G32+U32 -> 0 | W32: =D32+G32+U32 -> 0
H33: 生保 | I33: 880 | K33: =I33*J33 -> 0 | L33: 550 | N33: =L33*M33 -> 0 | O33: =IF(OR(Q4="介護老人福祉施設サービス",Q4="短期入所生活介護",Q4="介護予防短期入所生活介護"),380,550) -> 550 | Q33: =O33*P33 -> 0 | R33: 0 | T33: =R33*S33 -> 0
B34: 合 計 | C34: =SUM(C10:C33) -> 0 | D34: =SUM(D10:D33) -> 0 | G34: =SUM(G10:G33) -> 0 | U34: =SUM(U10:U33) -> 0 | V34: =SUM(V10:V33) -> 0 | W34: =SUM(W10:W33) -> 0
M36: 事務処理欄 | N36: 生保 | O36: 有無 | P36: 期間 | S36: 高額 | T36: 段階 | U36: 期間
B37: 上半期実績 報告用 | C37: サービス費 軽減額 | D37: 食費 軽減額 | E37: 居住費 軽減額 | F37: 食費居住費 軽減総額 | G37: 軽減総額
C38: =SUM(D10:D20)*2 -> 0 | D38: =SUM(G10:G20)*2 -> 0 | E38: =SUM(U10:U20)*2 -> 0 | F38: =SUM(V10:V20)*2 -> 0 | G38: =SUM(W10:W20)*2 -> 0
N39: 社福 | O39: 段階 | P39: 期間 | S39: 負担 限度 | T39: 段階 | U39: 期間
B40: ８年度実績 報告用 | C40: サービス費 軽減額 | D40: 食費 軽減額 | E40: 居住費 軽減額 | F40: 食費居住費 軽減総額 | G40: 軽減総額
C41: =SUM(D10:D32) -> 0 | D41: =SUM(G10:G32) -> 0 | E41: =SUM(U10:U32) -> 0 | F41: =SUM(V10:V32) -> 0 | G41: =SUM(W10:W32) -> 0

Sheet 10氏名
O1: ※上半期調査時は黄色のセル・下半期調査時は オレンジのセルに入力してください。
A2: 1氏名
B4: 被保険者番号： | H4: 事業所番号： | I4: ='1氏名'!I4 -> 0 | O4: 軽減サービス名： | Q4: ='1氏名'!Q4 -> 0
B5: 軽減対象者氏名： | H5: 事業所名： | I5: ='1氏名'!I5 -> 0
B7: 提供年月 | C7: ①サービス費 （利用者負担額×25％） ※小数点以下切捨て ※生活保護受給者は軽減無し ※サービス種別、利用者負担段階によっては軽減無し | E7: ②食費（1日あたりの負担限度額×利用日数×25％） ※小数点以下切捨て ※生活保護受給者は軽減無し ※通所介護の場合は、１日あたりの食費×利用日数 | I7: ③居住費 上段（１日あたりの負担限度額×利用日数×25％） ※生活保護受給の場合は下段（１日あたりの負担限度額×利用日数×100％） | V7: ②＋③計 | W7: ①+②+③ 月毎の軽減総額
I8: ユニット型個室 | L8: ユニット型個室的多床室 | O8: 従来型個室 | R8: 多床室 | U8: 計
C9: 利用者負担額 | D9: 軽減額 | E9: 円/日 | F9: 日数 | G9: 軽減額 | I9: 円/日 | J9: 日数 | K9: 軽減額 | L9: 円/日 | M9: 日数 | N9: 軽減額 | O9: 円/日 | P9: 日数 | Q9: 軽減額 | R9: 円/日 | S9: 日数 | T9: 軽減額
B10: 令和８年４月 | D10: =ROUNDDOWN(C10*25%,0) -> 0 | G10: =ROUNDDOWN(E10*F10*25%,0) -> 0 | H10: 生保以外 | K10: =ROUNDDOWN(I10*J10*25%,0) -> 0 | N10: =ROUNDDOWN(L10*M10*25%,0) -> 0 | Q10: =ROUNDDOWN(O10*P10*25%,0) -> 0 | T10: =ROUNDDOWN(R10*S10*25%,0) -> 0 | U10: =K10+K11+N10+N11+Q10+Q11+T10+T11 -> 0 | V10: =G10+U10 -> 0 | W10: =D10+G10+U10 -> 0
H11: 生保 | I11: 880 | K11: =I11*J11 -> 0 | L11: 550 | N11: =L11*M11 -> 0 | O11: =IF(OR(Q4="介護老人福祉施設サービス",Q4="短期入所生活介護",Q4="介護予防短期入所生活介護"),380,550) -> 550 | Q11: =O11*P11 -> 0 | R11: 0 | T11: =R11*S11 -> 0
B12: 令和８年５月 | D12: =ROUNDDOWN(C12*25%,0) -> 0 | G12: =ROUNDDOWN(E12*F12*25%,0) -> 0 | H12: 生保以外 | K12: =ROUNDDOWN(I12*J12*25%,0) -> 0 | N12: =ROUNDDOWN(L12*M12*25%,0) -> 0 | Q12: =ROUNDDOWN(O12*P12*25%,0) -> 0 | T12: =ROUNDDOWN(R12*S12*25%,0) -> 0 | U12: =K12+K13+N12+N13+Q12+Q13+T12+T13 -> 0 | V12: =G12+U12 -> 0 | W12: =D12+G12+U12 -> 0
H13: 生保 | I13: 880 | K13: =I13*J13 -> 0 | L13: 550 | N13: =L13*M13 -> 0 | O13: =IF(OR(Q4="介護老人福祉施設サービス",Q4="短期入所生活介護",Q4="介護予防短期入所生活介護"),380,550) -> 550 | Q13: =O13*P13 -> 0 | R13: 0 | T13: =R13*S13 -> 0
B14: 令和８年６月 | D14: =ROUNDDOWN(C14*25%,0) -> 0 | G14: =ROUNDDOWN(E14*F14*25%,0) -> 0 | H14: 生保以外 | K14: =ROUNDDOWN(I14*J14*25%,0) -> 0 | N14: =ROUNDDOWN(L14*M14*25%,0) -> 0 | Q14: =ROUNDDOWN(O14*P14*25%,0) -> 0 | T14: =ROUNDDOWN(R14*S14*25%,0) -> 0 | U14: =K14+K15+N14+N15+Q14+Q15+T14+T15 -> 0 | V14: =G14+U14 -> 0 | W14: =D14+G14+U14 -> 0
H15: 生保 | I15: 880 | K15: =I15*J15 -> 0 | L15: 550 | N15: =L15*M15 -> 0 | O15: =IF(OR(Q4="介護老人福祉施設サービス",Q4="短期入所生活介護",Q4="介護予防短期入所生活介護"),380,550) -> 550 | Q15: =O15*P15 -> 0 | R15: 0 | T15: =R15*S15 -> 0
B16: 令和８年７月 | D16: =ROUNDDOWN(C16*25%,0) -> 0 | G16: =ROUNDDOWN(E16*F16*25%,0) -> 0 | H16: 生保以外 | K16: =ROUNDDOWN(I16*J16*25%,0) -> 0 | N16: =ROUNDDOWN(L16*M16*25%,0) -> 0 | Q16: =ROUNDDOWN(O16*P16*25%,0) -> 0 | T16: =ROUNDDOWN(R16*S16*25%,0) -> 0 | U16: =K16+K17+N16+N17+Q16+Q17+T16+T17 -> 0 | V16: =G16+U16 -> 0 | W16: =D16+G16+U16 -> 0
H17: 生保 | I17: 880 | K17: =I17*J17 -> 0 | L17: 550 | N17: =L17*M17 -> 0 | O17: =IF(OR(Q4="介護老人福祉施設サービス",Q4="短期入所生活介護",Q4="介護予防短期入所生活介護"),380,550) -> 550 | Q17: =O17*P17 -> 0 | R17: 0 | T17: =R17*S17 -> 0
B18: 令和８年８月 | D18: =ROUNDDOWN(C18*25%,0) -> 0 | G18: =ROUNDDOWN(E18*F18*25%,0) -> 0 | H18: 生保以外 | K18: =ROUNDDOWN(I18*J18*25%,0) -> 0 | N18: =ROUNDDOWN(L18*M18*25%,0) -> 0 | Q18: =ROUNDDOWN(O18*P18*25%,0) -> 0 | T18: =ROUNDDOWN(R18*S18*25%,0) -> 0 | U18: =K18+K19+N18+N19+Q18+Q19+T18+T19 -> 0 | V18: =G18+U18 -> 0 | W18: =D18+G18+U18 -> 0
H19: 生保 | I19: 880 | K19: =I19*J19 -> 0 | L19: 550 | N19: =L19*M19 -> 0 | O19: =IF(OR(Q4="介護老人福祉施設サービス",Q4="短期入所生活介護",Q4="介護予防短期入所生活介護"),380,550) -> 550 | Q19: =O19*P19 -> 0 | R19: 0 | T19: =R19*S19 -> 0
B20: 令和８年９月 | D20: =ROUNDDOWN(C20*25%,0) -> 0 | G20: =ROUNDDOWN(E20*F20*25%,0) -> 0 | H20: 生保以外 | K20: =ROUNDDOWN(I20*J20*25%,0) -> 0 | N20: =ROUNDDOWN(L20*M20*25%,0) -> 0 | Q20: =ROUNDDOWN(O20*P20*25%,0) -> 0 | T20: =ROUNDDOWN(R20*S20*25%,0) -> 0 | U20: =K20+K21+N20+N21+Q20+Q21+T20+T21 -> 0 | V20: =G20+U20 -> 0 | W20: =D20+G20+U20 -> 0
H21: 生保 | I21: 880 | K21: =I21*J21 -> 0 | L21: 550 | N21: =L21*M21 -> 0 | O21: =IF(OR(Q4="介護老人福祉施設サービス",Q4="短期入所生活介護",Q4="介護予防短期入所生活介護"),380,550) -> 550 | Q21: =O21*P21 -> 0 | R21: 0 | T21: =R21*S21 -> 0
B22: 令和８年１０月 | D22: =ROUNDDOWN(C22*25%,0) -> 0 | G22: =ROUNDDOWN(E22*F22*25%,0) -> 0 | H22: 生保以外 | K22: =ROUNDDOWN(I22*J22*25%,0) -> 0 | N22: =ROUNDDOWN(L22*M22*25%,0) -> 0 | Q22: =ROUNDDOWN(O22*P22*25%,0) -> 0 | T22: =ROUNDDOWN(R22*S22*25%,0) -> 0 | U22: =K22+K23+N22+N23+Q22+Q23+T22+T23 -> 0 | V22: =G22+U22 -> 0 | W22: =D22+G22+U22 -> 0
H23: 生保 | I23: 880 | K23: =I23*J23 -> 0 | L23: 550 | N23: =L23*M23 -> 0 | O23: =IF(OR(Q4="介護老人福祉施設サービス",Q4="短期入所生活介護",Q4="介護予防短期入所生活介護"),380,550) -> 550 | Q23: =O23*P23 -> 0 | R23: 0 | T23: =R23*S23 -> 0
B24: 令和８年１１月 | D24: =ROUNDDOWN(C24*25%,0) -> 0 | G24: =ROUNDDOWN(E24*F24*25%,0) -> 0 | H24: 生保以外 | K24: =ROUNDDOWN(I24*J24*25%,0) -> 0 | N24: =ROUNDDOWN(L24*M24*25%,0) -> 0 | Q24: =ROUNDDOWN(O24*P24*25%,0) -> 0 | T24: =ROUNDDOWN(R24*S24*25%,0) -> 0 | U24: =K24+K25+N24+N25+Q24+Q25+T24+T25 -> 0 | V24: =G24+U24 -> 0 | W24: =D24+G24+U24 -> 0
H25: 生保 | I25: 880 | K25: =I25*J25 -> 0 | L25: 550 | N25: =L25*M25 -> 0 | O25: =IF(OR(Q4="介護老人福祉施設サービス",Q4="短期入所生活介護",Q4="介護予防短期入所生活介護"),380,550) -> 550 | Q25: =O25*P25 -> 0 | R25: 0 | T25: =R25*S25 -> 0
B26: 令和８年１２月 | D26: =ROUNDDOWN(C26*25%,0) -> 0 | G26: =ROUNDDOWN(E26*F26*25%,0) -> 0 | H26: 生保以外 | K26: =ROUNDDOWN(I26*J26*25%,0) -> 0 | N26: =ROUNDDOWN(L26*M26*25%,0) -> 0 | Q26: =ROUNDDOWN(O26*P26*25%,0) -> 0 | T26: =ROUNDDOWN(R26*S26*25%,0) -> 0 | U26: =K26+K27+N26+N27+Q26+Q27+T26+T27 -> 0 | V26: =G26+U26 -> 0 | W26: =D26+G26+U26 -> 0
H27: 生保 | I27: 880 | K27: =I27*J27 -> 0 | L27: 550 | N27: =L27*M27 -> 0 | O27: =IF(OR(Q4="介護老人福祉施設サービス",Q4="短期入所生活介護",Q4="介護予防短期入所生活介護"),380,550) -> 550 | Q27: =O27*P27 -> 0 | R27: 0 | T27: =R27*S27 -> 0
B28: 令和９年１月 | D28: =ROUNDDOWN(C28*25%,0) -> 0 | G28: =ROUNDDOWN(E28*F28*25%,0) -> 0 | H28: 生保以外 | K28: =ROUNDDOWN(I28*J28*25%,0) -> 0 | N28: =ROUNDDOWN(L28*M28*25%,0) -> 0 | Q28: =ROUNDDOWN(O28*P28*25%,0) -> 0 | T28: =ROUNDDOWN(R28*S28*25%,0) -> 0 | U28: =K28+K29+N28+N29+Q28+Q29+T28+T29 -> 0 | V28: =G28+U28 -> 0 | W28: =D28+G28+U28 -> 0
H29: 生保 | I29: 880 | K29: =I29*J29 -> 0 | L29: 550 | N29: =L29*M29 -> 0 | O29: =IF(OR(Q4="介護老人福祉施設サービス",Q4="短期入所生活介護",Q4="介護予防短期入所生活介護"),380,550) -> 550 | Q29: =O29*P29 -> 0 | R29: 0 | T29: =R29*S29 -> 0
B30: 令和９年２月 | D30: =ROUNDDOWN(C30*25%,0) -> 0 | G30: =ROUNDDOWN(E30*F30*25%,0) -> 0 | H30: 生保以外 | K30: =ROUNDDOWN(I30*J30*25%,0) -> 0 | N30: =ROUNDDOWN(L30*M30*25%,0) -> 0 | Q30: =ROUNDDOWN(O30*P30*25%,0) -> 0 | T30: =ROUNDDOWN(R30*S30*25%,0) -> 0 | U30: =K30+K31+N30+N31+Q30+Q31+T30+T31 -> 0 | V30: =G30+U30 -> 0 | W30: =D30+G30+U30 -> 0
H31: 生保 | I31: 880 | K31: =I31*J31 -> 0 | L31: 550 | N31: =L31*M31 -> 0 | O31: =IF(OR(Q4="介護老人福祉施設サービス",Q4="短期入所生活介護",Q4="介護予防短期入所生活介護"),380,550) -> 550 | Q31: =O31*P31 -> 0 | R31: 0 | T31: =R31*S31 -> 0
B32: 令和９年３月 | D32: =ROUNDDOWN(C32*25%,0) -> 0 | G32: =ROUNDDOWN(E32*F32*25%,0) -> 0 | H32: 生保以外 | K32: =ROUNDDOWN(I32*J32*25%,0) -> 0 | N32: =ROUNDDOWN(L32*M32*25%,0) -> 0 | Q32: =ROUNDDOWN(O32*P32*25%,0) -> 0 | T32: =ROUNDDOWN(R32*S32*25%,0) -> 0 | U32: =K32+K33+N32+N33+Q32+Q33+T32+T33 -> 0 | V32: =G32+U32 -> 0 | W32: =D32+G32+U32 -> 0
H33: 生保 | I33: 880 | K33: =I33*J33 -> 0 | L33: 550 | N33: =L33*M33 -> 0 | O33: =IF(OR(Q4="介護老人福祉施設サービス",Q4="短期入所生活介護",Q4="介護予防短期入所生活介護"),380,550) -> 550 | Q33: =O33*P33 -> 0 | R33: 0 | T33: =R33*S33 -> 0
B34: 合 計 | C34: =SUM(C10:C33) -> 0 | D34: =SUM(D10:D33) -> 0 | G34: =SUM(G10:G33) -> 0 | U34: =SUM(U10:U33) -> 0 | V34: =SUM(V10:V33) -> 0 | W34: =SUM(W10:W33) -> 0
M36: 事務処理欄 | N36: 生保 | O36: 有無 | P36: 期間 | S36: 高額 | T36: 段階 | U36: 期間
B37: 上半期実績 報告用 | C37: サービス費 軽減額 | D37: 食費 軽減額 | E37: 居住費 軽減額 | F37: 食費居住費 軽減総額 | G37: 軽減総額
C38: =SUM(D10:D20)*2 -> 0 | D38: =SUM(G10:G20)*2 -> 0 | E38: =SUM(U10:U20)*2 -> 0 | F38: =SUM(V10:V20)*2 -> 0 | G38: =SUM(W10:W20)*2 -> 0
N39: 社福 | O39: 段階 | P39: 期間 | S39: 負担 限度 | T39: 段階 | U39: 期間
B40: ８年度実績 報告用 | C40: サービス費 軽減額 | D40: 食費 軽減額 | E40: 居住費 軽減額 | F40: 食費居住費 軽減総額 | G40: 軽減総額
C41: =SUM(D10:D32) -> 0 | D41: =SUM(G10:G32) -> 0 | E41: =SUM(U10:U32) -> 0 | F41: =SUM(V10:V32) -> 0 | G41: =SUM(W10:W32) -> 0

Sheet 11氏名
O1: ※上半期調査時は黄色のセル・下半期調査時は オレンジのセルに入力してください。
A2: 1氏名
B4: 被保険者番号： | H4: 事業所番号： | I4: ='1氏名'!I4 -> 0 | O4: 軽減サービス名： | Q4: ='1氏名'!Q4 -> 0
B5: 軽減対象者氏名： | H5: 事業所名： | I5: ='1氏名'!I5 -> 0
B7: 提供年月 | C7: ①サービス費 （利用者負担額×25％） ※小数点以下切捨て ※生活保護受給者は軽減無し ※サービス種別、利用者負担段階によっては軽減無し | E7: ②食費（1日あたりの負担限度額×利用日数×25％） ※小数点以下切捨て ※生活保護受給者は軽減無し ※通所介護の場合は、１日あたりの食費×利用日数 | I7: ③居住費 上段（１日あたりの負担限度額×利用日数×25％） ※生活保護受給の場合は下段（１日あたりの負担限度額×利用日数×100％） | V7: ②＋③計 | W7: ①+②+③ 月毎の軽減総額
I8: ユニット型個室 | L8: ユニット型個室的多床室 | O8: 従来型個室 | R8: 多床室 | U8: 計
C9: 利用者負担額 | D9: 軽減額 | E9: 円/日 | F9: 日数 | G9: 軽減額 | I9: 円/日 | J9: 日数 | K9: 軽減額 | L9: 円/日 | M9: 日数 | N9: 軽減額 | O9: 円/日 | P9: 日数 | Q9: 軽減額 | R9: 円/日 | S9: 日数 | T9: 軽減額
B10: 令和８年４月 | D10: =ROUNDDOWN(C10*25%,0) -> 0 | G10: =ROUNDDOWN(E10*F10*25%,0) -> 0 | H10: 生保以外 | K10: =ROUNDDOWN(I10*J10*25%,0) -> 0 | N10: =ROUNDDOWN(L10*M10*25%,0) -> 0 | Q10: =ROUNDDOWN(O10*P10*25%,0) -> 0 | T10: =ROUNDDOWN(R10*S10*25%,0) -> 0 | U10: =K10+K11+N10+N11+Q10+Q11+T10+T11 -> 0 | V10: =G10+U10 -> 0 | W10: =D10+G10+U10 -> 0
H11: 生保 | I11: 880 | K11: =I11*J11 -> 0 | L11: 550 | N11: =L11*M11 -> 0 | O11: =IF(OR(Q4="介護老人福祉施設サービス",Q4="短期入所生活介護",Q4="介護予防短期入所生活介護"),380,550) -> 550 | Q11: =O11*P11 -> 0 | R11: 0 | T11: =R11*S11 -> 0
B12: 令和８年５月 | D12: =ROUNDDOWN(C12*25%,0) -> 0 | G12: =ROUNDDOWN(E12*F12*25%,0) -> 0 | H12: 生保以外 | K12: =ROUNDDOWN(I12*J12*25%,0) -> 0 | N12: =ROUNDDOWN(L12*M12*25%,0) -> 0 | Q12: =ROUNDDOWN(O12*P12*25%,0) -> 0 | T12: =ROUNDDOWN(R12*S12*25%,0) -> 0 | U12: =K12+K13+N12+N13+Q12+Q13+T12+T13 -> 0 | V12: =G12+U12 -> 0 | W12: =D12+G12+U12 -> 0
H13: 生保 | I13: 880 | K13: =I13*J13 -> 0 | L13: 550 | N13: =L13*M13 -> 0 | O13: =IF(OR(Q4="介護老人福祉施設サービス",Q4="短期入所生活介護",Q4="介護予防短期入所生活介護"),380,550) -> 550 | Q13: =O13*P13 -> 0 | R13: 0 | T13: =R13*S13 -> 0
B14: 令和８年６月 | D14: =ROUNDDOWN(C14*25%,0) -> 0 | G14: =ROUNDDOWN(E14*F14*25%,0) -> 0 | H14: 生保以外 | K14: =ROUNDDOWN(I14*J14*25%,0) -> 0 | N14: =ROUNDDOWN(L14*M14*25%,0) -> 0 | Q14: =ROUNDDOWN(O14*P14*25%,0) -> 0 | T14: =ROUNDDOWN(R14*S14*25%,0) -> 0 | U14: =K14+K15+N14+N15+Q14+Q15+T14+T15 -> 0 | V14: =G14+U14 -> 0 | W14: =D14+G14+U14 -> 0
H15: 生保 | I15: 880 | K15: =I15*J15 -> 0 | L15: 550 | N15: =L15*M15 -> 0 | O15: =IF(OR(Q4="介護老人福祉施設サービス",Q4="短期入所生活介護",Q4="介護予防短期入所生活介護"),380,550) -> 550 | Q15: =O15*P15 -> 0 | R15: 0 | T15: =R15*S15 -> 0
B16: 令和８年７月 | D16: =ROUNDDOWN(C16*25%,0) -> 0 | G16: =ROUNDDOWN(E16*F16*25%,0) -> 0 | H16: 生保以外 | K16: =ROUNDDOWN(I16*J16*25%,0) -> 0 | N16: =ROUNDDOWN(L16*M16*25%,0) -> 0 | Q16: =ROUNDDOWN(O16*P16*25%,0) -> 0 | T16: =ROUNDDOWN(R16*S16*25%,0) -> 0 | U16: =K16+K17+N16+N17+Q16+Q17+T16+T17 -> 0 | V16: =G16+U16 -> 0 | W16: =D16+G16+U16 -> 0
H17: 生保 | I17: 880 | K17: =I17*J17 -> 0 | L17: 550 | N17: =L17*M17 -> 0 | O17: =IF(OR(Q4="介護老人福祉施設サービス",Q4="短期入所生活介護",Q4="介護予防短期入所生活介護"),380,550) -> 550 | Q17: =O17*P17 -> 0 | R17: 0 | T17: =R17*S17 -> 0
B18: 令和８年８月 | D18: =ROUNDDOWN(C18*25%,0) -> 0 | G18: =ROUNDDOWN(E18*F18*25%,0) -> 0 | H18: 生保以外 | K18: =ROUNDDOWN(I18*J18*25%,0) -> 0 | N18: =ROUNDDOWN(L18*M18*25%,0) -> 0 | Q18: =ROUNDDOWN(O18*P18*25%,0) -> 0 | T18: =ROUNDDOWN(R18*S18*25%,0) -> 0 | U18: =K18+K19+N18+N19+Q18+Q19+T18+T19 -> 0 | V18: =G18+U18 -> 0 | W18: =D18+G18+U18 -> 0
H19: 生保 | I19: 880 | K19: =I19*J19 -> 0 | L19: 550 | N19: =L19*M19 -> 0 | O19: =IF(OR(Q4="介護老人福祉施設サービス",Q4="短期入所生活介護",Q4="介護予防短期入所生活介護"),380,550) -> 550 | Q19: =O19*P19 -> 0 | R19: 0 | T19: =R19*S19 -> 0
B20: 令和８年９月 | D20: =ROUNDDOWN(C20*25%,0) -> 0 | G20: =ROUNDDOWN(E20*F20*25%,0) -> 0 | H20: 生保以外 | K20: =ROUNDDOWN(I20*J20*25%,0) -> 0 | N20: =ROUNDDOWN(L20*M20*25%,0) -> 0 | Q20: =ROUNDDOWN(O20*P20*25%,0) -> 0 | T20: =ROUNDDOWN(R20*S20*25%,0) -> 0 | U20: =K20+K21+N20+N21+Q20+Q21+T20+T21 -> 0 | V20: =G20+U20 -> 0 | W20: =D20+G20+U20 -> 0
H21: 生保 | I21: 880 | K21: =I21*J21 -> 0 | L21: 550 | N21: =L21*M21 -> 0 | O21: =IF(OR(Q4="介護老人福祉施設サービス",Q4="短期入所生活介護",Q4="介護予防短期入所生活介護"),380,550) -> 550 | Q21: =O21*P21 -> 0 | R21: 0 | T21: =R21*S21 -> 0
B22: 令和８年１０月 | D22: =ROUNDDOWN(C22*25%,0) -> 0 | G22: =ROUNDDOWN(E22*F22*25%,0) -> 0 | H22: 生保以外 | K22: =ROUNDDOWN(I22*J22*25%,0) -> 0 | N22: =ROUNDDOWN(L22*M22*25%,0) -> 0 | Q22: =ROUNDDOWN(O22*P22*25%,0) -> 0 | T22: =ROUNDDOWN(R22*S22*25%,0) -> 0 | U22: =K22+K23+N22+N23+Q22+Q23+T22+T23 -> 0 | V22: =G22+U22 -> 0 | W22: =D22+G22+U22 -> 0
H23: 生保 | I23: 880 | K23: =I23*J23 -> 0 | L23: 550 | N23: =L23*M23 -> 0 | O23: =IF(OR(Q4="介護老人福祉施設サービス",Q4="短期入所生活介護",Q4="介護予防短期入所生活介護"),380,550) -> 550 | Q23: =O23*P23 -> 0 | R23: 0 | T23: =R23*S23 -> 0
B24: 令和８年１１月 | D24: =ROUNDDOWN(C24*25%,0) -> 0 | G24: =ROUNDDOWN(E24*F24*25%,0) -> 0 | H24: 生保以外 | K24: =ROUNDDOWN(I24*J24*25%,0) -> 0 | N24: =ROUNDDOWN(L24*M24*25%,0) -> 0 | Q24: =ROUNDDOWN(O24*P24*25%,0) -> 0 | T24: =ROUNDDOWN(R24*S24*25%,0) -> 0 | U24: =K24+K25+N24+N25+Q24+Q25+T24+T25 -> 0 | V24: =G24+U24 -> 0 | W24: =D24+G24+U24 -> 0
H25: 生保 | I25: 880 | K25: =I25*J25 -> 0 | L25: 550 | N25: =L25*M25 -> 0 | O25: =IF(OR(Q4="介護老人福祉施設サービス",Q4="短期入所生活介護",Q4="介護予防短期入所生活介護"),380,550) -> 550 | Q25: =O25*P25 -> 0 | R25: 0 | T25: =R25*S25 -> 0
B26: 令和８年１２月 | D26: =ROUNDDOWN(C26*25%,0) -> 0 | G26: =ROUNDDOWN(E26*F26*25%,0) -> 0 | H26: 生保以外 | K26: =ROUNDDOWN(I26*J26*25%,0) -> 0 | N26: =ROUNDDOWN(L26*M26*25%,0) -> 0 | Q26: =ROUNDDOWN(O26*P26*25%,0) -> 0 | T26: =ROUNDDOWN(R26*S26*25%,0) -> 0 | U26: =K26+K27+N26+N27+Q26+Q27+T26+T27 -> 0 | V26: =G26+U26 -> 0 | W26: =D26+G26+U26 -> 0
H27: 生保 | I27: 880 | K27: =I27*J27 -> 0 | L27: 550 | N27: =L27*M27 -> 0 | O27: =IF(OR(Q4="介護老人福祉施設サービス",Q4="短期入所生活介護",Q4="介護予防短期入所生活介護"),380,550) -> 550 | Q27: =O27*P27 -> 0 | R27: 0 | T27: =R27*S27 -> 0
B28: 令和９年１月 | D28: =ROUNDDOWN(C28*25%,0) -> 0 | G28: =ROUNDDOWN(E28*F28*25%,0) -> 0 | H28: 生保以外 | K28: =ROUNDDOWN(I28*J28*25%,0) -> 0 | N28: =ROUNDDOWN(L28*M28*25%,0) -> 0 | Q28: =ROUNDDOWN(O28*P28*25%,0) -> 0 | T28: =ROUNDDOWN(R28*S28*25%,0) -> 0 | U28: =K28+K29+N28+N29+Q28+Q29+T28+T29 -> 0 | V28: =G28+U28 -> 0 | W28: =D28+G28+U28 -> 0
H29: 生保 | I29: 880 | K29: =I29*J29 -> 0 | L29: 550 | N29: =L29*M29 -> 0 | O29: =IF(OR(Q4="介護老人福祉施設サービス",Q4="短期入所生活介護",Q4="介護予防短期入所生活介護"),380,550) -> 550 | Q29: =O29*P29 -> 0 | R29: 0 | T29: =R29*S29 -> 0
B30: 令和９年２月 | D30: =ROUNDDOWN(C30*25%,0) -> 0 | G30: =ROUNDDOWN(E30*F30*25%,0) -> 0 | H30: 生保以外 | K30: =ROUNDDOWN(I30*J30*25%,0) -> 0 | N30: =ROUNDDOWN(L30*M30*25%,0) -> 0 | Q30: =ROUNDDOWN(O30*P30*25%,0) -> 0 | T30: =ROUNDDOWN(R30*S30*25%,0) -> 0 | U30: =K30+K31+N30+N31+Q30+Q31+T30+T31 -> 0 | V30: =G30+U30 -> 0 | W30: =D30+G30+U30 -> 0
H31: 生保 | I31: 880 | K31: =I31*J31 -> 0 | L31: 550 | N31: =L31*M31 -> 0 | O31: =IF(OR(Q4="介護老人福祉施設サービス",Q4="短期入所生活介護",Q4="介護予防短期入所生活介護"),380,550) -> 550 | Q31: =O31*P31 -> 0 | R31: 0 | T31: =R31*S31 -> 0
B32: 令和９年３月 | D32: =ROUNDDOWN(C32*25%,0) -> 0 | G32: =ROUNDDOWN(E32*F32*25%,0) -> 0 | H32: 生保以外 | K32: =ROUNDDOWN(I32*J32*25%,0) -> 0 | N32: =ROUNDDOWN(L32*M32*25%,0) -> 0 | Q32: =ROUNDDOWN(O32*P32*25%,0) -> 0 | T32: =ROUNDDOWN(R32*S32*25%,0) -> 0 | U32: =K32+K33+N32+N33+Q32+Q33+T32+T33 -> 0 | V32: =G32+U32 -> 0 | W32: =D32+G32+U32 -> 0
H33: 生保 | I33: 880 | K33: =I33*J33 -> 0 | L33: 550 | N33: =L33*M33 -> 0 | O33: =IF(OR(Q4="介護老人福祉施設サービス",Q4="短期入所生活介護",Q4="介護予防短期入所生活介護"),380,550) -> 550 | Q33: =O33*P33 -> 0 | R33: 0 | T33: =R33*S33 -> 0
B34: 合 計 | C34: =SUM(C10:C33) -> 0 | D34: =SUM(D10:D33) -> 0 | G34: =SUM(G10:G33) -> 0 | U34: =SUM(U10:U33) -> 0 | V34: =SUM(V10:V33) -> 0 | W34: =SUM(W10:W33) -> 0
M36: 事務処理欄 | N36: 生保 | O36: 有無 | P36: 期間 | S36: 高額 | T36: 段階 | U36: 期間
B37: 上半期実績 報告用 | C37: サービス費 軽減額 | D37: 食費 軽減額 | E37: 居住費 軽減額 | F37: 食費居住費 軽減総額 | G37: 軽減総額
C38: =SUM(D10:D20)*2 -> 0 | D38: =SUM(G10:G20)*2 -> 0 | E38: =SUM(U10:U20)*2 -> 0 | F38: =SUM(V10:V20)*2 -> 0 | G38: =SUM(W10:W20)*2 -> 0
N39: 社福 | O39: 段階 | P39: 期間 | S39: 負担 限度 | T39: 段階 | U39: 期間
B40: ８年度実績 報告用 | C40: サービス費 軽減額 | D40: 食費 軽減額 | E40: 居住費 軽減額 | F40: 食費居住費 軽減総額 | G40: 軽減総額
C41: =SUM(D10:D32) -> 0 | D41: =SUM(G10:G32) -> 0 | E41: =SUM(U10:U32) -> 0 | F41: =SUM(V10:V32) -> 0 | G41: =SUM(W10:W32) -> 0

Sheet 12氏名
O1: ※上半期調査時は黄色のセル・下半期調査時は オレンジのセルに入力してください。
A2: 1氏名
B4: 被保険者番号： | H4: 事業所番号： | I4: ='1氏名'!I4 -> 0 | O4: 軽減サービス名： | Q4: ='1氏名'!Q4 -> 0
B5: 軽減対象者氏名： | H5: 事業所名： | I5: ='1氏名'!I5 -> 0
B7: 提供年月 | C7: ①サービス費 （利用者負担額×25％） ※小数点以下切捨て ※生活保護受給者は軽減無し ※サービス種別、利用者負担段階によっては軽減無し | E7: ②食費（1日あたりの負担限度額×利用日数×25％） ※小数点以下切捨て ※生活保護受給者は軽減無し ※通所介護の場合は、１日あたりの食費×利用日数 | I7: ③居住費 上段（１日あたりの負担限度額×利用日数×25％） ※生活保護受給の場合は下段（１日あたりの負担限度額×利用日数×100％） | V7: ②＋③計 | W7: ①+②+③ 月毎の軽減総額
I8: ユニット型個室 | L8: ユニット型個室的多床室 | O8: 従来型個室 | R8: 多床室 | U8: 計
C9: 利用者負担額 | D9: 軽減額 | E9: 円/日 | F9: 日数 | G9: 軽減額 | I9: 円/日 | J9: 日数 | K9: 軽減額 | L9: 円/日 | M9: 日数 | N9: 軽減額 | O9: 円/日 | P9: 日数 | Q9: 軽減額 | R9: 円/日 | S9: 日数 | T9: 軽減額
B10: 令和８年４月 | D10: =ROUNDDOWN(C10*25%,0) -> 0 | G10: =ROUNDDOWN(E10*F10*25%,0) -> 0 | H10: 生保以外 | K10: =ROUNDDOWN(I10*J10*25%,0) -> 0 | N10: =ROUNDDOWN(L10*M10*25%,0) -> 0 | Q10: =ROUNDDOWN(O10*P10*25%,0) -> 0 | T10: =ROUNDDOWN(R10*S10*25%,0) -> 0 | U10: =K10+K11+N10+N11+Q10+Q11+T10+T11 -> 0 | V10: =G10+U10 -> 0 | W10: =D10+G10+U10 -> 0
H11: 生保 | I11: 880 | K11: =I11*J11 -> 0 | L11: 550 | N11: =L11*M11 -> 0 | O11: =IF(OR(Q4="介護老人福祉施設サービス",Q4="短期入所生活介護",Q4="介護予防短期入所生活介護"),380,550) -> 550 | Q11: =O11*P11 -> 0 | R11: 0 | T11: =R11*S11 -> 0
B12: 令和８年５月 | D12: =ROUNDDOWN(C12*25%,0) -> 0 | G12: =ROUNDDOWN(E12*F12*25%,0) -> 0 | H12: 生保以外 | K12: =ROUNDDOWN(I12*J12*25%,0) -> 0 | N12: =ROUNDDOWN(L12*M12*25%,0) -> 0 | Q12: =ROUNDDOWN(O12*P12*25%,0) -> 0 | T12: =ROUNDDOWN(R12*S12*25%,0) -> 0 | U12: =K12+K13+N12+N13+Q12+Q13+T12+T13 -> 0 | V12: =G12+U12 -> 0 | W12: =D12+G12+U12 -> 0
H13: 生保 | I13: 880 | K13: =I13*J13 -> 0 | L13: 550 | N13: =L13*M13 -> 0 | O13: =IF(OR(Q4="介護老人福祉施設サービス",Q4="短期入所生活介護",Q4="介護予防短期入所生活介護"),380,550) -> 550 | Q13: =O13*P13 -> 0 | R13: 0 | T13: =R13*S13 -> 0
B14: 令和８年６月 | D14: =ROUNDDOWN(C14*25%,0) -> 0 | G14: =ROUNDDOWN(E14*F14*25%,0) -> 0 | H14: 生保以外 | K14: =ROUNDDOWN(I14*J14*25%,0) -> 0 | N14: =ROUNDDOWN(L14*M14*25%,0) -> 0 | Q14: =ROUNDDOWN(O14*P14*25%,0) -> 0 | T14: =ROUNDDOWN(R14*S14*25%,0) -> 0 | U14: =K14+K15+N14+N15+Q14+Q15+T14+T15 -> 0 | V14: =G14+U14 -> 0 | W14: =D14+G14+U14 -> 0
H15: 生保 | I15: 880 | K15: =I15*J15 -> 0 | L15: 550 | N15: =L15*M15 -> 0 | O15: =IF(OR(Q4="介護老人福祉施設サービス",Q4="短期入所生活介護",Q4="介護予防短期入所生活介護"),380,550) -> 550 | Q15: =O15*P15 -> 0 | R15: 0 | T15: =R15*S15 -> 0
B16: 令和８年７月 | D16: =ROUNDDOWN(C16*25%,0) -> 0 | G16: =ROUNDDOWN(E16*F16*25%,0) -> 0 | H16: 生保以外 | K16: =ROUNDDOWN(I16*J16*25%,0) -> 0 | N16: =ROUNDDOWN(L16*M16*25%,0) -> 0 | Q16: =ROUNDDOWN(O16*P16*25%,0) -> 0 | T16: =ROUNDDOWN(R16*S16*25%,0) -> 0 | U16: =K16+K17+N16+N17+Q16+Q17+T16+T17 -> 0 | V16: =G16+U16 -> 0 | W16: =D16+G16+U16 -> 0
H17: 生保 | I17: 880 | K17: =I17*J17 -> 0 | L17: 550 | N17: =L17*M17 -> 0 | O17: =IF(OR(Q4="介護老人福祉施設サービス",Q4="短期入所生活介護",Q4="介護予防短期入所生活介護"),380,550) -> 550 | Q17: =O17*P17 -> 0 | R17: 0 | T17: =R17*S17 -> 0
B18: 令和８年８月 | D18: =ROUNDDOWN(C18*25%,0) -> 0 | G18: =ROUNDDOWN(E18*F18*25%,0) -> 0 | H18: 生保以外 | K18: =ROUNDDOWN(I18*J18*25%,0) -> 0 | N18: =ROUNDDOWN(L18*M18*25%,0) -> 0 | Q18: =ROUNDDOWN(O18*P18*25%,0) -> 0 | T18: =ROUNDDOWN(R18*S18*25%,0) -> 0 | U18: =K18+K19+N18+N19+Q18+Q19+T18+T19 -> 0 | V18: =G18+U18 -> 0 | W18: =D18+G18+U18 -> 0
H19: 生保 | I19: 880 | K19: =I19*J19 -> 0 | L19: 550 | N19: =L19*M19 -> 0 | O19: =IF(OR(Q4="介護老人福祉施設サービス",Q4="短期入所生活介護",Q4="介護予防短期入所生活介護"),380,550) -> 550 | Q19: =O19*P19 -> 0 | R19: 0 | T19: =R19*S19 -> 0
B20: 令和８年９月 | D20: =ROUNDDOWN(C20*25%,0) -> 0 | G20: =ROUNDDOWN(E20*F20*25%,0) -> 0 | H20: 生保以外 | K20: =ROUNDDOWN(I20*J20*25%,0) -> 0 | N20: =ROUNDDOWN(L20*M20*25%,0) -> 0 | Q20: =ROUNDDOWN(O20*P20*25%,0) -> 0 | T20: =ROUNDDOWN(R20*S20*25%,0) -> 0 | U20: =K20+K21+N20+N21+Q20+Q21+T20+T21 -> 0 | V20: =G20+U20 -> 0 | W20: =D20+G20+U20 -> 0
H21: 生保 | I21: 880 | K21: =I21*J21 -> 0 | L21: 550 | N21: =L21*M21 -> 0 | O21: =IF(OR(Q4="介護老人福祉施設サービス",Q4="短期入所生活介護",Q4="介護予防短期入所生活介護"),380,550) -> 550 | Q21: =O21*P21 -> 0 | R21: 0 | T21: =R21*S21 -> 0
B22: 令和８年１０月 | D22: =ROUNDDOWN(C22*25%,0) -> 0 | G22: =ROUNDDOWN(E22*F22*25%,0) -> 0 | H22: 生保以外 | K22: =ROUNDDOWN(I22*J22*25%,0) -> 0 | N22: =ROUNDDOWN(L22*M22*25%,0) -> 0 | Q22: =ROUNDDOWN(O22*P22*25%,0) -> 0 | T22: =ROUNDDOWN(R22*S22*25%,0) -> 0 | U22: =K22+K23+N22+N23+Q22+Q23+T22+T23 -> 0 | V22: =G22+U22 -> 0 | W22: =D22+G22+U22 -> 0
H23: 生保 | I23: 880 | K23: =I23*J23 -> 0 | L23: 550 | N23: =L23*M23 -> 0 | O23: =IF(OR(Q4="介護老人福祉施設サービス",Q4="短期入所生活介護",Q4="介護予防短期入所生活介護"),380,550) -> 550 | Q23: =O23*P23 -> 0 | R23: 0 | T23: =R23*S23 -> 0
B24: 令和８年１１月 | D24: =ROUNDDOWN(C24*25%,0) -> 0 | G24: =ROUNDDOWN(E24*F24*25%,0) -> 0 | H24: 生保以外 | K24: =ROUNDDOWN(I24*J24*25%,0) -> 0 | N24: =ROUNDDOWN(L24*M24*25%,0) -> 0 | Q24: =ROUNDDOWN(O24*P24*25%,0) -> 0 | T24: =ROUNDDOWN(R24*S24*25%,0) -> 0 | U24: =K24+K25+N24+N25+Q24+Q25+T24+T25 -> 0 | V24: =G24+U24 -> 0 | W24: =D24+G24+U24 -> 0
H25: 生保 | I25: 880 | K25: =I25*J25 -> 0 | L25: 550 | N25: =L25*M25 -> 0 | O25: =IF(OR(Q4="介護老人福祉施設サービス",Q4="短期入所生活介護",Q4="介護予防短期入所生活介護"),380,550) -> 550 | Q25: =O25*P25 -> 0 | R25: 0 | T25: =R25*S25 -> 0
B26: 令和８年１２月 | D26: =ROUNDDOWN(C26*25%,0) -> 0 | G26: =ROUNDDOWN(E26*F26*25%,0) -> 0 | H26: 生保以外 | K26: =ROUNDDOWN(I26*J26*25%,0) -> 0 | N26: =ROUNDDOWN(L26*M26*25%,0) -> 0 | Q26: =ROUNDDOWN(O26*P26*25%,0) -> 0 | T26: =ROUNDDOWN(R26*S26*25%,0) -> 0 | U26: =K26+K27+N26+N27+Q26+Q27+T26+T27 -> 0 | V26: =G26+U26 -> 0 | W26: =D26+G26+U26 -> 0
H27: 生保 | I27: 880 | K27: =I27*J27 -> 0 | L27: 550 | N27: =L27*M27 -> 0 | O27: =IF(OR(Q4="介護老人福祉施設サービス",Q4="短期入所生活介護",Q4="介護予防短期入所生活介護"),380,550) -> 550 | Q27: =O27*P27 -> 0 | R27: 0 | T27: =R27*S27 -> 0
B28: 令和９年１月 | D28: =ROUNDDOWN(C28*25%,0) -> 0 | G28: =ROUNDDOWN(E28*F28*25%,0) -> 0 | H28: 生保以外 | K28: =ROUNDDOWN(I28*J28*25%,0) -> 0 | N28: =ROUNDDOWN(L28*M28*25%,0) -> 0 | Q28: =ROUNDDOWN(O28*P28*25%,0) -> 0 | T28: =ROUNDDOWN(R28*S28*25%,0) -> 0 | U28: =K28+K29+N28+N29+Q28+Q29+T28+T29 -> 0 | V28: =G28+U28 -> 0 | W28: =D28+G28+U28 -> 0
H29: 生保 | I29: 880 | K29: =I29*J29 -> 0 | L29: 550 | N29: =L29*M29 -> 0 | O29: =IF(OR(Q4="介護老人福祉施設サービス",Q4="短期入所生活介護",Q4="介護予防短期入所生活介護"),380,550) -> 550 | Q29: =O29*P29 -> 0 | R29: 0 | T29: =R29*S29 -> 0
B30: 令和９年２月 | D30: =ROUNDDOWN(C30*25%,0) -> 0 | G30: =ROUNDDOWN(E30*F30*25%,0) -> 0 | H30: 生保以外 | K30: =ROUNDDOWN(I30*J30*25%,0) -> 0 | N30: =ROUNDDOWN(L30*M30*25%,0) -> 0 | Q30: =ROUNDDOWN(O30*P30*25%,0) -> 0 | T30: =ROUNDDOWN(R30*S30*25%,0) -> 0 | U30: =K30+K31+N30+N31+Q30+Q31+T30+T31 -> 0 | V30: =G30+U30 -> 0 | W30: =D30+G30+U30 -> 0
H31: 生保 | I31: 880 | K31: =I31*J31 -> 0 | L31: 550 | N31: =L31*M31 -> 0 | O31: =IF(OR(Q4="介護老人福祉施設サービス",Q4="短期入所生活介護",Q4="介護予防短期入所生活介護"),380,550) -> 550 | Q31: =O31*P31 -> 0 | R31: 0 | T31: =R31*S31 -> 0
B32: 令和９年３月 | D32: =ROUNDDOWN(C32*25%,0) -> 0 | G32: =ROUNDDOWN(E32*F32*25%,0) -> 0 | H32: 生保以外 | K32: =ROUNDDOWN(I32*J32*25%,0) -> 0 | N32: =ROUNDDOWN(L32*M32*25%,0) -> 0 | Q32: =ROUNDDOWN(O32*P32*25%,0) -> 0 | T32: =ROUNDDOWN(R32*S32*25%,0) -> 0 | U32: =K32+K33+N32+N33+Q32+Q33+T32+T33 -> 0 | V32: =G32+U32 -> 0 | W32: =D32+G32+U32 -> 0
H33: 生保 | I33: 880 | K33: =I33*J33 -> 0 | L33: 550 | N33: =L33*M33 -> 0 | O33: =IF(OR(Q4="介護老人福祉施設サービス",Q4="短期入所生活介護",Q4="介護予防短期入所生活介護"),380,550) -> 550 | Q33: =O33*P33 -> 0 | R33: 0 | T33: =R33*S33 -> 0
B34: 合 計 | C34: =SUM(C10:C33) -> 0 | D34: =SUM(D10:D33) -> 0 | G34: =SUM(G10:G33) -> 0 | U34: =SUM(U10:U33) -> 0 | V34: =SUM(V10:V33) -> 0 | W34: =SUM(W10:W33) -> 0
M36: 事務処理欄 | N36: 生保 | O36: 有無 | P36: 期間 | S36: 高額 | T36: 段階 | U36: 期間
B37: 上半期実績 報告用 | C37: サービス費 軽減額 | D37: 食費 軽減額 | E37: 居住費 軽減額 | F37: 食費居住費 軽減総額 | G37: 軽減総額
C38: =SUM(D10:D20)*2 -> 0 | D38: =SUM(G10:G20)*2 -> 0 | E38: =SUM(U10:U20)*2 -> 0 | F38: =SUM(V10:V20)*2 -> 0 | G38: =SUM(W10:W20)*2 -> 0
N39: 社福 | O39: 段階 | P39: 期間 | S39: 負担 限度 | T39: 段階 | U39: 期間
B40: ８年度実績 報告用 | C40: サービス費 軽減額 | D40: 食費 軽減額 | E40: 居住費 軽減額 | F40: 食費居住費 軽減総額 | G40: 軽減総額
C41: =SUM(D10:D32) -> 0 | D41: =SUM(G10:G32) -> 0 | E41: =SUM(U10:U32) -> 0 | F41: =SUM(V10:V32) -> 0 | G41: =SUM(W10:W32) -> 0

Sheet 13氏名
O1: ※上半期調査時は黄色のセル・下半期調査時は オレンジのセルに入力してください。
A2: 1氏名
B4: 被保険者番号： | H4: 事業所番号： | I4: ='1氏名'!I4 -> 0 | O4: 軽減サービス名： | Q4: ='1氏名'!Q4 -> 0
B5: 軽減対象者氏名： | H5: 事業所名： | I5: ='1氏名'!I5 -> 0
B7: 提供年月 | C7: ①サービス費 （利用者負担額×25％） ※小数点以下切捨て ※生活保護受給者は軽減無し ※サービス種別、利用者負担段階によっては軽減無し | E7: ②食費（1日あたりの負担限度額×利用日数×25％） ※小数点以下切捨て ※生活保護受給者は軽減無し ※通所介護の場合は、１日あたりの食費×利用日数 | I7: ③居住費 上段（１日あたりの負担限度額×利用日数×25％） ※生活保護受給の場合は下段（１日あたりの負担限度額×利用日数×100％） | V7: ②＋③計 | W7: ①+②+③ 月毎の軽減総額
I8: ユニット型個室 | L8: ユニット型個室的多床室 | O8: 従来型個室 | R8: 多床室 | U8: 計
C9: 利用者負担額 | D9: 軽減額 | E9: 円/日 | F9: 日数 | G9: 軽減額 | I9: 円/日 | J9: 日数 | K9: 軽減額 | L9: 円/日 | M9: 日数 | N9: 軽減額 | O9: 円/日 | P9: 日数 | Q9: 軽減額 | R9: 円/日 | S9: 日数 | T9: 軽減額
B10: 令和８年４月 | D10: =ROUNDDOWN(C10*25%,0) -> 0 | G10: =ROUNDDOWN(E10*F10*25%,0) -> 0 | H10: 生保以外 | K10: =ROUNDDOWN(I10*J10*25%,0) -> 0 | N10: =ROUNDDOWN(L10*M10*25%,0) -> 0 | Q10: =ROUNDDOWN(O10*P10*25%,0) -> 0 | T10: =ROUNDDOWN(R10*S10*25%,0) -> 0 | U10: =K10+K11+N10+N11+Q10+Q11+T10+T11 -> 0 | V10: =G10+U10 -> 0 | W10: =D10+G10+U10 -> 0
H11: 生保 | I11: 880 | K11: =I11*J11 -> 0 | L11: 550 | N11: =L11*M11 -> 0 | O11: =IF(OR(Q4="介護老人福祉施設サービス",Q4="短期入所生活介護",Q4="介護予防短期入所生活介護"),380,550) -> 550 | Q11: =O11*P11 -> 0 | R11: 0 | T11: =R11*S11 -> 0
B12: 令和８年５月 | D12: =ROUNDDOWN(C12*25%,0) -> 0 | G12: =ROUNDDOWN(E12*F12*25%,0) -> 0 | H12: 生保以外 | K12: =ROUNDDOWN(I12*J12*25%,0) -> 0 | N12: =ROUNDDOWN(L12*M12*25%,0) -> 0 | Q12: =ROUNDDOWN(O12*P12*25%,0) -> 0 | T12: =ROUNDDOWN(R12*S12*25%,0) -> 0 | U12: =K12+K13+N12+N13+Q12+Q13+T12+T13 -> 0 | V12: =G12+U12 -> 0 | W12: =D12+G12+U12 -> 0
H13: 生保 | I13: 880 | K13: =I13*J13 -> 0 | L13: 550 | N13: =L13*M13 -> 0 | O13: =IF(OR(Q4="介護老人福祉施設サービス",Q4="短期入所生活介護",Q4="介護予防短期入所生活介護"),380,550) -> 550 | Q13: =O13*P13 -> 0 | R13: 0 | T13: =R13*S13 -> 0
B14: 令和８年６月 | D14: =ROUNDDOWN(C14*25%,0) -> 0 | G14: =ROUNDDOWN(E14*F14*25%,0) -> 0 | H14: 生保以外 | K14: =ROUNDDOWN(I14*J14*25%,0) -> 0 | N14: =ROUNDDOWN(L14*M14*25%,0) -> 0 | Q14: =ROUNDDOWN(O14*P14*25%,0) -> 0 | T14: =ROUNDDOWN(R14*S14*25%,0) -> 0 | U14: =K14+K15+N14+N15+Q14+Q15+T14+T15 -> 0 | V14: =G14+U14 -> 0 | W14: =D14+G14+U14 -> 0
H15: 生保 | I15: 880 | K15: =I15*J15 -> 0 | L15: 550 | N15: =L15*M15 -> 0 | O15: =IF(OR(Q4="介護老人福祉施設サービス",Q4="短期入所生活介護",Q4="介護予防短期入所生活介護"),380,550) -> 550 | Q15: =O15*P15 -> 0 | R15: 0 | T15: =R15*S15 -> 0
B16: 令和８年７月 | D16: =ROUNDDOWN(C16*25%,0) -> 0 | G16: =ROUNDDOWN(E16*F16*25%,0) -> 0 | H16: 生保以外 | K16: =ROUNDDOWN(I16*J16*25%,0) -> 0 | N16: =ROUNDDOWN(L16*M16*25%,0) -> 0 | Q16: =ROUNDDOWN(O16*P16*25%,0) -> 0 | T16: =ROUNDDOWN(R16*S16*25%,0) -> 0 | U16: =K16+K17+N16+N17+Q16+Q17+T16+T17 -> 0 | V16: =G16+U16 -> 0 | W16: =D16+G16+U16 -> 0
H17: 生保 | I17: 880 | K17: =I17*J17 -> 0 | L17: 550 | N17: =L17*M17 -> 0 | O17: =IF(OR(Q4="介護老人福祉施設サービス",Q4="短期入所生活介護",Q4="介護予防短期入所生活介護"),380,550) -> 550 | Q17: =O17*P17 -> 0 | R17: 0 | T17: =R17*S17 -> 0
B18: 令和８年８月 | D18: =ROUNDDOWN(C18*25%,0) -> 0 | G18: =ROUNDDOWN(E18*F18*25%,0) -> 0 | H18: 生保以外 | K18: =ROUNDDOWN(I18*J18*25%,0) -> 0 | N18: =ROUNDDOWN(L18*M18*25%,0) -> 0 | Q18: =ROUNDDOWN(O18*P18*25%,0) -> 0 | T18: =ROUNDDOWN(R18*S18*25%,0) -> 0 | U18: =K18+K19+N18+N19+Q18+Q19+T18+T19 -> 0 | V18: =G18+U18 -> 0 | W18: =D18+G18+U18 -> 0
H19: 生保 | I19: 880 | K19: =I19*J19 -> 0 | L19: 550 | N19: =L19*M19 -> 0 | O19: =IF(OR(Q4="介護老人福祉施設サービス",Q4="短期入所生活介護",Q4="介護予防短期入所生活介護"),380,550) -> 550 | Q19: =O19*P19 -> 0 | R19: 0 | T19: =R19*S19 -> 0
B20: 令和８年９月 | D20: =ROUNDDOWN(C20*25%,0) -> 0 | G20: =ROUNDDOWN(E20*F20*25%,0) -> 0 | H20: 生保以外 | K20: =ROUNDDOWN(I20*J20*25%,0) -> 0 | N20: =ROUNDDOWN(L20*M20*25%,0) -> 0 | Q20: =ROUNDDOWN(O20*P20*25%,0) -> 0 | T20: =ROUNDDOWN(R20*S20*25%,0) -> 0 | U20: =K20+K21+N20+N21+Q20+Q21+T20+T21 -> 0 | V20: =G20+U20 -> 0 | W20: =D20+G20+U20 -> 0
H21: 生保 | I21: 880 | K21: =I21*J21 -> 0 | L21: 550 | N21: =L21*M21 -> 0 | O21: =IF(OR(Q4="介護老人福祉施設サービス",Q4="短期入所生活介護",Q4="介護予防短期入所生活介護"),380,550) -> 550 | Q21: =O21*P21 -> 0 | R21: 0 | T21: =R21*S21 -> 0
B22: 令和８年１０月 | D22: =ROUNDDOWN(C22*25%,0) -> 0 | G22: =ROUNDDOWN(E22*F22*25%,0) -> 0 | H22: 生保以外 | K22: =ROUNDDOWN(I22*J22*25%,0) -> 0 | N22: =ROUNDDOWN(L22*M22*25%,0) -> 0 | Q22: =ROUNDDOWN(O22*P22*25%,0) -> 0 | T22: =ROUNDDOWN(R22*S22*25%,0) -> 0 | U22: =K22+K23+N22+N23+Q22+Q23+T22+T23 -> 0 | V22: =G22+U22 -> 0 | W22: =D22+G22+U22 -> 0
H23: 生保 | I23: 880 | K23: =I23*J23 -> 0 | L23: 550 | N23: =L23*M23 -> 0 | O23: =IF(OR(Q4="介護老人福祉施設サービス",Q4="短期入所生活介護",Q4="介護予防短期入所生活介護"),380,550) -> 550 | Q23: =O23*P23 -> 0 | R23: 0 | T23: =R23*S23 -> 0
B24: 令和８年１１月 | D24: =ROUNDDOWN(C24*25%,0) -> 0 | G24: =ROUNDDOWN(E24*F24*25%,0) -> 0 | H24: 生保以外 | K24: =ROUNDDOWN(I24*J24*25%,0) -> 0 | N24: =ROUNDDOWN(L24*M24*25%,0) -> 0 | Q24: =ROUNDDOWN(O24*P24*25%,0) -> 0 | T24: =ROUNDDOWN(R24*S24*25%,0) -> 0 | U24: =K24+K25+N24+N25+Q24+Q25+T24+T25 -> 0 | V24: =G24+U24 -> 0 | W24: =D24+G24+U24 -> 0
H25: 生保 | I25: 880 | K25: =I25*J25 -> 0 | L25: 550 | N25: =L25*M25 -> 0 | O25: =IF(OR(Q4="介護老人福祉施設サービス",Q4="短期入所生活介護",Q4="介護予防短期入所生活介護"),380,550) -> 550 | Q25: =O25*P25 -> 0 | R25: 0 | T25: =R25*S25 -> 0
B26: 令和８年１２月 | D26: =ROUNDDOWN(C26*25%,0) -> 0 | G26: =ROUNDDOWN(E26*F26*25%,0) -> 0 | H26: 生保以外 | K26: =ROUNDDOWN(I26*J26*25%,0) -> 0 | N26: =ROUNDDOWN(L26*M26*25%,0) -> 0 | Q26: =ROUNDDOWN(O26*P26*25%,0) -> 0 | T26: =ROUNDDOWN(R26*S26*25%,0) -> 0 | U26: =K26+K27+N26+N27+Q26+Q27+T26+T27 -> 0 | V26: =G26+U26 -> 0 | W26: =D26+G26+U26 -> 0
H27: 生保 | I27: 880 | K27: =I27*J27 -> 0 | L27: 550 | N27: =L27*M27 -> 0 | O27: =IF(OR(Q4="介護老人福祉施設サービス",Q4="短期入所生活介護",Q4="介護予防短期入所生活介護"),380,550) -> 550 | Q27: =O27*P27 -> 0 | R27: 0 | T27: =R27*S27 -> 0
B28: 令和９年１月 | D28: =ROUNDDOWN(C28*25%,0) -> 0 | G28: =ROUNDDOWN(E28*F28*25%,0) -> 0 | H28: 生保以外 | K28: =ROUNDDOWN(I28*J28*25%,0) -> 0 | N28: =ROUNDDOWN(L28*M28*25%,0) -> 0 | Q28: =ROUNDDOWN(O28*P28*25%,0) -> 0 | T28: =ROUNDDOWN(R28*S28*25%,0) -> 0 | U28: =K28+K29+N28+N29+Q28+Q29+T28+T29 -> 0 | V28: =G28+U28 -> 0 | W28: =D28+G28+U28 -> 0
H29: 生保 | I29: 880 | K29: =I29*J29 -> 0 | L29: 550 | N29: =L29*M29 -> 0 | O29: =IF(OR(Q4="介護老人福祉施設サービス",Q4="短期入所生活介護",Q4="介護予防短期入所生活介護"),380,550) -> 550 | Q29: =O29*P29 -> 0 | R29: 0 | T29: =R29*S29 -> 0
B30: 令和９年２月 | D30: =ROUNDDOWN(C30*25%,0) -> 0 | G30: =ROUNDDOWN(E30*F30*25%,0) -> 0 | H30: 生保以外 | K30: =ROUNDDOWN(I30*J30*25%,0) -> 0 | N30: =ROUNDDOWN(L30*M30*25%,0) -> 0 | Q30: =ROUNDDOWN(O30*P30*25%,0) -> 0 | T30: =ROUNDDOWN(R30*S30*25%,0) -> 0 | U30: =K30+K31+N30+N31+Q30+Q31+T30+T31 -> 0 | V30: =G30+U30 -> 0 | W30: =D30+G30+U30 -> 0
H31: 生保 | I31: 880 | K31: =I31*J31 -> 0 | L31: 550 | N31: =L31*M31 -> 0 | O31: =IF(OR(Q4="介護老人福祉施設サービス",Q4="短期入所生活介護",Q4="介護予防短期入所生活介護"),380,550) -> 550 | Q31: =O31*P31 -> 0 | R31: 0 | T31: =R31*S31 -> 0
B32: 令和９年３月 | D32: =ROUNDDOWN(C32*25%,0) -> 0 | G32: =ROUNDDOWN(E32*F32*25%,0) -> 0 | H32: 生保以外 | K32: =ROUNDDOWN(I32*J32*25%,0) -> 0 | N32: =ROUNDDOWN(L32*M32*25%,0) -> 0 | Q32: =ROUNDDOWN(O32*P32*25%,0) -> 0 | T32: =ROUNDDOWN(R32*S32*25%,0) -> 0 | U32: =K32+K33+N32+N33+Q32+Q33+T32+T33 -> 0 | V32: =G32+U32 -> 0 | W32: =D32+G32+U32 -> 0
H33: 生保 | I33: 880 | K33: =I33*J33 -> 0 | L33: 550 | N33: =L33*M33 -> 0 | O33: =IF(OR(Q4="介護老人福祉施設サービス",Q4="短期入所生活介護",Q4="介護予防短期入所生活介護"),380,550) -> 550 | Q33: =O33*P33 -> 0 | R33: 0 | T33: =R33*S33 -> 0
B34: 合 計 | C34: =SUM(C10:C33) -> 0 | D34: =SUM(D10:D33) -> 0 | G34: =SUM(G10:G33) -> 0 | U34: =SUM(U10:U33) -> 0 | V34: =SUM(V10:V33) -> 0 | W34: =SUM(W10:W33) -> 0
M36: 事務処理欄 | N36: 生保 | O36: 有無 | P36: 期間 | S36: 高額 | T36: 段階 | U36: 期間
B37: 上半期実績 報告用 | C37: サービス費 軽減額 | D37: 食費 軽減額 | E37: 居住費 軽減額 | F37: 食費居住費 軽減総額 | G37: 軽減総額
C38: =SUM(D10:D20)*2 -> 0 | D38: =SUM(G10:G20)*2 -> 0 | E38: =SUM(U10:U20)*2 -> 0 | F38: =SUM(V10:V20)*2 -> 0 | G38: =SUM(W10:W20)*2 -> 0
N39: 社福 | O39: 段階 | P39: 期間 | S39: 負担 限度 | T39: 段階 | U39: 期間
B40: ８年度実績 報告用 | C40: サービス費 軽減額 | D40: 食費 軽減額 | E40: 居住費 軽減額 | F40: 食費居住費 軽減総額 | G40: 軽減総額
C41: =SUM(D10:D32) -> 0 | D41: =SUM(G10:G32) -> 0 | E41: =SUM(U10:U32) -> 0 | F41: =SUM(V10:V32) -> 0 | G41: =SUM(W10:W32) -> 0

Sheet 14氏名
O1: ※上半期調査時は黄色のセル・下半期調査時は オレンジのセルに入力してください。
A2: 1氏名
B4: 被保険者番号： | H4: 事業所番号： | I4: ='1氏名'!I4 -> 0 | O4: 軽減サービス名： | Q4: ='1氏名'!Q4 -> 0
B5: 軽減対象者氏名： | H5: 事業所名： | I5: ='1氏名'!I5 -> 0
B7: 提供年月 | C7: ①サービス費 （利用者負担額×25％） ※小数点以下切捨て ※生活保護受給者は軽減無し ※サービス種別、利用者負担段階によっては軽減無し | E7: ②食費（1日あたりの負担限度額×利用日数×25％） ※小数点以下切捨て ※生活保護受給者は軽減無し ※通所介護の場合は、１日あたりの食費×利用日数 | I7: ③居住費 上段（１日あたりの負担限度額×利用日数×25％） ※生活保護受給の場合は下段（１日あたりの負担限度額×利用日数×100％） | V7: ②＋③計 | W7: ①+②+③ 月毎の軽減総額
I8: ユニット型個室 | L8: ユニット型個室的多床室 | O8: 従来型個室 | R8: 多床室 | U8: 計
C9: 利用者負担額 | D9: 軽減額 | E9: 円/日 | F9: 日数 | G9: 軽減額 | I9: 円/日 | J9: 日数 | K9: 軽減額 | L9: 円/日 | M9: 日数 | N9: 軽減額 | O9: 円/日 | P9: 日数 | Q9: 軽減額 | R9: 円/日 | S9: 日数 | T9: 軽減額
B10: 令和８年４月 | D10: =ROUNDDOWN(C10*25%,0) -> 0 | G10: =ROUNDDOWN(E10*F10*25%,0) -> 0 | H10: 生保以外 | K10: =ROUNDDOWN(I10*J10*25%,0) -> 0 | N10: =ROUNDDOWN(L10*M10*25%,0) -> 0 | Q10: =ROUNDDOWN(O10*P10*25%,0) -> 0 | T10: =ROUNDDOWN(R10*S10*25%,0) -> 0 | U10: =K10+K11+N10+N11+Q10+Q11+T10+T11 -> 0 | V10: =G10+U10 -> 0 | W10: =D10+G10+U10 -> 0
H11: 生保 | I11: 880 | K11: =I11*J11 -> 0 | L11: 550 | N11: =L11*M11 -> 0 | O11: =IF(OR(Q4="介護老人福祉施設サービス",Q4="短期入所生活介護",Q4="介護予防短期入所生活介護"),380,550) -> 550 | Q11: =O11*P11 -> 0 | R11: 0 | T11: =R11*S11 -> 0
B12: 令和８年５月 | D12: =ROUNDDOWN(C12*25%,0) -> 0 | G12: =ROUNDDOWN(E12*F12*25%,0) -> 0 | H12: 生保以外 | K12: =ROUNDDOWN(I12*J12*25%,0) -> 0 | N12: =ROUNDDOWN(L12*M12*25%,0) -> 0 | Q12: =ROUNDDOWN(O12*P12*25%,0) -> 0 | T12: =ROUNDDOWN(R12*S12*25%,0) -> 0 | U12: =K12+K13+N12+N13+Q12+Q13+T12+T13 -> 0 | V12: =G12+U12 -> 0 | W12: =D12+G12+U12 -> 0
H13: 生保 | I13: 880 | K13: =I13*J13 -> 0 | L13: 550 | N13: =L13*M13 -> 0 | O13: =IF(OR(Q4="介護老人福祉施設サービス",Q4="短期入所生活介護",Q4="介護予防短期入所生活介護"),380,550) -> 550 | Q13: =O13*P13 -> 0 | R13: 0 | T13: =R13*S13 -> 0
B14: 令和８年６月 | D14: =ROUNDDOWN(C14*25%,0) -> 0 | G14: =ROUNDDOWN(E14*F14*25%,0) -> 0 | H14: 生保以外 | K14: =ROUNDDOWN(I14*J14*25%,0) -> 0 | N14: =ROUNDDOWN(L14*M14*25%,0) -> 0 | Q14: =ROUNDDOWN(O14*P14*25%,0) -> 0 | T14: =ROUNDDOWN(R14*S14*25%,0) -> 0 | U14: =K14+K15+N14+N15+Q14+Q15+T14+T15 -> 0 | V14: =G14+U14 -> 0 | W14: =D14+G14+U14 -> 0
H15: 生保 | I15: 880 | K15: =I15*J15 -> 0 | L15: 550 | N15: =L15*M15 -> 0 | O15: =IF(OR(Q4="介護老人福祉施設サービス",Q4="短期入所生活介護",Q4="介護予防短期入所生活介護"),380,550) -> 550 | Q15: =O15*P15 -> 0 | R15: 0 | T15: =R15*S15 -> 0
B16: 令和８年７月 | D16: =ROUNDDOWN(C16*25%,0) -> 0 | G16: =ROUNDDOWN(E16*F16*25%,0) -> 0 | H16: 生保以外 | K16: =ROUNDDOWN(I16*J16*25%,0) -> 0 | N16: =ROUNDDOWN(L16*M16*25%,0) -> 0 | Q16: =ROUNDDOWN(O16*P16*25%,0) -> 0 | T16: =ROUNDDOWN(R16*S16*25%,0) -> 0 | U16: =K16+K17+N16+N17+Q16+Q17+T16+T17 -> 0 | V16: =G16+U16 -> 0 | W16: =D16+G16+U16 -> 0
H17: 生保 | I17: 880 | K17: =I17*J17 -> 0 | L17: 550 | N17: =L17*M17 -> 0 | O17: =IF(OR(Q4="介護老人福祉施設サービス",Q4="短期入所生活介護",Q4="介護予防短期入所生活介護"),380,550) -> 550 | Q17: =O17*P17 -> 0 | R17: 0 | T17: =R17*S17 -> 0
B18: 令和８年８月 | D18: =ROUNDDOWN(C18*25%,0) -> 0 | G18: =ROUNDDOWN(E18*F18*25%,0) -> 0 | H18: 生保以外 | K18: =ROUNDDOWN(I18*J18*25%,0) -> 0 | N18: =ROUNDDOWN(L18*M18*25%,0) -> 0 | Q18: =ROUNDDOWN(O18*P18*25%,0) -> 0 | T18: =ROUNDDOWN(R18*S18*25%,0) -> 0 | U18: =K18+K19+N18+N19+Q18+Q19+T18+T19 -> 0 | V18: =G18+U18 -> 0 | W18: =D18+G18+U18 -> 0
H19: 生保 | I19: 880 | K19: =I19*J19 -> 0 | L19: 550 | N19: =L19*M19 -> 0 | O19: =IF(OR(Q4="介護老人福祉施設サービス",Q4="短期入所生活介護",Q4="介護予防短期入所生活介護"),380,550) -> 550 | Q19: =O19*P19 -> 0 | R19: 0 | T19: =R19*S19 -> 0
B20: 令和８年９月 | D20: =ROUNDDOWN(C20*25%,0) -> 0 | G20: =ROUNDDOWN(E20*F20*25%,0) -> 0 | H20: 生保以外 | K20: =ROUNDDOWN(I20*J20*25%,0) -> 0 | N20: =ROUNDDOWN(L20*M20*25%,0) -> 0 | Q20: =ROUNDDOWN(O20*P20*25%,0) -> 0 | T20: =ROUNDDOWN(R20*S20*25%,0) -> 0 | U20: =K20+K21+N20+N21+Q20+Q21+T20+T21 -> 0 | V20: =G20+U20 -> 0 | W20: =D20+G20+U20 -> 0
H21: 生保 | I21: 880 | K21: =I21*J21 -> 0 | L21: 550 | N21: =L21*M21 -> 0 | O21: =IF(OR(Q4="介護老人福祉施設サービス",Q4="短期入所生活介護",Q4="介護予防短期入所生活介護"),380,550) -> 550 | Q21: =O21*P21 -> 0 | R21: 0 | T21: =R21*S21 -> 0
B22: 令和８年１０月 | D22: =ROUNDDOWN(C22*25%,0) -> 0 | G22: =ROUNDDOWN(E22*F22*25%,0) -> 0 | H22: 生保以外 | K22: =ROUNDDOWN(I22*J22*25%,0) -> 0 | N22: =ROUNDDOWN(L22*M22*25%,0) -> 0 | Q22: =ROUNDDOWN(O22*P22*25%,0) -> 0 | T22: =ROUNDDOWN(R22*S22*25%,0) -> 0 | U22: =K22+K23+N22+N23+Q22+Q23+T22+T23 -> 0 | V22: =G22+U22 -> 0 | W22: =D22+G22+U22 -> 0
H23: 生保 | I23: 880 | K23: =I23*J23 -> 0 | L23: 550 | N23: =L23*M23 -> 0 | O23: =IF(OR(Q4="介護老人福祉施設サービス",Q4="短期入所生活介護",Q4="介護予防短期入所生活介護"),380,550) -> 550 | Q23: =O23*P23 -> 0 | R23: 0 | T23: =R23*S23 -> 0
B24: 令和８年１１月 | D24: =ROUNDDOWN(C24*25%,0) -> 0 | G24: =ROUNDDOWN(E24*F24*25%,0) -> 0 | H24: 生保以外 | K24: =ROUNDDOWN(I24*J24*25%,0) -> 0 | N24: =ROUNDDOWN(L24*M24*25%,0) -> 0 | Q24: =ROUNDDOWN(O24*P24*25%,0) -> 0 | T24: =ROUNDDOWN(R24*S24*25%,0) -> 0 | U24: =K24+K25+N24+N25+Q24+Q25+T24+T25 -> 0 | V24: =G24+U24 -> 0 | W24: =D24+G24+U24 -> 0
H25: 生保 | I25: 880 | K25: =I25*J25 -> 0 | L25: 550 | N25: =L25*M25 -> 0 | O25: =IF(OR(Q4="介護老人福祉施設サービス",Q4="短期入所生活介護",Q4="介護予防短期入所生活介護"),380,550) -> 550 | Q25: =O25*P25 -> 0 | R25: 0 | T25: =R25*S25 -> 0
B26: 令和８年１２月 | D26: =ROUNDDOWN(C26*25%,0) -> 0 | G26: =ROUNDDOWN(E26*F26*25%,0) -> 0 | H26: 生保以外 | K26: =ROUNDDOWN(I26*J26*25%,0) -> 0 | N26: =ROUNDDOWN(L26*M26*25%,0) -> 0 | Q26: =ROUNDDOWN(O26*P26*25%,0) -> 0 | T26: =ROUNDDOWN(R26*S26*25%,0) -> 0 | U26: =K26+K27+N26+N27+Q26+Q27+T26+T27 -> 0 | V26: =G26+U26 -> 0 | W26: =D26+G26+U26 -> 0
H27: 生保 | I27: 880 | K27: =I27*J27 -> 0 | L27: 550 | N27: =L27*M27 -> 0 | O27: =IF(OR(Q4="介護老人福祉施設サービス",Q4="短期入所生活介護",Q4="介護予防短期入所生活介護"),380,550) -> 550 | Q27: =O27*P27 -> 0 | R27: 0 | T27: =R27*S27 -> 0
B28: 令和９年１月 | D28: =ROUNDDOWN(C28*25%,0) -> 0 | G28: =ROUNDDOWN(E28*F28*25%,0) -> 0 | H28: 生保以外 | K28: =ROUNDDOWN(I28*J28*25%,0) -> 0 | N28: =ROUNDDOWN(L28*M28*25%,0) -> 0 | Q28: =ROUNDDOWN(O28*P28*25%,0) -> 0 | T28: =ROUNDDOWN(R28*S28*25%,0) -> 0 | U28: =K28+K29+N28+N29+Q28+Q29+T28+T29 -> 0 | V28: =G28+U28 -> 0 | W28: =D28+G28+U28 -> 0
H29: 生保 | I29: 880 | K29: =I29*J29 -> 0 | L29: 550 | N29: =L29*M29 -> 0 | O29: =IF(OR(Q4="介護老人福祉施設サービス",Q4="短期入所生活介護",Q4="介護予防短期入所生活介護"),380,550) -> 550 | Q29: =O29*P29 -> 0 | R29: 0 | T29: =R29*S29 -> 0
B30: 令和９年２月 | D30: =ROUNDDOWN(C30*25%,0) -> 0 | G30: =ROUNDDOWN(E30*F30*25%,0) -> 0 | H30: 生保以外 | K30: =ROUNDDOWN(I30*J30*25%,0) -> 0 | N30: =ROUNDDOWN(L30*M30*25%,0) -> 0 | Q30: =ROUNDDOWN(O30*P30*25%,0) -> 0 | T30: =ROUNDDOWN(R30*S30*25%,0) -> 0 | U30: =K30+K31+N30+N31+Q30+Q31+T30+T31 -> 0 | V30: =G30+U30 -> 0 | W30: =D30+G30+U30 -> 0
H31: 生保 | I31: 880 | K31: =I31*J31 -> 0 | L31: 550 | N31: =L31*M31 -> 0 | O31: =IF(OR(Q4="介護老人福祉施設サービス",Q4="短期入所生活介護",Q4="介護予防短期入所生活介護"),380,550) -> 550 | Q31: =O31*P31 -> 0 | R31: 0 | T31: =R31*S31 -> 0
B32: 令和９年３月 | D32: =ROUNDDOWN(C32*25%,0) -> 0 | G32: =ROUNDDOWN(E32*F32*25%,0) -> 0 | H32: 生保以外 | K32: =ROUNDDOWN(I32*J32*25%,0) -> 0 | N32: =ROUNDDOWN(L32*M32*25%,0) -> 0 | Q32: =ROUNDDOWN(O32*P32*25%,0) -> 0 | T32: =ROUNDDOWN(R32*S32*25%,0) -> 0 | U32: =K32+K33+N32+N33+Q32+Q33+T32+T33 -> 0 | V32: =G32+U32 -> 0 | W32: =D32+G32+U32 -> 0
H33: 生保 | I33: 880 | K33: =I33*J33 -> 0 | L33: 550 | N33: =L33*M33 -> 0 | O33: =IF(OR(Q4="介護老人福祉施設サービス",Q4="短期入所生活介護",Q4="介護予防短期入所生活介護"),380,550) -> 550 | Q33: =O33*P33 -> 0 | R33: 0 | T33: =R33*S33 -> 0
B34: 合 計 | C34: =SUM(C10:C33) -> 0 | D34: =SUM(D10:D33) -> 0 | G34: =SUM(G10:G33) -> 0 | U34: =SUM(U10:U33) -> 0 | V34: =SUM(V10:V33) -> 0 | W34: =SUM(W10:W33) -> 0
M36: 事務処理欄 | N36: 生保 | O36: 有無 | P36: 期間 | S36: 高額 | T36: 段階 | U36: 期間
B37: 上半期実績 報告用 | C37: サービス費 軽減額 | D37: 食費 軽減額 | E37: 居住費 軽減額 | F37: 食費居住費 軽減総額 | G37: 軽減総額
C38: =SUM(D10:D20)*2 -> 0 | D38: =SUM(G10:G20)*2 -> 0 | E38: =SUM(U10:U20)*2 -> 0 | F38: =SUM(V10:V20)*2 -> 0 | G38: =SUM(W10:W20)*2 -> 0
N39: 社福 | O39: 段階 | P39: 期間 | S39: 負担 限度 | T39: 段階 | U39: 期間
B40: ８年度実績 報告用 | C40: サービス費 軽減額 | D40: 食費 軽減額 | E40: 居住費 軽減額 | F40: 食費居住費 軽減総額 | G40: 軽減総額
C41: =SUM(D10:D32) -> 0 | D41: =SUM(G10:G32) -> 0 | E41: =SUM(U10:U32) -> 0 | F41: =SUM(V10:V32) -> 0 | G41: =SUM(W10:W32) -> 0

Sheet 15氏名
O1: ※上半期調査時は黄色のセル・下半期調査時は オレンジのセルに入力してください。
A2: 1氏名
B4: 被保険者番号： | H4: 事業所番号： | I4: ='1氏名'!I4 -> 0 | O4: 軽減サービス名： | Q4: ='1氏名'!Q4 -> 0
B5: 軽減対象者氏名： | H5: 事業所名： | I5: ='1氏名'!I5 -> 0
B7: 提供年月 | C7: ①サービス費 （利用者負担額×25％） ※小数点以下切捨て ※生活保護受給者は軽減無し ※サービス種別、利用者負担段階によっては軽減無し | E7: ②食費（1日あたりの負担限度額×利用日数×25％） ※小数点以下切捨て ※生活保護受給者は軽減無し ※通所介護の場合は、１日あたりの食費×利用日数 | I7: ③居住費 上段（１日あたりの負担限度額×利用日数×25％） ※生活保護受給の場合は下段（１日あたりの負担限度額×利用日数×100％） | V7: ②＋③計 | W7: ①+②+③ 月毎の軽減総額
I8: ユニット型個室 | L8: ユニット型個室的多床室 | O8: 従来型個室 | R8: 多床室 | U8: 計
C9: 利用者負担額 | D9: 軽減額 | E9: 円/日 | F9: 日数 | G9: 軽減額 | I9: 円/日 | J9: 日数 | K9: 軽減額 | L9: 円/日 | M9: 日数 | N9: 軽減額 | O9: 円/日 | P9: 日数 | Q9: 軽減額 | R9: 円/日 | S9: 日数 | T9: 軽減額
B10: 令和８年４月 | D10: =ROUNDDOWN(C10*25%,0) -> 0 | G10: =ROUNDDOWN(E10*F10*25%,0) -> 0 | H10: 生保以外 | K10: =ROUNDDOWN(I10*J10*25%,0) -> 0 | N10: =ROUNDDOWN(L10*M10*25%,0) -> 0 | Q10: =ROUNDDOWN(O10*P10*25%,0) -> 0 | T10: =ROUNDDOWN(R10*S10*25%,0) -> 0 | U10: =K10+K11+N10+N11+Q10+Q11+T10+T11 -> 0 | V10: =G10+U10 -> 0 | W10: =D10+G10+U10 -> 0
H11: 生保 | I11: 880 | K11: =I11*J11 -> 0 | L11: 550 | N11: =L11*M11 -> 0 | O11: =IF(OR(Q4="介護老人福祉施設サービス",Q4="短期入所生活介護",Q4="介護予防短期入所生活介護"),380,550) -> 550 | Q11: =O11*P11 -> 0 | R11: 0 | T11: =R11*S11 -> 0
B12: 令和８年５月 | D12: =ROUNDDOWN(C12*25%,0) -> 0 | G12: =ROUNDDOWN(E12*F12*25%,0) -> 0 | H12: 生保以外 | K12: =ROUNDDOWN(I12*J12*25%,0) -> 0 | N12: =ROUNDDOWN(L12*M12*25%,0) -> 0 | Q12: =ROUNDDOWN(O12*P12*25%,0) -> 0 | T12: =ROUNDDOWN(R12*S12*25%,0) -> 0 | U12: =K12+K13+N12+N13+Q12+Q13+T12+T13 -> 0 | V12: =G12+U12 -> 0 | W12: =D12+G12+U12 -> 0
H13: 生保 | I13: 880 | K13: =I13*J13 -> 0 | L13: 550 | N13: =L13*M13 -> 0 | O13: =IF(OR(Q4="介護老人福祉施設サービス",Q4="短期入所生活介護",Q4="介護予防短期入所生活介護"),380,550) -> 550 | Q13: =O13*P13 -> 0 | R13: 0 | T13: =R13*S13 -> 0
B14: 令和８年６月 | D14: =ROUNDDOWN(C14*25%,0) -> 0 | G14: =ROUNDDOWN(E14*F14*25%,0) -> 0 | H14: 生保以外 | K14: =ROUNDDOWN(I14*J14*25%,0) -> 0 | N14: =ROUNDDOWN(L14*M14*25%,0) -> 0 | Q14: =ROUNDDOWN(O14*P14*25%,0) -> 0 | T14: =ROUNDDOWN(R14*S14*25%,0) -> 0 | U14: =K14+K15+N14+N15+Q14+Q15+T14+T15 -> 0 | V14: =G14+U14 -> 0 | W14: =D14+G14+U14 -> 0
H15: 生保 | I15: 880 | K15: =I15*J15 -> 0 | L15: 550 | N15: =L15*M15 -> 0 | O15: =IF(OR(Q4="介護老人福祉施設サービス",Q4="短期入所生活介護",Q4="介護予防短期入所生活介護"),380,550) -> 550 | Q15: =O15*P15 -> 0 | R15: 0 | T15: =R15*S15 -> 0
B16: 令和８年７月 | D16: =ROUNDDOWN(C16*25%,0) -> 0 | G16: =ROUNDDOWN(E16*F16*25%,0) -> 0 | H16: 生保以外 | K16: =ROUNDDOWN(I16*J16*25%,0) -> 0 | N16: =ROUNDDOWN(L16*M16*25%,0) -> 0 | Q16: =ROUNDDOWN(O16*P16*25%,0) -> 0 | T16: =ROUNDDOWN(R16*S16*25%,0) -> 0 | U16: =K16+K17+N16+N17+Q16+Q17+T16+T17 -> 0 | V16: =G16+U16 -> 0 | W16: =D16+G16+U16 -> 0
H17: 生保 | I17: 880 | K17: =I17*J17 -> 0 | L17: 550 | N17: =L17*M17 -> 0 | O17: =IF(OR(Q4="介護老人福祉施設サービス",Q4="短期入所生活介護",Q4="介護予防短期入所生活介護"),380,550) -> 550 | Q17: =O17*P17 -> 0 | R17: 0 | T17: =R17*S17 -> 0
B18: 令和８年８月 | D18: =ROUNDDOWN(C18*25%,0) -> 0 | G18: =ROUNDDOWN(E18*F18*25%,0) -> 0 | H18: 生保以外 | K18: =ROUNDDOWN(I18*J18*25%,0) -> 0 | N18: =ROUNDDOWN(L18*M18*25%,0) -> 0 | Q18: =ROUNDDOWN(O18*P18*25%,0) -> 0 | T18: =ROUNDDOWN(R18*S18*25%,0) -> 0 | U18: =K18+K19+N18+N19+Q18+Q19+T18+T19 -> 0 | V18: =G18+U18 -> 0 | W18: =D18+G18+U18 -> 0
H19: 生保 | I19: 880 | K19: =I19*J19 -> 0 | L19: 550 | N19: =L19*M19 -> 0 | O19: =IF(OR(Q4="介護老人福祉施設サービス",Q4="短期入所生活介護",Q4="介護予防短期入所生活介護"),380,550) -> 550 | Q19: =O19*P19 -> 0 | R19: 0 | T19: =R19*S19 -> 0
B20: 令和８年９月 | D20: =ROUNDDOWN(C20*25%,0) -> 0 | G20: =ROUNDDOWN(E20*F20*25%,0) -> 0 | H20: 生保以外 | K20: =ROUNDDOWN(I20*J20*25%,0) -> 0 | N20: =ROUNDDOWN(L20*M20*25%,0) -> 0 | Q20: =ROUNDDOWN(O20*P20*25%,0) -> 0 | T20: =ROUNDDOWN(R20*S20*25%,0) -> 0 | U20: =K20+K21+N20+N21+Q20+Q21+T20+T21 -> 0 | V20: =G20+U20 -> 0 | W20: =D20+G20+U20 -> 0
H21: 生保 | I21: 880 | K21: =I21*J21 -> 0 | L21: 550 | N21: =L21*M21 -> 0 | O21: =IF(OR(Q4="介護老人福祉施設サービス",Q4="短期入所生活介護",Q4="介護予防短期入所生活介護"),380,550) -> 550 | Q21: =O21*P21 -> 0 | R21: 0 | T21: =R21*S21 -> 0
B22: 令和８年１０月 | D22: =ROUNDDOWN(C22*25%,0) -> 0 | G22: =ROUNDDOWN(E22*F22*25%,0) -> 0 | H22: 生保以外 | K22: =ROUNDDOWN(I22*J22*25%,0) -> 0 | N22: =ROUNDDOWN(L22*M22*25%,0) -> 0 | Q22: =ROUNDDOWN(O22*P22*25%,0) -> 0 | T22: =ROUNDDOWN(R22*S22*25%,0) -> 0 | U22: =K22+K23+N22+N23+Q22+Q23+T22+T23 -> 0 | V22: =G22+U22 -> 0 | W22: =D22+G22+U22 -> 0
H23: 生保 | I23: 880 | K23: =I23*J23 -> 0 | L23: 550 | N23: =L23*M23 -> 0 | O23: =IF(OR(Q4="介護老人福祉施設サービス",Q4="短期入所生活介護",Q4="介護予防短期入所生活介護"),380,550) -> 550 | Q23: =O23*P23 -> 0 | R23: 0 | T23: =R23*S23 -> 0
B24: 令和８年１１月 | D24: =ROUNDDOWN(C24*25%,0) -> 0 | G24: =ROUNDDOWN(E24*F24*25%,0) -> 0 | H24: 生保以外 | K24: =ROUNDDOWN(I24*J24*25%,0) -> 0 | N24: =ROUNDDOWN(L24*M24*25%,0) -> 0 | Q24: =ROUNDDOWN(O24*P24*25%,0) -> 0 | T24: =ROUNDDOWN(R24*S24*25%,0) -> 0 | U24: =K24+K25+N24+N25+Q24+Q25+T24+T25 -> 0 | V24: =G24+U24 -> 0 | W24: =D24+G24+U24 -> 0
H25: 生保 | I25: 880 | K25: =I25*J25 -> 0 | L25: 550 | N25: =L25*M25 -> 0 | O25: =IF(OR(Q4="介護老人福祉施設サービス",Q4="短期入所生活介護",Q4="介護予防短期入所生活介護"),380,550) -> 550 | Q25: =O25*P25 -> 0 | R25: 0 | T25: =R25*S25 -> 0
B26: 令和８年１２月 | D26: =ROUNDDOWN(C26*25%,0) -> 0 | G26: =ROUNDDOWN(E26*F26*25%,0) -> 0 | H26: 生保以外 | K26: =ROUNDDOWN(I26*J26*25%,0) -> 0 | N26: =ROUNDDOWN(L26*M26*25%,0) -> 0 | Q26: =ROUNDDOWN(O26*P26*25%,0) -> 0 | T26: =ROUNDDOWN(R26*S26*25%,0) -> 0 | U26: =K26+K27+N26+N27+Q26+Q27+T26+T27 -> 0 | V26: =G26+U26 -> 0 | W26: =D26+G26+U26 -> 0
H27: 生保 | I27: 880 | K27: =I27*J27 -> 0 | L27: 550 | N27: =L27*M27 -> 0 | O27: =IF(OR(Q4="介護老人福祉施設サービス",Q4="短期入所生活介護",Q4="介護予防短期入所生活介護"),380,550) -> 550 | Q27: =O27*P27 -> 0 | R27: 0 | T27: =R27*S27 -> 0
B28: 令和９年１月 | D28: =ROUNDDOWN(C28*25%,0) -> 0 | G28: =ROUNDDOWN(E28*F28*25%,0) -> 0 | H28: 生保以外 | K28: =ROUNDDOWN(I28*J28*25%,0) -> 0 | N28: =ROUNDDOWN(L28*M28*25%,0) -> 0 | Q28: =ROUNDDOWN(O28*P28*25%,0) -> 0 | T28: =ROUNDDOWN(R28*S28*25%,0) -> 0 | U28: =K28+K29+N28+N29+Q28+Q29+T28+T29 -> 0 | V28: =G28+U28 -> 0 | W28: =D28+G28+U28 -> 0
H29: 生保 | I29: 880 | K29: =I29*J29 -> 0 | L29: 550 | N29: =L29*M29 -> 0 | O29: =IF(OR(Q4="介護老人福祉施設サービス",Q4="短期入所生活介護",Q4="介護予防短期入所生活介護"),380,550) -> 550 | Q29: =O29*P29 -> 0 | R29: 0 | T29: =R29*S29 -> 0
B30: 令和９年２月 | D30: =ROUNDDOWN(C30*25%,0) -> 0 | G30: =ROUNDDOWN(E30*F30*25%,0) -> 0 | H30: 生保以外 | K30: =ROUNDDOWN(I30*J30*25%,0) -> 0 | N30: =ROUNDDOWN(L30*M30*25%,0) -> 0 | Q30: =ROUNDDOWN(O30*P30*25%,0) -> 0 | T30: =ROUNDDOWN(R30*S30*25%,0) -> 0 | U30: =K30+K31+N30+N31+Q30+Q31+T30+T31 -> 0 | V30: =G30+U30 -> 0 | W30: =D30+G30+U30 -> 0
H31: 生保 | I31: 880 | K31: =I31*J31 -> 0 | L31: 550 | N31: =L31*M31 -> 0 | O31: =IF(OR(Q4="介護老人福祉施設サービス",Q4="短期入所生活介護",Q4="介護予防短期入所生活介護"),380,550) -> 550 | Q31: =O31*P31 -> 0 | R31: 0 | T31: =R31*S31 -> 0
B32: 令和９年３月 | D32: =ROUNDDOWN(C32*25%,0) -> 0 | G32: =ROUNDDOWN(E32*F32*25%,0) -> 0 | H32: 生保以外 | K32: =ROUNDDOWN(I32*J32*25%,0) -> 0 | N32: =ROUNDDOWN(L32*M32*25%,0) -> 0 | Q32: =ROUNDDOWN(O32*P32*25%,0) -> 0 | T32: =ROUNDDOWN(R32*S32*25%,0) -> 0 | U32: =K32+K33+N32+N33+Q32+Q33+T32+T33 -> 0 | V32: =G32+U32 -> 0 | W32: =D32+G32+U32 -> 0
H33: 生保 | I33: 880 | K33: =I33*J33 -> 0 | L33: 550 | N33: =L33*M33 -> 0 | O33: =IF(OR(Q4="介護老人福祉施設サービス",Q4="短期入所生活介護",Q4="介護予防短期入所生活介護"),380,550) -> 550 | Q33: =O33*P33 -> 0 | R33: 0 | T33: =R33*S33 -> 0
B34: 合 計 | C34: =SUM(C10:C33) -> 0 | D34: =SUM(D10:D33) -> 0 | G34: =SUM(G10:G33) -> 0 | U34: =SUM(U10:U33) -> 0 | V34: =SUM(V10:V33) -> 0 | W34: =SUM(W10:W33) -> 0
M36: 事務処理欄 | N36: 生保 | O36: 有無 | P36: 期間 | S36: 高額 | T36: 段階 | U36: 期間
B37: 上半期実績 報告用 | C37: サービス費 軽減額 | D37: 食費 軽減額 | E37: 居住費 軽減額 | F37: 食費居住費 軽減総額 | G37: 軽減総額
C38: =SUM(D10:D20)*2 -> 0 | D38: =SUM(G10:G20)*2 -> 0 | E38: =SUM(U10:U20)*2 -> 0 | F38: =SUM(V10:V20)*2 -> 0 | G38: =SUM(W10:W20)*2 -> 0
N39: 社福 | O39: 段階 | P39: 期間 | S39: 負担 限度 | T39: 段階 | U39: 期間
B40: ８年度実績 報告用 | C40: サービス費 軽減額 | D40: 食費 軽減額 | E40: 居住費 軽減額 | F40: 食費居住費 軽減総額 | G40: 軽減総額
C41: =SUM(D10:D32) -> 0 | D41: =SUM(G10:G32) -> 0 | E41: =SUM(U10:U32) -> 0 | F41: =SUM(V10:V32) -> 0 | G41: =SUM(W10:W32) -> 0

Sheet 他市1
O1: ※上半期調査時は黄色のセル・下半期調査時は オレンジのセルに入力してください。
A2: 1氏名 | B2: 保険者：
B4: 被保険者番号： | H4: 事業所番号： | I4: ='1氏名'!I4 -> 0 | O4: 軽減サービス名： | Q4: ='1氏名'!Q4 -> 0
B5: 軽減対象者氏名： | H5: 事業所名： | I5: ='1氏名'!I5 -> 0
B7: 提供年月 | C7: ①サービス費 （利用者負担額×25％） ※小数点以下切捨て ※生活保護受給者は軽減無し ※サービス種別、利用者負担段階によっては軽減無し | E7: ②食費（1日あたりの負担限度額×利用日数×25％） ※小数点以下切捨て ※生活保護受給者は軽減無し ※通所介護の場合は、１日あたりの食費×利用日数 | I7: ③居住費 上段（１日あたりの負担限度額×利用日数×25％） ※生活保護受給の場合は下段（１日あたりの負担限度額×利用日数×100％） | V7: ②＋③計 | W7: ①+②+③ 月毎の軽減総額
I8: ユニット型個室 | L8: ユニット型個室的多床室 | O8: 従来型個室 | R8: 多床室 | U8: 計
C9: 利用者負担額 | D9: 軽減額 | E9: 円/日 | F9: 日数 | G9: 軽減額 | I9: 円/日 | J9: 日数 | K9: 軽減額 | L9: 円/日 | M9: 日数 | N9: 軽減額 | O9: 円/日 | P9: 日数 | Q9: 軽減額 | R9: 円/日 | S9: 日数 | T9: 軽減額
B10: 令和８年４月 | D10: =ROUNDDOWN(C10*25%,0) -> 0 | G10: =ROUNDDOWN(E10*F10*25%,0) -> 0 | H10: 生保以外 | K10: =ROUNDDOWN(I10*J10*25%,0) -> 0 | N10: =ROUNDDOWN(L10*M10*25%,0) -> 0 | Q10: =ROUNDDOWN(O10*P10*25%,0) -> 0 | T10: =ROUNDDOWN(R10*S10*25%,0) -> 0 | U10: =K10+K11+N10+N11+Q10+Q11+T10+T11 -> 0 | V10: =G10+U10 -> 0 | W10: =D10+G10+U10 -> 0
H11: 生保 | I11: 880 | K11: =I11*J11 -> 0 | L11: 550 | N11: =L11*M11 -> 0 | O11: =IF(OR(Q4="介護老人福祉施設サービス",Q4="短期入所生活介護",Q4="介護予防短期入所生活介護"),380,550) -> 550 | Q11: =O11*P11 -> 0 | R11: 0 | T11: =R11*S11 -> 0
B12: 令和８年５月 | D12: =ROUNDDOWN(C12*25%,0) -> 0 | G12: =ROUNDDOWN(E12*F12*25%,0) -> 0 | H12: 生保以外 | K12: =ROUNDDOWN(I12*J12*25%,0) -> 0 | N12: =ROUNDDOWN(L12*M12*25%,0) -> 0 | Q12: =ROUNDDOWN(O12*P12*25%,0) -> 0 | T12: =ROUNDDOWN(R12*S12*25%,0) -> 0 | U12: =K12+K13+N12+N13+Q12+Q13+T12+T13 -> 0 | V12: =G12+U12 -> 0 | W12: =D12+G12+U12 -> 0
H13: 生保 | I13: 880 | K13: =I13*J13 -> 0 | L13: 550 | N13: =L13*M13 -> 0 | O13: =IF(OR(Q4="介護老人福祉施設サービス",Q4="短期入所生活介護",Q4="介護予防短期入所生活介護"),380,550) -> 550 | Q13: =O13*P13 -> 0 | R13: 0 | T13: =R13*S13 -> 0
B14: 令和８年６月 | D14: =ROUNDDOWN(C14*25%,0) -> 0 | G14: =ROUNDDOWN(E14*F14*25%,0) -> 0 | H14: 生保以外 | K14: =ROUNDDOWN(I14*J14*25%,0) -> 0 | N14: =ROUNDDOWN(L14*M14*25%,0) -> 0 | Q14: =ROUNDDOWN(O14*P14*25%,0) -> 0 | T14: =ROUNDDOWN(R14*S14*25%,0) -> 0 | U14: =K14+K15+N14+N15+Q14+Q15+T14+T15 -> 0 | V14: =G14+U14 -> 0 | W14: =D14+G14+U14 -> 0
H15: 生保 | I15: 880 | K15: =I15*J15 -> 0 | L15: 550 | N15: =L15*M15 -> 0 | O15: =IF(OR(Q4="介護老人福祉施設サービス",Q4="短期入所生活介護",Q4="介護予防短期入所生活介護"),380,550) -> 550 | Q15: =O15*P15 -> 0 | R15: 0 | T15: =R15*S15 -> 0
B16: 令和８年７月 | D16: =ROUNDDOWN(C16*25%,0) -> 0 | G16: =ROUNDDOWN(E16*F16*25%,0) -> 0 | H16: 生保以外 | K16: =ROUNDDOWN(I16*J16*25%,0) -> 0 | N16: =ROUNDDOWN(L16*M16*25%,0) -> 0 | Q16: =ROUNDDOWN(O16*P16*25%,0) -> 0 | T16: =ROUNDDOWN(R16*S16*25%,0) -> 0 | U16: =K16+K17+N16+N17+Q16+Q17+T16+T17 -> 0 | V16: =G16+U16 -> 0 | W16: =D16+G16+U16 -> 0
H17: 生保 | I17: 880 | K17: =I17*J17 -> 0 | L17: 550 | N17: =L17*M17 -> 0 | O17: =IF(OR(Q4="介護老人福祉施設サービス",Q4="短期入所生活介護",Q4="介護予防短期入所生活介護"),380,550) -> 550 | Q17: =O17*P17 -> 0 | R17: 0 | T17: =R17*S17 -> 0
B18: 令和８年８月 | D18: =ROUNDDOWN(C18*25%,0) -> 0 | G18: =ROUNDDOWN(E18*F18*25%,0) -> 0 | H18: 生保以外 | K18: =ROUNDDOWN(I18*J18*25%,0) -> 0 | N18: =ROUNDDOWN(L18*M18*25%,0) -> 0 | Q18: =ROUNDDOWN(O18*P18*25%,0) -> 0 | T18: =ROUNDDOWN(R18*S18*25%,0) -> 0 | U18: =K18+K19+N18+N19+Q18+Q19+T18+T19 -> 0 | V18: =G18+U18 -> 0 | W18: =D18+G18+U18 -> 0
H19: 生保 | I19: 880 | K19: =I19*J19 -> 0 | L19: 550 | N19: =L19*M19 -> 0 | O19: =IF(OR(Q4="介護老人福祉施設サービス",Q4="短期入所生活介護",Q4="介護予防短期入所生活介護"),380,550) -> 550 | Q19: =O19*P19 -> 0 | R19: 0 | T19: =R19*S19 -> 0
B20: 令和８年９月 | D20: =ROUNDDOWN(C20*25%,0) -> 0 | G20: =ROUNDDOWN(E20*F20*25%,0) -> 0 | H20: 生保以外 | K20: =ROUNDDOWN(I20*J20*25%,0) -> 0 | N20: =ROUNDDOWN(L20*M20*25%,0) -> 0 | Q20: =ROUNDDOWN(O20*P20*25%,0) -> 0 | T20: =ROUNDDOWN(R20*S20*25%,0) -> 0 | U20: =K20+K21+N20+N21+Q20+Q21+T20+T21 -> 0 | V20: =G20+U20 -> 0 | W20: =D20+G20+U20 -> 0
H21: 生保 | I21: 880 | K21: =I21*J21 -> 0 | L21: 550 | N21: =L21*M21 -> 0 | O21: =IF(OR(Q4="介護老人福祉施設サービス",Q4="短期入所生活介護",Q4="介護予防短期入所生活介護"),380,550) -> 550 | Q21: =O21*P21 -> 0 | R21: 0 | T21: =R21*S21 -> 0
B22: 令和８年１０月 | D22: =ROUNDDOWN(C22*25%,0) -> 0 | G22: =ROUNDDOWN(E22*F22*25%,0) -> 0 | H22: 生保以外 | K22: =ROUNDDOWN(I22*J22*25%,0) -> 0 | N22: =ROUNDDOWN(L22*M22*25%,0) -> 0 | Q22: =ROUNDDOWN(O22*P22*25%,0) -> 0 | T22: =ROUNDDOWN(R22*S22*25%,0) -> 0 | U22: =K22+K23+N22+N23+Q22+Q23+T22+T23 -> 0 | V22: =G22+U22 -> 0 | W22: =D22+G22+U22 -> 0
H23: 生保 | I23: 880 | K23: =I23*J23 -> 0 | L23: 550 | N23: =L23*M23 -> 0 | O23: =IF(OR(Q4="介護老人福祉施設サービス",Q4="短期入所生活介護",Q4="介護予防短期入所生活介護"),380,550) -> 550 | Q23: =O23*P23 -> 0 | R23: 0 | T23: =R23*S23 -> 0
B24: 令和８年１１月 | D24: =ROUNDDOWN(C24*25%,0) -> 0 | G24: =ROUNDDOWN(E24*F24*25%,0) -> 0 | H24: 生保以外 | K24: =ROUNDDOWN(I24*J24*25%,0) -> 0 | N24: =ROUNDDOWN(L24*M24*25%,0) -> 0 | Q24: =ROUNDDOWN(O24*P24*25%,0) -> 0 | T24: =ROUNDDOWN(R24*S24*25%,0) -> 0 | U24: =K24+K25+N24+N25+Q24+Q25+T24+T25 -> 0 | V24: =G24+U24 -> 0 | W24: =D24+G24+U24 -> 0
H25: 生保 | I25: 880 | K25: =I25*J25 -> 0 | L25: 550 | N25: =L25*M25 -> 0 | O25: =IF(OR(Q4="介護老人福祉施設サービス",Q4="短期入所生活介護",Q4="介護予防短期入所生活介護"),380,550) -> 550 | Q25: =O25*P25 -> 0 | R25: 0 | T25: =R25*S25 -> 0
B26: 令和８年１２月 | D26: =ROUNDDOWN(C26*25%,0) -> 0 | G26: =ROUNDDOWN(E26*F26*25%,0) -> 0 | H26: 生保以外 | K26: =ROUNDDOWN(I26*J26*25%,0) -> 0 | N26: =ROUNDDOWN(L26*M26*25%,0) -> 0 | Q26: =ROUNDDOWN(O26*P26*25%,0) -> 0 | T26: =ROUNDDOWN(R26*S26*25%,0) -> 0 | U26: =K26+K27+N26+N27+Q26+Q27+T26+T27 -> 0 | V26: =G26+U26 -> 0 | W26: =D26+G26+U26 -> 0
H27: 生保 | I27: 880 | K27: =I27*J27 -> 0 | L27: 550 | N27: =L27*M27 -> 0 | O27: =IF(OR(Q4="介護老人福祉施設サービス",Q4="短期入所生活介護",Q4="介護予防短期入所生活介護"),380,550) -> 550 | Q27: =O27*P27 -> 0 | R27: 0 | T27: =R27*S27 -> 0
B28: 令和９年１月 | D28: =ROUNDDOWN(C28*25%,0) -> 0 | G28: =ROUNDDOWN(E28*F28*25%,0) -> 0 | H28: 生保以外 | K28: =ROUNDDOWN(I28*J28*25%,0) -> 0 | N28: =ROUNDDOWN(L28*M28*25%,0) -> 0 | Q28: =ROUNDDOWN(O28*P28*25%,0) -> 0 | T28: =ROUNDDOWN(R28*S28*25%,0) -> 0 | U28: =K28+K29+N28+N29+Q28+Q29+T28+T29 -> 0 | V28: =G28+U28 -> 0 | W28: =D28+G28+U28 -> 0
H29: 生保 | I29: 880 | K29: =I29*J29 -> 0 | L29: 550 | N29: =L29*M29 -> 0 | O29: =IF(OR(Q4="介護老人福祉施設サービス",Q4="短期入所生活介護",Q4="介護予防短期入所生活介護"),380,550) -> 550 | Q29: =O29*P29 -> 0 | R29: 0 | T29: =R29*S29 -> 0
B30: 令和９年２月 | D30: =ROUNDDOWN(C30*25%,0) -> 0 | G30: =ROUNDDOWN(E30*F30*25%,0) -> 0 | H30: 生保以外 | K30: =ROUNDDOWN(I30*J30*25%,0) -> 0 | N30: =ROUNDDOWN(L30*M30*25%,0) -> 0 | Q30: =ROUNDDOWN(O30*P30*25%,0) -> 0 | T30: =ROUNDDOWN(R30*S30*25%,0) -> 0 | U30: =K30+K31+N30+N31+Q30+Q31+T30+T31 -> 0 | V30: =G30+U30 -> 0 | W30: =D30+G30+U30 -> 0
H31: 生保 | I31: 880 | K31: =I31*J31 -> 0 | L31: 550 | N31: =L31*M31 -> 0 | O31: =IF(OR(Q4="介護老人福祉施設サービス",Q4="短期入所生活介護",Q4="介護予防短期入所生活介護"),380,550) -> 550 | Q31: =O31*P31 -> 0 | R31: 0 | T31: =R31*S31 -> 0
B32: 令和９年３月 | D32: =ROUNDDOWN(C32*25%,0) -> 0 | G32: =ROUNDDOWN(E32*F32*25%,0) -> 0 | H32: 生保以外 | K32: =ROUNDDOWN(I32*J32*25%,0) -> 0 | N32: =ROUNDDOWN(L32*M32*25%,0) -> 0 | Q32: =ROUNDDOWN(O32*P32*25%,0) -> 0 | T32: =ROUNDDOWN(R32*S32*25%,0) -> 0 | U32: =K32+K33+N32+N33+Q32+Q33+T32+T33 -> 0 | V32: =G32+U32 -> 0 | W32: =D32+G32+U32 -> 0
H33: 生保 | I33: 880 | K33: =I33*J33 -> 0 | L33: 550 | N33: =L33*M33 -> 0 | O33: =IF(OR(Q4="介護老人福祉施設サービス",Q4="短期入所生活介護",Q4="介護予防短期入所生活介護"),380,550) -> 550 | Q33: =O33*P33 -> 0 | R33: 0 | T33: =R33*S33 -> 0
B34: 合 計 | C34: =SUM(C10:C33) -> 0 | D34: =SUM(D10:D33) -> 0 | G34: =SUM(G10:G33) -> 0 | U34: =SUM(U10:U33) -> 0 | V34: =SUM(V10:V33) -> 0 | W34: =SUM(W10:W33) -> 0
B37: 上半期実績 報告用 | C37: サービス費 軽減額 | D37: 食費 軽減額 | E37: 居住費 軽減額 | F37: 食費居住費 軽減総額 | G37: 軽減総額
C38: =SUM(D10:D20)*2 -> 0 | D38: =SUM(G10:G20)*2 -> 0 | E38: =SUM(U10:U20)*2 -> 0 | F38: =SUM(V10:V20)*2 -> 0 | G38: =SUM(W10:W20)*2 -> 0
B40: ８年度実績 報告用 | C40: サービス費 軽減額 | D40: 食費 軽減額 | E40: 居住費 軽減額 | F40: 食費居住費 軽減総額 | G40: 軽減総額
C41: =SUM(D10:D32) -> 0 | D41: =SUM(G10:G32) -> 0 | E41: =SUM(U10:U32) -> 0 | F41: =SUM(V10:V32) -> 0 | G41: =SUM(W10:W32) -> 0

Sheet 他市2
O1: ※上半期調査時は黄色のセル・下半期調査時は オレンジのセルに入力してください。
A2: 1氏名 | B2: 保険者：
B4: 被保険者番号： | H4: 事業所番号： | I4: ='1氏名'!I4 -> 0 | O4: 軽減サービス名： | Q4: ='1氏名'!Q4 -> 0
B5: 軽減対象者氏名： | H5: 事業所名： | I5: ='1氏名'!I5 -> 0
B7: 提供年月 | C7: ①サービス費 （利用者負担額×25％） ※小数点以下切捨て ※生活保護受給者は軽減無し ※サービス種別、利用者負担段階によっては軽減無し | E7: ②食費（1日あたりの負担限度額×利用日数×25％） ※小数点以下切捨て ※生活保護受給者は軽減無し ※通所介護の場合は、１日あたりの食費×利用日数 | I7: ③居住費 上段（１日あたりの負担限度額×利用日数×25％） ※生活保護受給の場合は下段（１日あたりの負担限度額×利用日数×100％） | V7: ②＋③計 | W7: ①+②+③ 月毎の軽減総額
I8: ユニット型個室 | L8: ユニット型個室的多床室 | O8: 従来型個室 | R8: 多床室 | U8: 計
C9: 利用者負担額 | D9: 軽減額 | E9: 円/日 | F9: 日数 | G9: 軽減額 | I9: 円/日 | J9: 日数 | K9: 軽減額 | L9: 円/日 | M9: 日数 | N9: 軽減額 | O9: 円/日 | P9: 日数 | Q9: 軽減額 | R9: 円/日 | S9: 日数 | T9: 軽減額
B10: 令和８年４月 | D10: =ROUNDDOWN(C10*25%,0) -> 0 | G10: =ROUNDDOWN(E10*F10*25%,0) -> 0 | H10: 生保以外 | K10: =ROUNDDOWN(I10*J10*25%,0) -> 0 | N10: =ROUNDDOWN(L10*M10*25%,0) -> 0 | Q10: =ROUNDDOWN(O10*P10*25%,0) -> 0 | T10: =ROUNDDOWN(R10*S10*25%,0) -> 0 | U10: =K10+K11+N10+N11+Q10+Q11+T10+T11 -> 0 | V10: =G10+U10 -> 0 | W10: =D10+G10+U10 -> 0
H11: 生保 | I11: 880 | K11: =I11*J11 -> 0 | L11: 550 | N11: =L11*M11 -> 0 | O11: =IF(OR(Q4="介護老人福祉施設サービス",Q4="短期入所生活介護",Q4="介護予防短期入所生活介護"),380,550) -> 550 | Q11: =O11*P11 -> 0 | R11: 0 | T11: =R11*S11 -> 0
B12: 令和８年５月 | D12: =ROUNDDOWN(C12*25%,0) -> 0 | G12: =ROUNDDOWN(E12*F12*25%,0) -> 0 | H12: 生保以外 | K12: =ROUNDDOWN(I12*J12*25%,0) -> 0 | N12: =ROUNDDOWN(L12*M12*25%,0) -> 0 | Q12: =ROUNDDOWN(O12*P12*25%,0) -> 0 | T12: =ROUNDDOWN(R12*S12*25%,0) -> 0 | U12: =K12+K13+N12+N13+Q12+Q13+T12+T13 -> 0 | V12: =G12+U12 -> 0 | W12: =D12+G12+U12 -> 0
H13: 生保 | I13: 880 | K13: =I13*J13 -> 0 | L13: 550 | N13: =L13*M13 -> 0 | O13: =IF(OR(Q4="介護老人福祉施設サービス",Q4="短期入所生活介護",Q4="介護予防短期入所生活介護"),380,550) -> 550 | Q13: =O13*P13 -> 0 | R13: 0 | T13: =R13*S13 -> 0
B14: 令和８年６月 | D14: =ROUNDDOWN(C14*25%,0) -> 0 | G14: =ROUNDDOWN(E14*F14*25%,0) -> 0 | H14: 生保以外 | K14: =ROUNDDOWN(I14*J14*25%,0) -> 0 | N14: =ROUNDDOWN(L14*M14*25%,0) -> 0 | Q14: =ROUNDDOWN(O14*P14*25%,0) -> 0 | T14: =ROUNDDOWN(R14*S14*25%,0) -> 0 | U14: =K14+K15+N14+N15+Q14+Q15+T14+T15 -> 0 | V14: =G14+U14 -> 0 | W14: =D14+G14+U14 -> 0
H15: 生保 | I15: 880 | K15: =I15*J15 -> 0 | L15: 550 | N15: =L15*M15 -> 0 | O15: =IF(OR(Q4="介護老人福祉施設サービス",Q4="短期入所生活介護",Q4="介護予防短期入所生活介護"),380,550) -> 550 | Q15: =O15*P15 -> 0 | R15: 0 | T15: =R15*S15 -> 0
B16: 令和８年７月 | D16: =ROUNDDOWN(C16*25%,0) -> 0 | G16: =ROUNDDOWN(E16*F16*25%,0) -> 0 | H16: 生保以外 | K16: =ROUNDDOWN(I16*J16*25%,0) -> 0 | N16: =ROUNDDOWN(L16*M16*25%,0) -> 0 | Q16: =ROUNDDOWN(O16*P16*25%,0) -> 0 | T16: =ROUNDDOWN(R16*S16*25%,0) -> 0 | U16: =K16+K17+N16+N17+Q16+Q17+T16+T17 -> 0 | V16: =G16+U16 -> 0 | W16: =D16+G16+U16 -> 0
H17: 生保 | I17: 880 | K17: =I17*J17 -> 0 | L17: 550 | N17: =L17*M17 -> 0 | O17: =IF(OR(Q4="介護老人福祉施設サービス",Q4="短期入所生活介護",Q4="介護予防短期入所生活介護"),380,550) -> 550 | Q17: =O17*P17 -> 0 | R17: 0 | T17: =R17*S17 -> 0
B18: 令和８年８月 | D18: =ROUNDDOWN(C18*25%,0) -> 0 | G18: =ROUNDDOWN(E18*F18*25%,0) -> 0 | H18: 生保以外 | K18: =ROUNDDOWN(I18*J18*25%,0) -> 0 | N18: =ROUNDDOWN(L18*M18*25%,0) -> 0 | Q18: =ROUNDDOWN(O18*P18*25%,0) -> 0 | T18: =ROUNDDOWN(R18*S18*25%,0) -> 0 | U18: =K18+K19+N18+N19+Q18+Q19+T18+T19 -> 0 | V18: =G18+U18 -> 0 | W18: =D18+G18+U18 -> 0
H19: 生保 | I19: 880 | K19: =I19*J19 -> 0 | L19: 550 | N19: =L19*M19 -> 0 | O19: =IF(OR(Q4="介護老人福祉施設サービス",Q4="短期入所生活介護",Q4="介護予防短期入所生活介護"),380,550) -> 550 | Q19: =O19*P19 -> 0 | R19: 0 | T19: =R19*S19 -> 0
B20: 令和８年９月 | D20: =ROUNDDOWN(C20*25%,0) -> 0 | G20: =ROUNDDOWN(E20*F20*25%,0) -> 0 | H20: 生保以外 | K20: =ROUNDDOWN(I20*J20*25%,0) -> 0 | N20: =ROUNDDOWN(L20*M20*25%,0) -> 0 | Q20: =ROUNDDOWN(O20*P20*25%,0) -> 0 | T20: =ROUNDDOWN(R20*S20*25%,0) -> 0 | U20: =K20+K21+N20+N21+Q20+Q21+T20+T21 -> 0 | V20: =G20+U20 -> 0 | W20: =D20+G20+U20 -> 0
H21: 生保 | I21: 880 | K21: =I21*J21 -> 0 | L21: 550 | N21: =L21*M21 -> 0 | O21: =IF(OR(Q4="介護老人福祉施設サービス",Q4="短期入所生活介護",Q4="介護予防短期入所生活介護"),380,550) -> 550 | Q21: =O21*P21 -> 0 | R21: 0 | T21: =R21*S21 -> 0
B22: 令和８年１０月 | D22: =ROUNDDOWN(C22*25%,0) -> 0 | G22: =ROUNDDOWN(E22*F22*25%,0) -> 0 | H22: 生保以外 | K22: =ROUNDDOWN(I22*J22*25%,0) -> 0 | N22: =ROUNDDOWN(L22*M22*25%,0) -> 0 | Q22: =ROUNDDOWN(O22*P22*25%,0) -> 0 | T22: =ROUNDDOWN(R22*S22*25%,0) -> 0 | U22: =K22+K23+N22+N23+Q22+Q23+T22+T23 -> 0 | V22: =G22+U22 -> 0 | W22: =D22+G22+U22 -> 0
H23: 生保 | I23: 880 | K23: =I23*J23 -> 0 | L23: 550 | N23: =L23*M23 -> 0 | O23: =IF(OR(Q4="介護老人福祉施設サービス",Q4="短期入所生活介護",Q4="介護予防短期入所生活介護"),380,550) -> 550 | Q23: =O23*P23 -> 0 | R23: 0 | T23: =R23*S23 -> 0
B24: 令和８年１１月 | D24: =ROUNDDOWN(C24*25%,0) -> 0 | G24: =ROUNDDOWN(E24*F24*25%,0) -> 0 | H24: 生保以外 | K24: =ROUNDDOWN(I24*J24*25%,0) -> 0 | N24: =ROUNDDOWN(L24*M24*25%,0) -> 0 | Q24: =ROUNDDOWN(O24*P24*25%,0) -> 0 | T24: =ROUNDDOWN(R24*S24*25%,0) -> 0 | U24: =K24+K25+N24+N25+Q24+Q25+T24+T25 -> 0 | V24: =G24+U24 -> 0 | W24: =D24+G24+U24 -> 0
H25: 生保 | I25: 880 | K25: =I25*J25 -> 0 | L25: 550 | N25: =L25*M25 -> 0 | O25: =IF(OR(Q4="介護老人福祉施設サービス",Q4="短期入所生活介護",Q4="介護予防短期入所生活介護"),380,550) -> 550 | Q25: =O25*P25 -> 0 | R25: 0 | T25: =R25*S25 -> 0
B26: 令和８年１２月 | D26: =ROUNDDOWN(C26*25%,0) -> 0 | G26: =ROUNDDOWN(E26*F26*25%,0) -> 0 | H26: 生保以外 | K26: =ROUNDDOWN(I26*J26*25%,0) -> 0 | N26: =ROUNDDOWN(L26*M26*25%,0) -> 0 | Q26: =ROUNDDOWN(O26*P26*25%,0) -> 0 | T26: =ROUNDDOWN(R26*S26*25%,0) -> 0 | U26: =K26+K27+N26+N27+Q26+Q27+T26+T27 -> 0 | V26: =G26+U26 -> 0 | W26: =D26+G26+U26 -> 0
H27: 生保 | I27: 880 | K27: =I27*J27 -> 0 | L27: 550 | N27: =L27*M27 -> 0 | O27: =IF(OR(Q4="介護老人福祉施設サービス",Q4="短期入所生活介護",Q4="介護予防短期入所生活介護"),380,550) -> 550 | Q27: =O27*P27 -> 0 | R27: 0 | T27: =R27*S27 -> 0
B28: 令和９年１月 | D28: =ROUNDDOWN(C28*25%,0) -> 0 | G28: =ROUNDDOWN(E28*F28*25%,0) -> 0 | H28: 生保以外 | K28: =ROUNDDOWN(I28*J28*25%,0) -> 0 | N28: =ROUNDDOWN(L28*M28*25%,0) -> 0 | Q28: =ROUNDDOWN(O28*P28*25%,0) -> 0 | T28: =ROUNDDOWN(R28*S28*25%,0) -> 0 | U28: =K28+K29+N28+N29+Q28+Q29+T28+T29 -> 0 | V28: =G28+U28 -> 0 | W28: =D28+G28+U28 -> 0
H29: 生保 | I29: 880 | K29: =I29*J29 -> 0 | L29: 550 | N29: =L29*M29 -> 0 | O29: =IF(OR(Q4="介護老人福祉施設サービス",Q4="短期入所生活介護",Q4="介護予防短期入所生活介護"),380,550) -> 550 | Q29: =O29*P29 -> 0 | R29: 0 | T29: =R29*S29 -> 0
B30: 令和９年２月 | D30: =ROUNDDOWN(C30*25%,0) -> 0 | G30: =ROUNDDOWN(E30*F30*25%,0) -> 0 | H30: 生保以外 | K30: =ROUNDDOWN(I30*J30*25%,0) -> 0 | N30: =ROUNDDOWN(L30*M30*25%,0) -> 0 | Q30: =ROUNDDOWN(O30*P30*25%,0) -> 0 | T30: =ROUNDDOWN(R30*S30*25%,0) -> 0 | U30: =K30+K31+N30+N31+Q30+Q31+T30+T31 -> 0 | V30: =G30+U30 -> 0 | W30: =D30+G30+U30 -> 0
H31: 生保 | I31: 880 | K31: =I31*J31 -> 0 | L31: 550 | N31: =L31*M31 -> 0 | O31: =IF(OR(Q4="介護老人福祉施設サービス",Q4="短期入所生活介護",Q4="介護予防短期入所生活介護"),380,550) -> 550 | Q31: =O31*P31 -> 0 | R31: 0 | T31: =R31*S31 -> 0
B32: 令和９年３月 | D32: =ROUNDDOWN(C32*25%,0) -> 0 | G32: =ROUNDDOWN(E32*F32*25%,0) -> 0 | H32: 生保以外 | K32: =ROUNDDOWN(I32*J32*25%,0) -> 0 | N32: =ROUNDDOWN(L32*M32*25%,0) -> 0 | Q32: =ROUNDDOWN(O32*P32*25%,0) -> 0 | T32: =ROUNDDOWN(R32*S32*25%,0) -> 0 | U32: =K32+K33+N32+N33+Q32+Q33+T32+T33 -> 0 | V32: =G32+U32 -> 0 | W32: =D32+G32+U32 -> 0
H33: 生保 | I33: 880 | K33: =I33*J33 -> 0 | L33: 550 | N33: =L33*M33 -> 0 | O33: =IF(OR(Q4="介護老人福祉施設サービス",Q4="短期入所生活介護",Q4="介護予防短期入所生活介護"),380,550) -> 550 | Q33: =O33*P33 -> 0 | R33: 0 | T33: =R33*S33 -> 0
B34: 合 計 | C34: =SUM(C10:C33) -> 0 | D34: =SUM(D10:D33) -> 0 | G34: =SUM(G10:G33) -> 0 | U34: =SUM(U10:U33) -> 0 | V34: =SUM(V10:V33) -> 0 | W34: =SUM(W10:W33) -> 0
B37: 上半期実績 報告用 | C37: サービス費 軽減額 | D37: 食費 軽減額 | E37: 居住費 軽減額 | F37: 食費居住費 軽減総額 | G37: 軽減総額
C38: =SUM(D10:D20)*2 -> 0 | D38: =SUM(G10:G20)*2 -> 0 | E38: =SUM(U10:U20)*2 -> 0 | F38: =SUM(V10:V20)*2 -> 0 | G38: =SUM(W10:W20)*2 -> 0
B40: ８年度実績 報告用 | C40: サービス費 軽減額 | D40: 食費 軽減額 | E40: 居住費 軽減額 | F40: 食費居住費 軽減総額 | G40: 軽減総額
C41: =SUM(D10:D32) -> 0 | D41: =SUM(G10:G32) -> 0 | E41: =SUM(U10:U32) -> 0 | F41: =SUM(V10:V32) -> 0 | G41: =SUM(W10:W32) -> 0

Sheet 他市3
O1: ※上半期調査時は黄色のセル・下半期調査時は オレンジのセルに入力してください。
A2: 1氏名 | B2: 保険者：
B4: 被保険者番号： | H4: 事業所番号： | I4: ='1氏名'!I4 -> 0 | O4: 軽減サービス名： | Q4: ='1氏名'!Q4 -> 0
B5: 軽減対象者氏名： | H5: 事業所名： | I5: ='1氏名'!I5 -> 0
B7: 提供年月 | C7: ①サービス費 （利用者負担額×25％） ※小数点以下切捨て ※生活保護受給者は軽減無し ※サービス種別、利用者負担段階によっては軽減無し | E7: ②食費（1日あたりの負担限度額×利用日数×25％） ※小数点以下切捨て ※生活保護受給者は軽減無し ※通所介護の場合は、１日あたりの食費×利用日数 | I7: ③居住費 上段（１日あたりの負担限度額×利用日数×25％） ※生活保護受給の場合は下段（１日あたりの負担限度額×利用日数×100％） | V7: ②＋③計 | W7: ①+②+③ 月毎の軽減総額
I8: ユニット型個室 | L8: ユニット型個室的多床室 | O8: 従来型個室 | R8: 多床室 | U8: 計
C9: 利用者負担額 | D9: 軽減額 | E9: 円/日 | F9: 日数 | G9: 軽減額 | I9: 円/日 | J9: 日数 | K9: 軽減額 | L9: 円/日 | M9: 日数 | N9: 軽減額 | O9: 円/日 | P9: 日数 | Q9: 軽減額 | R9: 円/日 | S9: 日数 | T9: 軽減額
B10: 令和８年４月 | D10: =ROUNDDOWN(C10*25%,0) -> 0 | G10: =ROUNDDOWN(E10*F10*25%,0) -> 0 | H10: 生保以外 | K10: =ROUNDDOWN(I10*J10*25%,0) -> 0 | N10: =ROUNDDOWN(L10*M10*25%,0) -> 0 | Q10: =ROUNDDOWN(O10*P10*25%,0) -> 0 | T10: =ROUNDDOWN(R10*S10*25%,0) -> 0 | U10: =K10+K11+N10+N11+Q10+Q11+T10+T11 -> 0 | V10: =G10+U10 -> 0 | W10: =D10+G10+U10 -> 0
H11: 生保 | I11: 880 | K11: =I11*J11 -> 0 | L11: 550 | N11: =L11*M11 -> 0 | O11: =IF(OR(Q4="介護老人福祉施設サービス",Q4="短期入所生活介護",Q4="介護予防短期入所生活介護"),380,550) -> 550 | Q11: =O11*P11 -> 0 | R11: 0 | T11: =R11*S11 -> 0
B12: 令和８年５月 | D12: =ROUNDDOWN(C12*25%,0) -> 0 | G12: =ROUNDDOWN(E12*F12*25%,0) -> 0 | H12: 生保以外 | K12: =ROUNDDOWN(I12*J12*25%,0) -> 0 | N12: =ROUNDDOWN(L12*M12*25%,0) -> 0 | Q12: =ROUNDDOWN(O12*P12*25%,0) -> 0 | T12: =ROUNDDOWN(R12*S12*25%,0) -> 0 | U12: =K12+K13+N12+N13+Q12+Q13+T12+T13 -> 0 | V12: =G12+U12 -> 0 | W12: =D12+G12+U12 -> 0
H13: 生保 | I13: 880 | K13: =I13*J13 -> 0 | L13: 550 | N13: =L13*M13 -> 0 | O13: =IF(OR(Q4="介護老人福祉施設サービス",Q4="短期入所生活介護",Q4="介護予防短期入所生活介護"),380,550) -> 550 | Q13: =O13*P13 -> 0 | R13: 0 | T13: =R13*S13 -> 0
B14: 令和８年６月 | D14: =ROUNDDOWN(C14*25%,0) -> 0 | G14: =ROUNDDOWN(E14*F14*25%,0) -> 0 | H14: 生保以外 | K14: =ROUNDDOWN(I14*J14*25%,0) -> 0 | N14: =ROUNDDOWN(L14*M14*25%,0) -> 0 | Q14: =ROUNDDOWN(O14*P14*25%,0) -> 0 | T14: =ROUNDDOWN(R14*S14*25%,0) -> 0 | U14: =K14+K15+N14+N15+Q14+Q15+T14+T15 -> 0 | V14: =G14+U14 -> 0 | W14: =D14+G14+U14 -> 0
H15: 生保 | I15: 880 | K15: =I15*J15 -> 0 | L15: 550 | N15: =L15*M15 -> 0 | O15: =IF(OR(Q4="介護老人福祉施設サービス",Q4="短期入所生活介護",Q4="介護予防短期入所生活介護"),380,550) -> 550 | Q15: =O15*P15 -> 0 | R15: 0 | T15: =R15*S15 -> 0
B16: 令和８年７月 | D16: =ROUNDDOWN(C16*25%,0) -> 0 | G16: =ROUNDDOWN(E16*F16*25%,0) -> 0 | H16: 生保以外 | K16: =ROUNDDOWN(I16*J16*25%,0) -> 0 | N16: =ROUNDDOWN(L16*M16*25%,0) -> 0 | Q16: =ROUNDDOWN(O16*P16*25%,0) -> 0 | T16: =ROUNDDOWN(R16*S16*25%,0) -> 0 | U16: =K16+K17+N16+N17+Q16+Q17+T16+T17 -> 0 | V16: =G16+U16 -> 0 | W16: =D16+G16+U16 -> 0
H17: 生保 | I17: 880 | K17: =I17*J17 -> 0 | L17: 550 | N17: =L17*M17 -> 0 | O17: =IF(OR(Q4="介護老人福祉施設サービス",Q4="短期入所生活介護",Q4="介護予防短期入所生活介護"),380,550) -> 550 | Q17: =O17*P17 -> 0 | R17: 0 | T17: =R17*S17 -> 0
B18: 令和８年８月 | D18: =ROUNDDOWN(C18*25%,0) -> 0 | G18: =ROUNDDOWN(E18*F18*25%,0) -> 0 | H18: 生保以外 | K18: =ROUNDDOWN(I18*J18*25%,0) -> 0 | N18: =ROUNDDOWN(L18*M18*25%,0) -> 0 | Q18: =ROUNDDOWN(O18*P18*25%,0) -> 0 | T18: =ROUNDDOWN(R18*S18*25%,0) -> 0 | U18: =K18+K19+N18+N19+Q18+Q19+T18+T19 -> 0 | V18: =G18+U18 -> 0 | W18: =D18+G18+U18 -> 0
H19: 生保 | I19: 880 | K19: =I19*J19 -> 0 | L19: 550 | N19: =L19*M19 -> 0 | O19: =IF(OR(Q4="介護老人福祉施設サービス",Q4="短期入所生活介護",Q4="介護予防短期入所生活介護"),380,550) -> 550 | Q19: =O19*P19 -> 0 | R19: 0 | T19: =R19*S19 -> 0
B20: 令和８年９月 | D20: =ROUNDDOWN(C20*25%,0) -> 0 | G20: =ROUNDDOWN(E20*F20*25%,0) -> 0 | H20: 生保以外 | K20: =ROUNDDOWN(I20*J20*25%,0) -> 0 | N20: =ROUNDDOWN(L20*M20*25%,0) -> 0 | Q20: =ROUNDDOWN(O20*P20*25%,0) -> 0 | T20: =ROUNDDOWN(R20*S20*25%,0) -> 0 | U20: =K20+K21+N20+N21+Q20+Q21+T20+T21 -> 0 | V20: =G20+U20 -> 0 | W20: =D20+G20+U20 -> 0
H21: 生保 | I21: 880 | K21: =I21*J21 -> 0 | L21: 550 | N21: =L21*M21 -> 0 | O21: =IF(OR(Q4="介護老人福祉施設サービス",Q4="短期入所生活介護",Q4="介護予防短期入所生活介護"),380,550) -> 550 | Q21: =O21*P21 -> 0 | R21: 0 | T21: =R21*S21 -> 0
B22: 令和８年１０月 | D22: =ROUNDDOWN(C22*25%,0) -> 0 | G22: =ROUNDDOWN(E22*F22*25%,0) -> 0 | H22: 生保以外 | K22: =ROUNDDOWN(I22*J22*25%,0) -> 0 | N22: =ROUNDDOWN(L22*M22*25%,0) -> 0 | Q22: =ROUNDDOWN(O22*P22*25%,0) -> 0 | T22: =ROUNDDOWN(R22*S22*25%,0) -> 0 | U22: =K22+K23+N22+N23+Q22+Q23+T22+T23 -> 0 | V22: =G22+U22 -> 0 | W22: =D22+G22+U22 -> 0
H23: 生保 | I23: 880 | K23: =I23*J23 -> 0 | L23: 550 | N23: =L23*M23 -> 0 | O23: =IF(OR(Q4="介護老人福祉施設サービス",Q4="短期入所生活介護",Q4="介護予防短期入所生活介護"),380,550) -> 550 | Q23: =O23*P23 -> 0 | R23: 0 | T23: =R23*S23 -> 0
B24: 令和８年１１月 | D24: =ROUNDDOWN(C24*25%,0) -> 0 | G24: =ROUNDDOWN(E24*F24*25%,0) -> 0 | H24: 生保以外 | K24: =ROUNDDOWN(I24*J24*25%,0) -> 0 | N24: =ROUNDDOWN(L24*M24*25%,0) -> 0 | Q24: =ROUNDDOWN(O24*P24*25%,0) -> 0 | T24: =ROUNDDOWN(R24*S24*25%,0) -> 0 | U24: =K24+K25+N24+N25+Q24+Q25+T24+T25 -> 0 | V24: =G24+U24 -> 0 | W24: =D24+G24+U24 -> 0
H25: 生保 | I25: 880 | K25: =I25*J25 -> 0 | L25: 550 | N25: =L25*M25 -> 0 | O25: =IF(OR(Q4="介護老人福祉施設サービス",Q4="短期入所生活介護",Q4="介護予防短期入所生活介護"),380,550) -> 550 | Q25: =O25*P25 -> 0 | R25: 0 | T25: =R25*S25 -> 0
B26: 令和８年１２月 | D26: =ROUNDDOWN(C26*25%,0) -> 0 | G26: =ROUNDDOWN(E26*F26*25%,0) -> 0 | H26: 生保以外 | K26: =ROUNDDOWN(I26*J26*25%,0) -> 0 | N26: =ROUNDDOWN(L26*M26*25%,0) -> 0 | Q26: =ROUNDDOWN(O26*P26*25%,0) -> 0 | T26: =ROUNDDOWN(R26*S26*25%,0) -> 0 | U26: =K26+K27+N26+N27+Q26+Q27+T26+T27 -> 0 | V26: =G26+U26 -> 0 | W26: =D26+G26+U26 -> 0
H27: 生保 | I27: 880 | K27: =I27*J27 -> 0 | L27: 550 | N27: =L27*M27 -> 0 | O27: =IF(OR(Q4="介護老人福祉施設サービス",Q4="短期入所生活介護",Q4="介護予防短期入所生活介護"),380,550) -> 550 | Q27: =O27*P27 -> 0 | R27: 0 | T27: =R27*S27 -> 0
B28: 令和９年１月 | D28: =ROUNDDOWN(C28*25%,0) -> 0 | G28: =ROUNDDOWN(E28*F28*25%,0) -> 0 | H28: 生保以外 | K28: =ROUNDDOWN(I28*J28*25%,0) -> 0 | N28: =ROUNDDOWN(L28*M28*25%,0) -> 0 | Q28: =ROUNDDOWN(O28*P28*25%,0) -> 0 | T28: =ROUNDDOWN(R28*S28*25%,0) -> 0 | U28: =K28+K29+N28+N29+Q28+Q29+T28+T29 -> 0 | V28: =G28+U28 -> 0 | W28: =D28+G28+U28 -> 0
H29: 生保 | I29: 880 | K29: =I29*J29 -> 0 | L29: 550 | N29: =L29*M29 -> 0 | O29: =IF(OR(Q4="介護老人福祉施設サービス",Q4="短期入所生活介護",Q4="介護予防短期入所生活介護"),380,550) -> 550 | Q29: =O29*P29 -> 0 | R29: 0 | T29: =R29*S29 -> 0
B30: 令和９年２月 | D30: =ROUNDDOWN(C30*25%,0) -> 0 | G30: =ROUNDDOWN(E30*F30*25%,0) -> 0 | H30: 生保以外 | K30: =ROUNDDOWN(I30*J30*25%,0) -> 0 | N30: =ROUNDDOWN(L30*M30*25%,0) -> 0 | Q30: =ROUNDDOWN(O30*P30*25%,0) -> 0 | T30: =ROUNDDOWN(R30*S30*25%,0) -> 0 | U30: =K30+K31+N30+N31+Q30+Q31+T30+T31 -> 0 | V30: =G30+U30 -> 0 | W30: =D30+G30+U30 -> 0
H31: 生保 | I31: 880 | K31: =I31*J31 -> 0 | L31: 550 | N31: =L31*M31 -> 0 | O31: =IF(OR(Q4="介護老人福祉施設サービス",Q4="短期入所生活介護",Q4="介護予防短期入所生活介護"),380,550) -> 550 | Q31: =O31*P31 -> 0 | R31: 0 | T31: =R31*S31 -> 0
B32: 令和９年３月 | D32: =ROUNDDOWN(C32*25%,0) -> 0 | G32: =ROUNDDOWN(E32*F32*25%,0) -> 0 | H32: 生保以外 | K32: =ROUNDDOWN(I32*J32*25%,0) -> 0 | N32: =ROUNDDOWN(L32*M32*25%,0) -> 0 | Q32: =ROUNDDOWN(O32*P32*25%,0) -> 0 | T32: =ROUNDDOWN(R32*S32*25%,0) -> 0 | U32: =K32+K33+N32+N33+Q32+Q33+T32+T33 -> 0 | V32: =G32+U32 -> 0 | W32: =D32+G32+U32 -> 0
H33: 生保 | I33: 880 | K33: =I33*J33 -> 0 | L33: 550 | N33: =L33*M33 -> 0 | O33: =IF(OR(Q4="介護老人福祉施設サービス",Q4="短期入所生活介護",Q4="介護予防短期入所生活介護"),380,550) -> 550 | Q33: =O33*P33 -> 0 | R33: 0 | T33: =R33*S33 -> 0
B34: 合 計 | C34: =SUM(C10:C33) -> 0 | D34: =SUM(D10:D33) -> 0 | G34: =SUM(G10:G33) -> 0 | U34: =SUM(U10:U33) -> 0 | V34: =SUM(V10:V33) -> 0 | W34: =SUM(W10:W33) -> 0
B37: 上半期実績 報告用 | C37: サービス費 軽減額 | D37: 食費 軽減額 | E37: 居住費 軽減額 | F37: 食費居住費 軽減総額 | G37: 軽減総額
C38: =SUM(D10:D20)*2 -> 0 | D38: =SUM(G10:G20)*2 -> 0 | E38: =SUM(U10:U20)*2 -> 0 | F38: =SUM(V10:V20)*2 -> 0 | G38: =SUM(W10:W20)*2 -> 0
B40: ８年度実績 報告用 | C40: サービス費 軽減額 | D40: 食費 軽減額 | E40: 居住費 軽減額 | F40: 食費居住費 軽減総額 | G40: 軽減総額
C41: =SUM(D10:D32) -> 0 | D41: =SUM(G10:G32) -> 0 | E41: =SUM(U10:U32) -> 0 | F41: =SUM(V10:V32) -> 0 | G41: =SUM(W10:W32) -> 0

Sheet 他市4
O1: ※上半期調査時は黄色のセル・下半期調査時は オレンジのセルに入力してください。
A2: 1氏名 | B2: 保険者：
B4: 被保険者番号： | H4: 事業所番号： | I4: ='1氏名'!I4 -> 0 | O4: 軽減サービス名： | Q4: ='1氏名'!Q4 -> 0
B5: 軽減対象者氏名： | H5: 事業所名： | I5: ='1氏名'!I5 -> 0
B7: 提供年月 | C7: ①サービス費 （利用者負担額×25％） ※小数点以下切捨て ※生活保護受給者は軽減無し ※サービス種別、利用者負担段階によっては軽減無し | E7: ②食費（1日あたりの負担限度額×利用日数×25％） ※小数点以下切捨て ※生活保護受給者は軽減無し ※通所介護の場合は、１日あたりの食費×利用日数 | I7: ③居住費 上段（１日あたりの負担限度額×利用日数×25％） ※生活保護受給の場合は下段（１日あたりの負担限度額×利用日数×100％） | V7: ②＋③計 | W7: ①+②+③ 月毎の軽減総額
I8: ユニット型個室 | L8: ユニット型個室的多床室 | O8: 従来型個室 | R8: 多床室 | U8: 計
C9: 利用者負担額 | D9: 軽減額 | E9: 円/日 | F9: 日数 | G9: 軽減額 | I9: 円/日 | J9: 日数 | K9: 軽減額 | L9: 円/日 | M9: 日数 | N9: 軽減額 | O9: 円/日 | P9: 日数 | Q9: 軽減額 | R9: 円/日 | S9: 日数 | T9: 軽減額
B10: 令和８年４月 | D10: =ROUNDDOWN(C10*25%,0) -> 0 | G10: =ROUNDDOWN(E10*F10*25%,0) -> 0 | H10: 生保以外 | K10: =ROUNDDOWN(I10*J10*25%,0) -> 0 | N10: =ROUNDDOWN(L10*M10*25%,0) -> 0 | Q10: =ROUNDDOWN(O10*P10*25%,0) -> 0 | T10: =ROUNDDOWN(R10*S10*25%,0) -> 0 | U10: =K10+K11+N10+N11+Q10+Q11+T10+T11 -> 0 | V10: =G10+U10 -> 0 | W10: =D10+G10+U10 -> 0
H11: 生保 | I11: 880 | K11: =I11*J11 -> 0 | L11: 550 | N11: =L11*M11 -> 0 | O11: =IF(OR(Q4="介護老人福祉施設サービス",Q4="短期入所生活介護",Q4="介護予防短期入所生活介護"),380,550) -> 550 | Q11: =O11*P11 -> 0 | R11: 0 | T11: =R11*S11 -> 0
B12: 令和８年５月 | D12: =ROUNDDOWN(C12*25%,0) -> 0 | G12: =ROUNDDOWN(E12*F12*25%,0) -> 0 | H12: 生保以外 | K12: =ROUNDDOWN(I12*J12*25%,0) -> 0 | N12: =ROUNDDOWN(L12*M12*25%,0) -> 0 | Q12: =ROUNDDOWN(O12*P12*25%,0) -> 0 | T12: =ROUNDDOWN(R12*S12*25%,0) -> 0 | U12: =K12+K13+N12+N13+Q12+Q13+T12+T13 -> 0 | V12: =G12+U12 -> 0 | W12: =D12+G12+U12 -> 0
H13: 生保 | I13: 880 | K13: =I13*J13 -> 0 | L13: 550 | N13: =L13*M13 -> 0 | O13: =IF(OR(Q4="介護老人福祉施設サービス",Q4="短期入所生活介護",Q4="介護予防短期入所生活介護"),380,550) -> 550 | Q13: =O13*P13 -> 0 | R13: 0 | T13: =R13*S13 -> 0
B14: 令和８年６月 | D14: =ROUNDDOWN(C14*25%,0) -> 0 | G14: =ROUNDDOWN(E14*F14*25%,0) -> 0 | H14: 生保以外 | K14: =ROUNDDOWN(I14*J14*25%,0) -> 0 | N14: =ROUNDDOWN(L14*M14*25%,0) -> 0 | Q14: =ROUNDDOWN(O14*P14*25%,0) -> 0 | T14: =ROUNDDOWN(R14*S14*25%,0) -> 0 | U14: =K14+K15+N14+N15+Q14+Q15+T14+T15 -> 0 | V14: =G14+U14 -> 0 | W14: =D14+G14+U14 -> 0
H15: 生保 | I15: 880 | K15: =I15*J15 -> 0 | L15: 550 | N15: =L15*M15 -> 0 | O15: =IF(OR(Q4="介護老人福祉施設サービス",Q4="短期入所生活介護",Q4="介護予防短期入所生活介護"),380,550) -> 550 | Q15: =O15*P15 -> 0 | R15: 0 | T15: =R15*S15 -> 0
B16: 令和８年７月 | D16: =ROUNDDOWN(C16*25%,0) -> 0 | G16: =ROUNDDOWN(E16*F16*25%,0) -> 0 | H16: 生保以外 | K16: =ROUNDDOWN(I16*J16*25%,0) -> 0 | N16: =ROUNDDOWN(L16*M16*25%,0) -> 0 | Q16: =ROUNDDOWN(O16*P16*25%,0) -> 0 | T16: =ROUNDDOWN(R16*S16*25%,0) -> 0 | U16: =K16+K17+N16+N17+Q16+Q17+T16+T17 -> 0 | V16: =G16+U16 -> 0 | W16: =D16+G16+U16 -> 0
H17: 生保 | I17: 880 | K17: =I17*J17 -> 0 | L17: 550 | N17: =L17*M17 -> 0 | O17: =IF(OR(Q4="介護老人福祉施設サービス",Q4="短期入所生活介護",Q4="介護予防短期入所生活介護"),380,550) -> 550 | Q17: =O17*P17 -> 0 | R17: 0 | T17: =R17*S17 -> 0
B18: 令和８年８月 | D18: =ROUNDDOWN(C18*25%,0) -> 0 | G18: =ROUNDDOWN(E18*F18*25%,0) -> 0 | H18: 生保以外 | K18: =ROUNDDOWN(I18*J18*25%,0) -> 0 | N18: =ROUNDDOWN(L18*M18*25%,0) -> 0 | Q18: =ROUNDDOWN(O18*P18*25%,0) -> 0 | T18: =ROUNDDOWN(R18*S18*25%,0) -> 0 | U18: =K18+K19+N18+N19+Q18+Q19+T18+T19 -> 0 | V18: =G18+U18 -> 0 | W18: =D18+G18+U18 -> 0
H19: 生保 | I19: 880 | K19: =I19*J19 -> 0 | L19: 550 | N19: =L19*M19 -> 0 | O19: =IF(OR(Q4="介護老人福祉施設サービス",Q4="短期入所生活介護",Q4="介護予防短期入所生活介護"),380,550) -> 550 | Q19: =O19*P19 -> 0 | R19: 0 | T19: =R19*S19 -> 0
B20: 令和８年９月 | D20: =ROUNDDOWN(C20*25%,0) -> 0 | G20: =ROUNDDOWN(E20*F20*25%,0) -> 0 | H20: 生保以外 | K20: =ROUNDDOWN(I20*J20*25%,0) -> 0 | N20: =ROUNDDOWN(L20*M20*25%,0) -> 0 | Q20: =ROUNDDOWN(O20*P20*25%,0) -> 0 | T20: =ROUNDDOWN(R20*S20*25%,0) -> 0 | U20: =K20+K21+N20+N21+Q20+Q21+T20+T21 -> 0 | V20: =G20+U20 -> 0 | W20: =D20+G20+U20 -> 0
H21: 生保 | I21: 880 | K21: =I21*J21 -> 0 | L21: 550 | N21: =L21*M21 -> 0 | O21: =IF(OR(Q4="介護老人福祉施設サービス",Q4="短期入所生活介護",Q4="介護予防短期入所生活介護"),380,550) -> 550 | Q21: =O21*P21 -> 0 | R21: 0 | T21: =R21*S21 -> 0
B22: 令和８年１０月 | D22: =ROUNDDOWN(C22*25%,0) -> 0 | G22: =ROUNDDOWN(E22*F22*25%,0) -> 0 | H22: 生保以外 | K22: =ROUNDDOWN(I22*J22*25%,0) -> 0 | N22: =ROUNDDOWN(L22*M22*25%,0) -> 0 | Q22: =ROUNDDOWN(O22*P22*25%,0) -> 0 | T22: =ROUNDDOWN(R22*S22*25%,0) -> 0 | U22: =K22+K23+N22+N23+Q22+Q23+T22+T23 -> 0 | V22: =G22+U22 -> 0 | W22: =D22+G22+U22 -> 0
H23: 生保 | I23: 880 | K23: =I23*J23 -> 0 | L23: 550 | N23: =L23*M23 -> 0 | O23: =IF(OR(Q4="介護老人福祉施設サービス",Q4="短期入所生活介護",Q4="介護予防短期入所生活介護"),380,550) -> 550 | Q23: =O23*P23 -> 0 | R23: 0 | T23: =R23*S23 -> 0
B24: 令和８年１１月 | D24: =ROUNDDOWN(C24*25%,0) -> 0 | G24: =ROUNDDOWN(E24*F24*25%,0) -> 0 | H24: 生保以外 | K24: =ROUNDDOWN(I24*J24*25%,0) -> 0 | N24: =ROUNDDOWN(L24*M24*25%,0) -> 0 | Q24: =ROUNDDOWN(O24*P24*25%,0) -> 0 | T24: =ROUNDDOWN(R24*S24*25%,0) -> 0 | U24: =K24+K25+N24+N25+Q24+Q25+T24+T25 -> 0 | V24: =G24+U24 -> 0 | W24: =D24+G24+U24 -> 0
H25: 生保 | I25: 880 | K25: =I25*J25 -> 0 | L25: 550 | N25: =L25*M25 -> 0 | O25: =IF(OR(Q4="介護老人福祉施設サービス",Q4="短期入所生活介護",Q4="介護予防短期入所生活介護"),380,550) -> 550 | Q25: =O25*P25 -> 0 | R25: 0 | T25: =R25*S25 -> 0
B26: 令和８年１２月 | D26: =ROUNDDOWN(C26*25%,0) -> 0 | G26: =ROUNDDOWN(E26*F26*25%,0) -> 0 | H26: 生保以外 | K26: =ROUNDDOWN(I26*J26*25%,0) -> 0 | N26: =ROUNDDOWN(L26*M26*25%,0) -> 0 | Q26: =ROUNDDOWN(O26*P26*25%,0) -> 0 | T26: =ROUNDDOWN(R26*S26*25%,0) -> 0 | U26: =K26+K27+N26+N27+Q26+Q27+T26+T27 -> 0 | V26: =G26+U26 -> 0 | W26: =D26+G26+U26 -> 0
H27: 生保 | I27: 880 | K27: =I27*J27 -> 0 | L27: 550 | N27: =L27*M27 -> 0 | O27: =IF(OR(Q4="介護老人福祉施設サービス",Q4="短期入所生活介護",Q4="介護予防短期入所生活介護"),380,550) -> 550 | Q27: =O27*P27 -> 0 | R27: 0 | T27: =R27*S27 -> 0
B28: 令和９年１月 | D28: =ROUNDDOWN(C28*25%,0) -> 0 | G28: =ROUNDDOWN(E28*F28*25%,0) -> 0 | H28: 生保以外 | K28: =ROUNDDOWN(I28*J28*25%,0) -> 0 | N28: =ROUNDDOWN(L28*M28*25%,0) -> 0 | Q28: =ROUNDDOWN(O28*P28*25%,0) -> 0 | T28: =ROUNDDOWN(R28*S28*25%,0) -> 0 | U28: =K28+K29+N28+N29+Q28+Q29+T28+T29 -> 0 | V28: =G28+U28 -> 0 | W28: =D28+G28+U28 -> 0
H29: 生保 | I29: 880 | K29: =I29*J29 -> 0 | L29: 550 | N29: =L29*M29 -> 0 | O29: =IF(OR(Q4="介護老人福祉施設サービス",Q4="短期入所生活介護",Q4="介護予防短期入所生活介護"),380,550) -> 550 | Q29: =O29*P29 -> 0 | R29: 0 | T29: =R29*S29 -> 0
B30: 令和９年２月 | D30: =ROUNDDOWN(C30*25%,0) -> 0 | G30: =ROUNDDOWN(E30*F30*25%,0) -> 0 | H30: 生保以外 | K30: =ROUNDDOWN(I30*J30*25%,0) -> 0 | N30: =ROUNDDOWN(L30*M30*25%,0) -> 0 | Q30: =ROUNDDOWN(O30*P30*25%,0) -> 0 | T30: =ROUNDDOWN(R30*S30*25%,0) -> 0 | U30: =K30+K31+N30+N31+Q30+Q31+T30+T31 -> 0 | V30: =G30+U30 -> 0 | W30: =D30+G30+U30 -> 0
H31: 生保 | I31: 880 | K31: =I31*J31 -> 0 | L31: 550 | N31: =L31*M31 -> 0 | O31: =IF(OR(Q4="介護老人福祉施設サービス",Q4="短期入所生活介護",Q4="介護予防短期入所生活介護"),380,550) -> 550 | Q31: =O31*P31 -> 0 | R31: 0 | T31: =R31*S31 -> 0
B32: 令和９年３月 | D32: =ROUNDDOWN(C32*25%,0) -> 0 | G32: =ROUNDDOWN(E32*F32*25%,0) -> 0 | H32: 生保以外 | K32: =ROUNDDOWN(I32*J32*25%,0) -> 0 | N32: =ROUNDDOWN(L32*M32*25%,0) -> 0 | Q32: =ROUNDDOWN(O32*P32*25%,0) -> 0 | T32: =ROUNDDOWN(R32*S32*25%,0) -> 0 | U32: =K32+K33+N32+N33+Q32+Q33+T32+T33 -> 0 | V32: =G32+U32 -> 0 | W32: =D32+G32+U32 -> 0
H33: 生保 | I33: 880 | K33: =I33*J33 -> 0 | L33: 550 | N33: =L33*M33 -> 0 | O33: =IF(OR(Q4="介護老人福祉施設サービス",Q4="短期入所生活介護",Q4="介護予防短期入所生活介護"),380,550) -> 550 | Q33: =O33*P33 -> 0 | R33: 0 | T33: =R33*S33 -> 0
B34: 合 計 | C34: =SUM(C10:C33) -> 0 | D34: =SUM(D10:D33) -> 0 | G34: =SUM(G10:G33) -> 0 | U34: =SUM(U10:U33) -> 0 | V34: =SUM(V10:V33) -> 0 | W34: =SUM(W10:W33) -> 0
B37: 上半期実績 報告用 | C37: サービス費 軽減額 | D37: 食費 軽減額 | E37: 居住費 軽減額 | F37: 食費居住費 軽減総額 | G37: 軽減総額
C38: =SUM(D10:D20)*2 -> 0 | D38: =SUM(G10:G20)*2 -> 0 | E38: =SUM(U10:U20)*2 -> 0 | F38: =SUM(V10:V20)*2 -> 0 | G38: =SUM(W10:W20)*2 -> 0
B40: ８年度実績 報告用 | C40: サービス費 軽減額 | D40: 食費 軽減額 | E40: 居住費 軽減額 | F40: 食費居住費 軽減総額 | G40: 軽減総額
C41: =SUM(D10:D32) -> 0 | D41: =SUM(G10:G32) -> 0 | E41: =SUM(U10:U32) -> 0 | F41: =SUM(V10:V32) -> 0 | G41: =SUM(W10:W32) -> 0

Sheet 他市5
O1: ※上半期調査時は黄色のセル・下半期調査時は オレンジのセルに入力してください。
A2: 1氏名 | B2: 保険者：
B4: 被保険者番号： | H4: 事業所番号： | I4: ='1氏名'!I4 -> 0 | O4: 軽減サービス名： | Q4: ='1氏名'!Q4 -> 0
B5: 軽減対象者氏名： | H5: 事業所名： | I5: ='1氏名'!I5 -> 0
B7: 提供年月 | C7: ①サービス費 （利用者負担額×25％） ※小数点以下切捨て ※生活保護受給者は軽減無し ※サービス種別、利用者負担段階によっては軽減無し | E7: ②食費（1日あたりの負担限度額×利用日数×25％） ※小数点以下切捨て ※生活保護受給者は軽減無し ※通所介護の場合は、１日あたりの食費×利用日数 | I7: ③居住費 上段（１日あたりの負担限度額×利用日数×25％） ※生活保護受給の場合は下段（１日あたりの負担限度額×利用日数×100％） | V7: ②＋③計 | W7: ①+②+③ 月毎の軽減総額
I8: ユニット型個室 | L8: ユニット型個室的多床室 | O8: 従来型個室 | R8: 多床室 | U8: 計
C9: 利用者負担額 | D9: 軽減額 | E9: 円/日 | F9: 日数 | G9: 軽減額 | I9: 円/日 | J9: 日数 | K9: 軽減額 | L9: 円/日 | M9: 日数 | N9: 軽減額 | O9: 円/日 | P9: 日数 | Q9: 軽減額 | R9: 円/日 | S9: 日数 | T9: 軽減額
B10: 令和８年４月 | D10: =ROUNDDOWN(C10*25%,0) -> 0 | G10: =ROUNDDOWN(E10*F10*25%,0) -> 0 | H10: 生保以外 | K10: =ROUNDDOWN(I10*J10*25%,0) -> 0 | N10: =ROUNDDOWN(L10*M10*25%,0) -> 0 | Q10: =ROUNDDOWN(O10*P10*25%,0) -> 0 | T10: =ROUNDDOWN(R10*S10*25%,0) -> 0 | U10: =K10+K11+N10+N11+Q10+Q11+T10+T11 -> 0 | V10: =G10+U10 -> 0 | W10: =D10+G10+U10 -> 0
H11: 生保 | I11: 880 | K11: =I11*J11 -> 0 | L11: 550 | N11: =L11*M11 -> 0 | O11: =IF(OR(Q4="介護老人福祉施設サービス",Q4="短期入所生活介護",Q4="介護予防短期入所生活介護"),380,550) -> 550 | Q11: =O11*P11 -> 0 | R11: 0 | T11: =R11*S11 -> 0
B12: 令和８年５月 | D12: =ROUNDDOWN(C12*25%,0) -> 0 | G12: =ROUNDDOWN(E12*F12*25%,0) -> 0 | H12: 生保以外 | K12: =ROUNDDOWN(I12*J12*25%,0) -> 0 | N12: =ROUNDDOWN(L12*M12*25%,0) -> 0 | Q12: =ROUNDDOWN(O12*P12*25%,0) -> 0 | T12: =ROUNDDOWN(R12*S12*25%,0) -> 0 | U12: =K12+K13+N12+N13+Q12+Q13+T12+T13 -> 0 | V12: =G12+U12 -> 0 | W12: =D12+G12+U12 -> 0
H13: 生保 | I13: 880 | K13: =I13*J13 -> 0 | L13: 550 | N13: =L13*M13 -> 0 | O13: =IF(OR(Q4="介護老人福祉施設サービス",Q4="短期入所生活介護",Q4="介護予防短期入所生活介護"),380,550) -> 550 | Q13: =O13*P13 -> 0 | R13: 0 | T13: =R13*S13 -> 0
B14: 令和８年６月 | D14: =ROUNDDOWN(C14*25%,0) -> 0 | G14: =ROUNDDOWN(E14*F14*25%,0) -> 0 | H14: 生保以外 | K14: =ROUNDDOWN(I14*J14*25%,0) -> 0 | N14: =ROUNDDOWN(L14*M14*25%,0) -> 0 | Q14: =ROUNDDOWN(O14*P14*25%,0) -> 0 | T14: =ROUNDDOWN(R14*S14*25%,0) -> 0 | U14: =K14+K15+N14+N15+Q14+Q15+T14+T15 -> 0 | V14: =G14+U14 -> 0 | W14: =D14+G14+U14 -> 0
H15: 生保 | I15: 880 | K15: =I15*J15 -> 0 | L15: 550 | N15: =L15*M15 -> 0 | O15: =IF(OR(Q4="介護老人福祉施設サービス",Q4="短期入所生活介護",Q4="介護予防短期入所生活介護"),380,550) -> 550 | Q15: =O15*P15 -> 0 | R15: 0 | T15: =R15*S15 -> 0
B16: 令和８年７月 | D16: =ROUNDDOWN(C16*25%,0) -> 0 | G16: =ROUNDDOWN(E16*F16*25%,0) -> 0 | H16: 生保以外 | K16: =ROUNDDOWN(I16*J16*25%,0) -> 0 | N16: =ROUNDDOWN(L16*M16*25%,0) -> 0 | Q16: =ROUNDDOWN(O16*P16*25%,0) -> 0 | T16: =ROUNDDOWN(R16*S16*25%,0) -> 0 | U16: =K16+K17+N16+N17+Q16+Q17+T16+T17 -> 0 | V16: =G16+U16 -> 0 | W16: =D16+G16+U16 -> 0
H17: 生保 | I17: 880 | K17: =I17*J17 -> 0 | L17: 550 | N17: =L17*M17 -> 0 | O17: =IF(OR(Q4="介護老人福祉施設サービス",Q4="短期入所生活介護",Q4="介護予防短期入所生活介護"),380,550) -> 550 | Q17: =O17*P17 -> 0 | R17: 0 | T17: =R17*S17 -> 0
B18: 令和８年８月 | D18: =ROUNDDOWN(C18*25%,0) -> 0 | G18: =ROUNDDOWN(E18*F18*25%,0) -> 0 | H18: 生保以外 | K18: =ROUNDDOWN(I18*J18*25%,0) -> 0 | N18: =ROUNDDOWN(L18*M18*25%,0) -> 0 | Q18: =ROUNDDOWN(O18*P18*25%,0) -> 0 | T18: =ROUNDDOWN(R18*S18*25%,0) -> 0 | U18: =K18+K19+N18+N19+Q18+Q19+T18+T19 -> 0 | V18: =G18+U18 -> 0 | W18: =D18+G18+U18 -> 0
H19: 生保 | I19: 880 | K19: =I19*J19 -> 0 | L19: 550 | N19: =L19*M19 -> 0 | O19: =IF(OR(Q4="介護老人福祉施設サービス",Q4="短期入所生活介護",Q4="介護予防短期入所生活介護"),380,550) -> 550 | Q19: =O19*P19 -> 0 | R19: 0 | T19: =R19*S19 -> 0
B20: 令和８年９月 | D20: =ROUNDDOWN(C20*25%,0) -> 0 | G20: =ROUNDDOWN(E20*F20*25%,0) -> 0 | H20: 生保以外 | K20: =ROUNDDOWN(I20*J20*25%,0) -> 0 | N20: =ROUNDDOWN(L20*M20*25%,0) -> 0 | Q20: =ROUNDDOWN(O20*P20*25%,0) -> 0 | T20: =ROUNDDOWN(R20*S20*25%,0) -> 0 | U20: =K20+K21+N20+N21+Q20+Q21+T20+T21 -> 0 | V20: =G20+U20 -> 0 | W20: =D20+G20+U20 -> 0
H21: 生保 | I21: 880 | K21: =I21*J21 -> 0 | L21: 550 | N21: =L21*M21 -> 0 | O21: =IF(OR(Q4="介護老人福祉施設サービス",Q4="短期入所生活介護",Q4="介護予防短期入所生活介護"),380,550) -> 550 | Q21: =O21*P21 -> 0 | R21: 0 | T21: =R21*S21 -> 0
B22: 令和８年１０月 | D22: =ROUNDDOWN(C22*25%,0) -> 0 | G22: =ROUNDDOWN(E22*F22*25%,0) -> 0 | H22: 生保以外 | K22: =ROUNDDOWN(I22*J22*25%,0) -> 0 | N22: =ROUNDDOWN(L22*M22*25%,0) -> 0 | Q22: =ROUNDDOWN(O22*P22*25%,0) -> 0 | T22: =ROUNDDOWN(R22*S22*25%,0) -> 0 | U22: =K22+K23+N22+N23+Q22+Q23+T22+T23 -> 0 | V22: =G22+U22 -> 0 | W22: =D22+G22+U22 -> 0
H23: 生保 | I23: 880 | K23: =I23*J23 -> 0 | L23: 550 | N23: =L23*M23 -> 0 | O23: =IF(OR(Q4="介護老人福祉施設サービス",Q4="短期入所生活介護",Q4="介護予防短期入所生活介護"),380,550) -> 550 | Q23: =O23*P23 -> 0 | R23: 0 | T23: =R23*S23 -> 0
B24: 令和８年１１月 | D24: =ROUNDDOWN(C24*25%,0) -> 0 | G24: =ROUNDDOWN(E24*F24*25%,0) -> 0 | H24: 生保以外 | K24: =ROUNDDOWN(I24*J24*25%,0) -> 0 | N24: =ROUNDDOWN(L24*M24*25%,0) -> 0 | Q24: =ROUNDDOWN(O24*P24*25%,0) -> 0 | T24: =ROUNDDOWN(R24*S24*25%,0) -> 0 | U24: =K24+K25+N24+N25+Q24+Q25+T24+T25 -> 0 | V24: =G24+U24 -> 0 | W24: =D24+G24+U24 -> 0
H25: 生保 | I25: 880 | K25: =I25*J25 -> 0 | L25: 550 | N25: =L25*M25 -> 0 | O25: =IF(OR(Q4="介護老人福祉施設サービス",Q4="短期入所生活介護",Q4="介護予防短期入所生活介護"),380,550) -> 550 | Q25: =O25*P25 -> 0 | R25: 0 | T25: =R25*S25 -> 0
B26: 令和８年１２月 | D26: =ROUNDDOWN(C26*25%,0) -> 0 | G26: =ROUNDDOWN(E26*F26*25%,0) -> 0 | H26: 生保以外 | K26: =ROUNDDOWN(I26*J26*25%,0) -> 0 | N26: =ROUNDDOWN(L26*M26*25%,0) -> 0 | Q26: =ROUNDDOWN(O26*P26*25%,0) -> 0 | T26: =ROUNDDOWN(R26*S26*25%,0) -> 0 | U26: =K26+K27+N26+N27+Q26+Q27+T26+T27 -> 0 | V26: =G26+U26 -> 0 | W26: =D26+G26+U26 -> 0
H27: 生保 | I27: 880 | K27: =I27*J27 -> 0 | L27: 550 | N27: =L27*M27 -> 0 | O27: =IF(OR(Q4="介護老人福祉施設サービス",Q4="短期入所生活介護",Q4="介護予防短期入所生活介護"),380,550) -> 550 | Q27: =O27*P27 -> 0 | R27: 0 | T27: =R27*S27 -> 0
B28: 令和９年１月 | D28: =ROUNDDOWN(C28*25%,0) -> 0 | G28: =ROUNDDOWN(E28*F28*25%,0) -> 0 | H28: 生保以外 | K28: =ROUNDDOWN(I28*J28*25%,0) -> 0 | N28: =ROUNDDOWN(L28*M28*25%,0) -> 0 | Q28: =ROUNDDOWN(O28*P28*25%,0) -> 0 | T28: =ROUNDDOWN(R28*S28*25%,0) -> 0 | U28: =K28+K29+N28+N29+Q28+Q29+T28+T29 -> 0 | V28: =G28+U28 -> 0 | W28: =D28+G28+U28 -> 0
H29: 生保 | I29: 880 | K29: =I29*J29 -> 0 | L29: 550 | N29: =L29*M29 -> 0 | O29: =IF(OR(Q4="介護老人福祉施設サービス",Q4="短期入所生活介護",Q4="介護予防短期入所生活介護"),380,550) -> 550 | Q29: =O29*P29 -> 0 | R29: 0 | T29: =R29*S29 -> 0
B30: 令和９年２月 | D30: =ROUNDDOWN(C30*25%,0) -> 0 | G30: =ROUNDDOWN(E30*F30*25%,0) -> 0 | H30: 生保以外 | K30: =ROUNDDOWN(I30*J30*25%,0) -> 0 | N30: =ROUNDDOWN(L30*M30*25%,0) -> 0 | Q30: =ROUNDDOWN(O30*P30*25%,0) -> 0 | T30: =ROUNDDOWN(R30*S30*25%,0) -> 0 | U30: =K30+K31+N30+N31+Q30+Q31+T30+T31 -> 0 | V30: =G30+U30 -> 0 | W30: =D30+G30+U30 -> 0
H31: 生保 | I31: 880 | K31: =I31*J31 -> 0 | L31: 550 | N31: =L31*M31 -> 0 | O31: =IF(OR(Q4="介護老人福祉施設サービス",Q4="短期入所生活介護",Q4="介護予防短期入所生活介護"),380,550) -> 550 | Q31: =O31*P31 -> 0 | R31: 0 | T31: =R31*S31 -> 0
B32: 令和９年３月 | D32: =ROUNDDOWN(C32*25%,0) -> 0 | G32: =ROUNDDOWN(E32*F32*25%,0) -> 0 | H32: 生保以外 | K32: =ROUNDDOWN(I32*J32*25%,0) -> 0 | N32: =ROUNDDOWN(L32*M32*25%,0) -> 0 | Q32: =ROUNDDOWN(O32*P32*25%,0) -> 0 | T32: =ROUNDDOWN(R32*S32*25%,0) -> 0 | U32: =K32+K33+N32+N33+Q32+Q33+T32+T33 -> 0 | V32: =G32+U32 -> 0 | W32: =D32+G32+U32 -> 0
H33: 生保 | I33: 880 | K33: =I33*J33 -> 0 | L33: 550 | N33: =L33*M33 -> 0 | O33: =IF(OR(Q4="介護老人福祉施設サービス",Q4="短期入所生活介護",Q4="介護予防短期入所生活介護"),380,550) -> 550 | Q33: =O33*P33 -> 0 | R33: 0 | T33: =R33*S33 -> 0
B34: 合 計 | C34: =SUM(C10:C33) -> 0 | D34: =SUM(D10:D33) -> 0 | G34: =SUM(G10:G33) -> 0 | U34: =SUM(U10:U33) -> 0 | V34: =SUM(V10:V33) -> 0 | W34: =SUM(W10:W33) -> 0
B37: 上半期実績 報告用 | C37: サービス費 軽減額 | D37: 食費 軽減額 | E37: 居住費 軽減額 | F37: 食費居住費 軽減総額 | G37: 軽減総額
C38: =SUM(D10:D20)*2 -> 0 | D38: =SUM(G10:G20)*2 -> 0 | E38: =SUM(U10:U20)*2 -> 0 | F38: =SUM(V10:V20)*2 -> 0 | G38: =SUM(W10:W20)*2 -> 0
B40: ８年度実績 報告用 | C40: サービス費 軽減額 | D40: 食費 軽減額 | E40: 居住費 軽減額 | F40: 食費居住費 軽減総額 | G40: 軽減総額
C41: =SUM(D10:D32) -> 0 | D41: =SUM(G10:G32) -> 0 | E41: =SUM(U10:U32) -> 0 | F41: =SUM(V10:V32) -> 0 | G41: =SUM(W10:W32) -> 0

Sheet 他市6
O1: ※上半期調査時は黄色のセル・下半期調査時は オレンジのセルに入力してください。
A2: 1氏名 | B2: 保険者：
B4: 被保険者番号： | H4: 事業所番号： | I4: ='1氏名'!I4 -> 0 | O4: 軽減サービス名： | Q4: ='1氏名'!Q4 -> 0
B5: 軽減対象者氏名： | H5: 事業所名： | I5: ='1氏名'!I5 -> 0
B7: 提供年月 | C7: ①サービス費 （利用者負担額×25％） ※小数点以下切捨て ※生活保護受給者は軽減無し ※サービス種別、利用者負担段階によっては軽減無し | E7: ②食費（1日あたりの負担限度額×利用日数×25％） ※小数点以下切捨て ※生活保護受給者は軽減無し ※通所介護の場合は、１日あたりの食費×利用日数 | I7: ③居住費 上段（１日あたりの負担限度額×利用日数×25％） ※生活保護受給の場合は下段（１日あたりの負担限度額×利用日数×100％） | V7: ②＋③計 | W7: ①+②+③ 月毎の軽減総額
I8: ユニット型個室 | L8: ユニット型個室的多床室 | O8: 従来型個室 | R8: 多床室 | U8: 計
C9: 利用者負担額 | D9: 軽減額 | E9: 円/日 | F9: 日数 | G9: 軽減額 | I9: 円/日 | J9: 日数 | K9: 軽減額 | L9: 円/日 | M9: 日数 | N9: 軽減額 | O9: 円/日 | P9: 日数 | Q9: 軽減額 | R9: 円/日 | S9: 日数 | T9: 軽減額
B10: 令和８年４月 | D10: =ROUNDDOWN(C10*25%,0) -> 0 | G10: =ROUNDDOWN(E10*F10*25%,0) -> 0 | H10: 生保以外 | K10: =ROUNDDOWN(I10*J10*25%,0) -> 0 | N10: =ROUNDDOWN(L10*M10*25%,0) -> 0 | Q10: =ROUNDDOWN(O10*P10*25%,0) -> 0 | T10: =ROUNDDOWN(R10*S10*25%,0) -> 0 | U10: =K10+K11+N10+N11+Q10+Q11+T10+T11 -> 0 | V10: =G10+U10 -> 0 | W10: =D10+G10+U10 -> 0
H11: 生保 | I11: 880 | K11: =I11*J11 -> 0 | L11: 550 | N11: =L11*M11 -> 0 | O11: =IF(OR(Q4="介護老人福祉施設サービス",Q4="短期入所生活介護",Q4="介護予防短期入所生活介護"),380,550) -> 550 | Q11: =O11*P11 -> 0 | R11: 0 | T11: =R11*S11 -> 0
B12: 令和８年５月 | D12: =ROUNDDOWN(C12*25%,0) -> 0 | G12: =ROUNDDOWN(E12*F12*25%,0) -> 0 | H12: 生保以外 | K12: =ROUNDDOWN(I12*J12*25%,0) -> 0 | N12: =ROUNDDOWN(L12*M12*25%,0) -> 0 | Q12: =ROUNDDOWN(O12*P12*25%,0) -> 0 | T12: =ROUNDDOWN(R12*S12*25%,0) -> 0 | U12: =K12+K13+N12+N13+Q12+Q13+T12+T13 -> 0 | V12: =G12+U12 -> 0 | W12: =D12+G12+U12 -> 0
H13: 生保 | I13: 880 | K13: =I13*J13 -> 0 | L13: 550 | N13: =L13*M13 -> 0 | O13: =IF(OR(Q4="介護老人福祉施設サービス",Q4="短期入所生活介護",Q4="介護予防短期入所生活介護"),380,550) -> 550 | Q13: =O13*P13 -> 0 | R13: 0 | T13: =R13*S13 -> 0
B14: 令和８年６月 | D14: =ROUNDDOWN(C14*25%,0) -> 0 | G14: =ROUNDDOWN(E14*F14*25%,0) -> 0 | H14: 生保以外 | K14: =ROUNDDOWN(I14*J14*25%,0) -> 0 | N14: =ROUNDDOWN(L14*M14*25%,0) -> 0 | Q14: =ROUNDDOWN(O14*P14*25%,0) -> 0 | T14: =ROUNDDOWN(R14*S14*25%,0) -> 0 | U14: =K14+K15+N14+N15+Q14+Q15+T14+T15 -> 0 | V14: =G14+U14 -> 0 | W14: =D14+G14+U14 -> 0
H15: 生保 | I15: 880 | K15: =I15*J15 -> 0 | L15: 550 | N15: =L15*M15 -> 0 | O15: =IF(OR(Q4="介護老人福祉施設サービス",Q4="短期入所生活介護",Q4="介護予防短期入所生活介護"),380,550) -> 550 | Q15: =O15*P15 -> 0 | R15: 0 | T15: =R15*S15 -> 0
B16: 令和８年７月 | D16: =ROUNDDOWN(C16*25%,0) -> 0 | G16: =ROUNDDOWN(E16*F16*25%,0) -> 0 | H16: 生保以外 | K16: =ROUNDDOWN(I16*J16*25%,0) -> 0 | N16: =ROUNDDOWN(L16*M16*25%,0) -> 0 | Q16: =ROUNDDOWN(O16*P16*25%,0) -> 0 | T16: =ROUNDDOWN(R16*S16*25%,0) -> 0 | U16: =K16+K17+N16+N17+Q16+Q17+T16+T17 -> 0 | V16: =G16+U16 -> 0 | W16: =D16+G16+U16 -> 0
H17: 生保 | I17: 880 | K17: =I17*J17 -> 0 | L17: 550 | N17: =L17*M17 -> 0 | O17: =IF(OR(Q4="介護老人福祉施設サービス",Q4="短期入所生活介護",Q4="介護予防短期入所生活介護"),380,550) -> 550 | Q17: =O17*P17 -> 0 | R17: 0 | T17: =R17*S17 -> 0
B18: 令和８年８月 | D18: =ROUNDDOWN(C18*25%,0) -> 0 | G18: =ROUNDDOWN(E18*F18*25%,0) -> 0 | H18: 生保以外 | K18: =ROUNDDOWN(I18*J18*25%,0) -> 0 | N18: =ROUNDDOWN(L18*M18*25%,0) -> 0 | Q18: =ROUNDDOWN(O18*P18*25%,0) -> 0 | T18: =ROUNDDOWN(R18*S18*25%,0) -> 0 | U18: =K18+K19+N18+N19+Q18+Q19+T18+T19 -> 0 | V18: =G18+U18 -> 0 | W18: =D18+G18+U18 -> 0
H19: 生保 | I19: 880 | K19: =I19*J19 -> 0 | L19: 550 | N19: =L19*M19 -> 0 | O19: =IF(OR(Q4="介護老人福祉施設サービス",Q4="短期入所生活介護",Q4="介護予防短期入所生活介護"),380,550) -> 550 | Q19: =O19*P19 -> 0 | R19: 0 | T19: =R19*S19 -> 0
B20: 令和８年９月 | D20: =ROUNDDOWN(C20*25%,0) -> 0 | G20: =ROUNDDOWN(E20*F20*25%,0) -> 0 | H20: 生保以外 | K20: =ROUNDDOWN(I20*J20*25%,0) -> 0 | N20: =ROUNDDOWN(L20*M20*25%,0) -> 0 | Q20: =ROUNDDOWN(O20*P20*25%,0) -> 0 | T20: =ROUNDDOWN(R20*S20*25%,0) -> 0 | U20: =K20+K21+N20+N21+Q20+Q21+T20+T21 -> 0 | V20: =G20+U20 -> 0 | W20: =D20+G20+U20 -> 0
H21: 生保 | I21: 880 | K21: =I21*J21 -> 0 | L21: 550 | N21: =L21*M21 -> 0 | O21: =IF(OR(Q4="介護老人福祉施設サービス",Q4="短期入所生活介護",Q4="介護予防短期入所生活介護"),380,550) -> 550 | Q21: =O21*P21 -> 0 | R21: 0 | T21: =R21*S21 -> 0
B22: 令和８年１０月 | D22: =ROUNDDOWN(C22*25%,0) -> 0 | G22: =ROUNDDOWN(E22*F22*25%,0) -> 0 | H22: 生保以外 | K22: =ROUNDDOWN(I22*J22*25%,0) -> 0 | N22: =ROUNDDOWN(L22*M22*25%,0) -> 0 | Q22: =ROUNDDOWN(O22*P22*25%,0) -> 0 | T22: =ROUNDDOWN(R22*S22*25%,0) -> 0 | U22: =K22+K23+N22+N23+Q22+Q23+T22+T23 -> 0 | V22: =G22+U22 -> 0 | W22: =D22+G22+U22 -> 0
H23: 生保 | I23: 880 | K23: =I23*J23 -> 0 | L23: 550 | N23: =L23*M23 -> 0 | O23: =IF(OR(Q4="介護老人福祉施設サービス",Q4="短期入所生活介護",Q4="介護予防短期入所生活介護"),380,550) -> 550 | Q23: =O23*P23 -> 0 | R23: 0 | T23: =R23*S23 -> 0
B24: 令和８年１１月 | D24: =ROUNDDOWN(C24*25%,0) -> 0 | G24: =ROUNDDOWN(E24*F24*25%,0) -> 0 | H24: 生保以外 | K24: =ROUNDDOWN(I24*J24*25%,0) -> 0 | N24: =ROUNDDOWN(L24*M24*25%,0) -> 0 | Q24: =ROUNDDOWN(O24*P24*25%,0) -> 0 | T24: =ROUNDDOWN(R24*S24*25%,0) -> 0 | U24: =K24+K25+N24+N25+Q24+Q25+T24+T25 -> 0 | V24: =G24+U24 -> 0 | W24: =D24+G24+U24 -> 0
H25: 生保 | I25: 880 | K25: =I25*J25 -> 0 | L25: 550 | N25: =L25*M25 -> 0 | O25: =IF(OR(Q4="介護老人福祉施設サービス",Q4="短期入所生活介護",Q4="介護予防短期入所生活介護"),380,550) -> 550 | Q25: =O25*P25 -> 0 | R25: 0 | T25: =R25*S25 -> 0
B26: 令和８年１２月 | D26: =ROUNDDOWN(C26*25%,0) -> 0 | G26: =ROUNDDOWN(E26*F26*25%,0) -> 0 | H26: 生保以外 | K26: =ROUNDDOWN(I26*J26*25%,0) -> 0 | N26: =ROUNDDOWN(L26*M26*25%,0) -> 0 | Q26: =ROUNDDOWN(O26*P26*25%,0) -> 0 | T26: =ROUNDDOWN(R26*S26*25%,0) -> 0 | U26: =K26+K27+N26+N27+Q26+Q27+T26+T27 -> 0 | V26: =G26+U26 -> 0 | W26: =D26+G26+U26 -> 0
H27: 生保 | I27: 880 | K27: =I27*J27 -> 0 | L27: 550 | N27: =L27*M27 -> 0 | O27: =IF(OR(Q4="介護老人福祉施設サービス",Q4="短期入所生活介護",Q4="介護予防短期入所生活介護"),380,550) -> 550 | Q27: =O27*P27 -> 0 | R27: 0 | T27: =R27*S27 -> 0
B28: 令和９年１月 | D28: =ROUNDDOWN(C28*25%,0) -> 0 | G28: =ROUNDDOWN(E28*F28*25%,0) -> 0 | H28: 生保以外 | K28: =ROUNDDOWN(I28*J28*25%,0) -> 0 | N28: =ROUNDDOWN(L28*M28*25%,0) -> 0 | Q28: =ROUNDDOWN(O28*P28*25%,0) -> 0 | T28: =ROUNDDOWN(R28*S28*25%,0) -> 0 | U28: =K28+K29+N28+N29+Q28+Q29+T28+T29 -> 0 | V28: =G28+U28 -> 0 | W28: =D28+G28+U28 -> 0
H29: 生保 | I29: 880 | K29: =I29*J29 -> 0 | L29: 550 | N29: =L29*M29 -> 0 | O29: =IF(OR(Q4="介護老人福祉施設サービス",Q4="短期入所生活介護",Q4="介護予防短期入所生活介護"),380,550) -> 550 | Q29: =O29*P29 -> 0 | R29: 0 | T29: =R29*S29 -> 0
B30: 令和９年２月 | D30: =ROUNDDOWN(C30*25%,0) -> 0 | G30: =ROUNDDOWN(E30*F30*25%,0) -> 0 | H30: 生保以外 | K30: =ROUNDDOWN(I30*J30*25%,0) -> 0 | N30: =ROUNDDOWN(L30*M30*25%,0) -> 0 | Q30: =ROUNDDOWN(O30*P30*25%,0) -> 0 | T30: =ROUNDDOWN(R30*S30*25%,0) -> 0 | U30: =K30+K31+N30+N31+Q30+Q31+T30+T31 -> 0 | V30: =G30+U30 -> 0 | W30: =D30+G30+U30 -> 0
H31: 生保 | I31: 880 | K31: =I31*J31 -> 0 | L31: 550 | N31: =L31*M31 -> 0 | O31: =IF(OR(Q4="介護老人福祉施設サービス",Q4="短期入所生活介護",Q4="介護予防短期入所生活介護"),380,550) -> 550 | Q31: =O31*P31 -> 0 | R31: 0 | T31: =R31*S31 -> 0
B32: 令和９年３月 | D32: =ROUNDDOWN(C32*25%,0) -> 0 | G32: =ROUNDDOWN(E32*F32*25%,0) -> 0 | H32: 生保以外 | K32: =ROUNDDOWN(I32*J32*25%,0) -> 0 | N32: =ROUNDDOWN(L32*M32*25%,0) -> 0 | Q32: =ROUNDDOWN(O32*P32*25%,0) -> 0 | T32: =ROUNDDOWN(R32*S32*25%,0) -> 0 | U32: =K32+K33+N32+N33+Q32+Q33+T32+T33 -> 0 | V32: =G32+U32 -> 0 | W32: =D32+G32+U32 -> 0
H33: 生保 | I33: 880 | K33: =I33*J33 -> 0 | L33: 550 | N33: =L33*M33 -> 0 | O33: =IF(OR(Q4="介護老人福祉施設サービス",Q4="短期入所生活介護",Q4="介護予防短期入所生活介護"),380,550) -> 550 | Q33: =O33*P33 -> 0 | R33: 0 | T33: =R33*S33 -> 0
B34: 合 計 | C34: =SUM(C10:C33) -> 0 | D34: =SUM(D10:D33) -> 0 | G34: =SUM(G10:G33) -> 0 | U34: =SUM(U10:U33) -> 0 | V34: =SUM(V10:V33) -> 0 | W34: =SUM(W10:W33) -> 0
B37: 上半期実績 報告用 | C37: サービス費 軽減額 | D37: 食費 軽減額 | E37: 居住費 軽減額 | F37: 食費居住費 軽減総額 | G37: 軽減総額
C38: =SUM(D10:D20)*2 -> 0 | D38: =SUM(G10:G20)*2 -> 0 | E38: =SUM(U10:U20)*2 -> 0 | F38: =SUM(V10:V20)*2 -> 0 | G38: =SUM(W10:W20)*2 -> 0
B40: ８年度実績 報告用 | C40: サービス費 軽減額 | D40: 食費 軽減額 | E40: 居住費 軽減額 | F40: 食費居住費 軽減総額 | G40: 軽減総額
C41: =SUM(D10:D32) -> 0 | D41: =SUM(G10:G32) -> 0 | E41: =SUM(U10:U32) -> 0 | F41: =SUM(V10:V32) -> 0 | G41: =SUM(W10:W32) -> 0

Sheet 他市7
O1: ※上半期調査時は黄色のセル・下半期調査時は オレンジのセルに入力してください。
A2: 1氏名 | B2: 保険者：
B4: 被保険者番号： | H4: 事業所番号： | I4: ='1氏名'!I4 -> 0 | O4: 軽減サービス名： | Q4: ='1氏名'!Q4 -> 0
B5: 軽減対象者氏名： | H5: 事業所名： | I5: ='1氏名'!I5 -> 0
B7: 提供年月 | C7: ①サービス費 （利用者負担額×25％） ※小数点以下切捨て ※生活保護受給者は軽減無し ※サービス種別、利用者負担段階によっては軽減無し | E7: ②食費（1日あたりの負担限度額×利用日数×25％） ※小数点以下切捨て ※生活保護受給者は軽減無し ※通所介護の場合は、１日あたりの食費×利用日数 | I7: ③居住費 上段（１日あたりの負担限度額×利用日数×25％） ※生活保護受給の場合は下段（１日あたりの負担限度額×利用日数×100％） | V7: ②＋③計 | W7: ①+②+③ 月毎の軽減総額
I8: ユニット型個室 | L8: ユニット型個室的多床室 | O8: 従来型個室 | R8: 多床室 | U8: 計
C9: 利用者負担額 | D9: 軽減額 | E9: 円/日 | F9: 日数 | G9: 軽減額 | I9: 円/日 | J9: 日数 | K9: 軽減額 | L9: 円/日 | M9: 日数 | N9: 軽減額 | O9: 円/日 | P9: 日数 | Q9: 軽減額 | R9: 円/日 | S9: 日数 | T9: 軽減額
B10: 令和８年４月 | D10: =ROUNDDOWN(C10*25%,0) -> 0 | G10: =ROUNDDOWN(E10*F10*25%,0) -> 0 | H10: 生保以外 | K10: =ROUNDDOWN(I10*J10*25%,0) -> 0 | N10: =ROUNDDOWN(L10*M10*25%,0) -> 0 | Q10: =ROUNDDOWN(O10*P10*25%,0) -> 0 | T10: =ROUNDDOWN(R10*S10*25%,0) -> 0 | U10: =K10+K11+N10+N11+Q10+Q11+T10+T11 -> 0 | V10: =G10+U10 -> 0 | W10: =D10+G10+U10 -> 0
H11: 生保 | I11: 880 | K11: =I11*J11 -> 0 | L11: 550 | N11: =L11*M11 -> 0 | O11: =IF(OR(Q4="介護老人福祉施設サービス",Q4="短期入所生活介護",Q4="介護予防短期入所生活介護"),380,550) -> 550 | Q11: =O11*P11 -> 0 | R11: 0 | T11: =R11*S11 -> 0
B12: 令和８年５月 | D12: =ROUNDDOWN(C12*25%,0) -> 0 | G12: =ROUNDDOWN(E12*F12*25%,0) -> 0 | H12: 生保以外 | K12: =ROUNDDOWN(I12*J12*25%,0) -> 0 | N12: =ROUNDDOWN(L12*M12*25%,0) -> 0 | Q12: =ROUNDDOWN(O12*P12*25%,0) -> 0 | T12: =ROUNDDOWN(R12*S12*25%,0) -> 0 | U12: =K12+K13+N12+N13+Q12+Q13+T12+T13 -> 0 | V12: =G12+U12 -> 0 | W12: =D12+G12+U12 -> 0
H13: 生保 | I13: 880 | K13: =I13*J13 -> 0 | L13: 550 | N13: =L13*M13 -> 0 | O13: =IF(OR(Q4="介護老人福祉施設サービス",Q4="短期入所生活介護",Q4="介護予防短期入所生活介護"),380,550) -> 550 | Q13: =O13*P13 -> 0 | R13: 0 | T13: =R13*S13 -> 0
B14: 令和８年６月 | D14: =ROUNDDOWN(C14*25%,0) -> 0 | G14: =ROUNDDOWN(E14*F14*25%,0) -> 0 | H14: 生保以外 | K14: =ROUNDDOWN(I14*J14*25%,0) -> 0 | N14: =ROUNDDOWN(L14*M14*25%,0) -> 0 | Q14: =ROUNDDOWN(O14*P14*25%,0) -> 0 | T14: =ROUNDDOWN(R14*S14*25%,0) -> 0 | U14: =K14+K15+N14+N15+Q14+Q15+T14+T15 -> 0 | V14: =G14+U14 -> 0 | W14: =D14+G14+U14 -> 0
H15: 生保 | I15: 880 | K15: =I15*J15 -> 0 | L15: 550 | N15: =L15*M15 -> 0 | O15: =IF(OR(Q4="介護老人福祉施設サービス",Q4="短期入所生活介護",Q4="介護予防短期入所生活介護"),380,550) -> 550 | Q15: =O15*P15 -> 0 | R15: 0 | T15: =R15*S15 -> 0
B16: 令和８年７月 | D16: =ROUNDDOWN(C16*25%,0) -> 0 | G16: =ROUNDDOWN(E16*F16*25%,0) -> 0 | H16: 生保以外 | K16: =ROUNDDOWN(I16*J16*25%,0) -> 0 | N16: =ROUNDDOWN(L16*M16*25%,0) -> 0 | Q16: =ROUNDDOWN(O16*P16*25%,0) -> 0 | T16: =ROUNDDOWN(R16*S16*25%,0) -> 0 | U16: =K16+K17+N16+N17+Q16+Q17+T16+T17 -> 0 | V16: =G16+U16 -> 0 | W16: =D16+G16+U16 -> 0
H17: 生保 | I17: 880 | K17: =I17*J17 -> 0 | L17: 550 | N17: =L17*M17 -> 0 | O17: =IF(OR(Q4="介護老人福祉施設サービス",Q4="短期入所生活介護",Q4="介護予防短期入所生活介護"),380,550) -> 550 | Q17: =O17*P17 -> 0 | R17: 0 | T17: =R17*S17 -> 0
B18: 令和８年８月 | D18: =ROUNDDOWN(C18*25%,0) -> 0 | G18: =ROUNDDOWN(E18*F18*25%,0) -> 0 | H18: 生保以外 | K18: =ROUNDDOWN(I18*J18*25%,0) -> 0 | N18: =ROUNDDOWN(L18*M18*25%,0) -> 0 | Q18: =ROUNDDOWN(O18*P18*25%,0) -> 0 | T18: =ROUNDDOWN(R18*S18*25%,0) -> 0 | U18: =K18+K19+N18+N19+Q18+Q19+T18+T19 -> 0 | V18: =G18+U18 -> 0 | W18: =D18+G18+U18 -> 0
H19: 生保 | I19: 880 | K19: =I19*J19 -> 0 | L19: 550 | N19: =L19*M19 -> 0 | O19: =IF(OR(Q4="介護老人福祉施設サービス",Q4="短期入所生活介護",Q4="介護予防短期入所生活介護"),380,550) -> 550 | Q19: =O19*P19 -> 0 | R19: 0 | T19: =R19*S19 -> 0
B20: 令和８年９月 | D20: =ROUNDDOWN(C20*25%,0) -> 0 | G20: =ROUNDDOWN(E20*F20*25%,0) -> 0 | H20: 生保以外 | K20: =ROUNDDOWN(I20*J20*25%,0) -> 0 | N20: =ROUNDDOWN(L20*M20*25%,0) -> 0 | Q20: =ROUNDDOWN(O20*P20*25%,0) -> 0 | T20: =ROUNDDOWN(R20*S20*25%,0) -> 0 | U20: =K20+K21+N20+N21+Q20+Q21+T20+T21 -> 0 | V20: =G20+U20 -> 0 | W20: =D20+G20+U20 -> 0
H21: 生保 | I21: 880 | K21: =I21*J21 -> 0 | L21: 550 | N21: =L21*M21 -> 0 | O21: =IF(OR(Q4="介護老人福祉施設サービス",Q4="短期入所生活介護",Q4="介護予防短期入所生活介護"),380,550) -> 550 | Q21: =O21*P21 -> 0 | R21: 0 | T21: =R21*S21 -> 0
B22: 令和８年１０月 | D22: =ROUNDDOWN(C22*25%,0) -> 0 | G22: =ROUNDDOWN(E22*F22*25%,0) -> 0 | H22: 生保以外 | K22: =ROUNDDOWN(I22*J22*25%,0) -> 0 | N22: =ROUNDDOWN(L22*M22*25%,0) -> 0 | Q22: =ROUNDDOWN(O22*P22*25%,0) -> 0 | T22: =ROUNDDOWN(R22*S22*25%,0) -> 0 | U22: =K22+K23+N22+N23+Q22+Q23+T22+T23 -> 0 | V22: =G22+U22 -> 0 | W22: =D22+G22+U22 -> 0
H23: 生保 | I23: 880 | K23: =I23*J23 -> 0 | L23: 550 | N23: =L23*M23 -> 0 | O23: =IF(OR(Q4="介護老人福祉施設サービス",Q4="短期入所生活介護",Q4="介護予防短期入所生活介護"),380,550) -> 550 | Q23: =O23*P23 -> 0 | R23: 0 | T23: =R23*S23 -> 0
B24: 令和８年１１月 | D24: =ROUNDDOWN(C24*25%,0) -> 0 | G24: =ROUNDDOWN(E24*F24*25%,0) -> 0 | H24: 生保以外 | K24: =ROUNDDOWN(I24*J24*25%,0) -> 0 | N24: =ROUNDDOWN(L24*M24*25%,0) -> 0 | Q24: =ROUNDDOWN(O24*P24*25%,0) -> 0 | T24: =ROUNDDOWN(R24*S24*25%,0) -> 0 | U24: =K24+K25+N24+N25+Q24+Q25+T24+T25 -> 0 | V24: =G24+U24 -> 0 | W24: =D24+G24+U24 -> 0
H25: 生保 | I25: 880 | K25: =I25*J25 -> 0 | L25: 550 | N25: =L25*M25 -> 0 | O25: =IF(OR(Q4="介護老人福祉施設サービス",Q4="短期入所生活介護",Q4="介護予防短期入所生活介護"),380,550) -> 550 | Q25: =O25*P25 -> 0 | R25: 0 | T25: =R25*S25 -> 0
B26: 令和８年１２月 | D26: =ROUNDDOWN(C26*25%,0) -> 0 | G26: =ROUNDDOWN(E26*F26*25%,0) -> 0 | H26: 生保以外 | K26: =ROUNDDOWN(I26*J26*25%,0) -> 0 | N26: =ROUNDDOWN(L26*M26*25%,0) -> 0 | Q26: =ROUNDDOWN(O26*P26*25%,0) -> 0 | T26: =ROUNDDOWN(R26*S26*25%,0) -> 0 | U26: =K26+K27+N26+N27+Q26+Q27+T26+T27 -> 0 | V26: =G26+U26 -> 0 | W26: =D26+G26+U26 -> 0
H27: 生保 | I27: 880 | K27: =I27*J27 -> 0 | L27: 550 | N27: =L27*M27 -> 0 | O27: =IF(OR(Q4="介護老人福祉施設サービス",Q4="短期入所生活介護",Q4="介護予防短期入所生活介護"),380,550) -> 550 | Q27: =O27*P27 -> 0 | R27: 0 | T27: =R27*S27 -> 0
B28: 令和９年１月 | D28: =ROUNDDOWN(C28*25%,0) -> 0 | G28: =ROUNDDOWN(E28*F28*25%,0) -> 0 | H28: 生保以外 | K28: =ROUNDDOWN(I28*J28*25%,0) -> 0 | N28: =ROUNDDOWN(L28*M28*25%,0) -> 0 | Q28: =ROUNDDOWN(O28*P28*25%,0) -> 0 | T28: =ROUNDDOWN(R28*S28*25%,0) -> 0 | U28: =K28+K29+N28+N29+Q28+Q29+T28+T29 -> 0 | V28: =G28+U28 -> 0 | W28: =D28+G28+U28 -> 0
H29: 生保 | I29: 880 | K29: =I29*J29 -> 0 | L29: 550 | N29: =L29*M29 -> 0 | O29: =IF(OR(Q4="介護老人福祉施設サービス",Q4="短期入所生活介護",Q4="介護予防短期入所生活介護"),380,550) -> 550 | Q29: =O29*P29 -> 0 | R29: 0 | T29: =R29*S29 -> 0
